Back to Multiple platform build/check report for BioC 3.19:   simplified   long
ABCDEFGHIJKL[M]NOPQRSTUVWXYZ

This page was generated on 2024-06-18 17:57 -0400 (Tue, 18 Jun 2024).

HostnameOSArch (*)R versionInstalled pkgs
nebbiolo1Linux (Ubuntu 22.04.3 LTS)x86_644.4.0 (2024-04-24) -- "Puppy Cup" 4758
palomino3Windows Server 2022 Datacenterx644.4.0 (2024-04-24 ucrt) -- "Puppy Cup" 4492
merida1macOS 12.7.4 Montereyx86_644.4.0 (2024-04-24) -- "Puppy Cup" 4464
kjohnson1macOS 13.6.6 Venturaarm644.4.0 (2024-04-24) -- "Puppy Cup" 4464
Click on any hostname to see more info about the system (e.g. compilers)      (*) as reported by 'uname -p', except on Windows and Mac OS X

Package 1159/2300HostnameOS / ArchINSTALLBUILDCHECKBUILD BIN
mariner 1.4.0  (landing page)
Eric Davis
Snapshot Date: 2024-06-16 14:00 -0400 (Sun, 16 Jun 2024)
git_url: https://git.bioconductor.org/packages/mariner
git_branch: RELEASE_3_19
git_last_commit: 5d8df96
git_last_commit_date: 2024-04-30 11:49:21 -0400 (Tue, 30 Apr 2024)
nebbiolo1Linux (Ubuntu 22.04.3 LTS) / x86_64  OK    OK    OK  UNNEEDED, same version is already published
palomino3Windows Server 2022 Datacenter / x64  OK    OK    OK    OK  UNNEEDED, same version is already published
merida1macOS 12.7.4 Monterey / x86_64  OK    OK    OK    OK  UNNEEDED, same version is already published
kjohnson1macOS 13.6.6 Ventura / arm64  OK    OK    OK    OK  UNNEEDED, same version is already published


CHECK results for mariner on nebbiolo1

To the developers/maintainers of the mariner package:
- Allow up to 24 hours (and sometimes 48 hours) for your latest push to git@git.bioconductor.org:packages/mariner.git to reflect on this report. See Troubleshooting Build Report for more information.
- Use the following Renviron settings to reproduce errors and warnings.
- If 'R CMD check' started to fail recently on the Linux builder(s) over a missing dependency, add the missing dependency to 'Suggests:' in your DESCRIPTION file. See Renviron.bioc for more information.

raw results


Summary

Package: mariner
Version: 1.4.0
Command: /home/biocbuild/bbs-3.19-bioc/R/bin/R CMD check --install=check:mariner.install-out.txt --library=/home/biocbuild/bbs-3.19-bioc/R/site-library --timings mariner_1.4.0.tar.gz
StartedAt: 2024-06-17 00:41:49 -0400 (Mon, 17 Jun 2024)
EndedAt: 2024-06-17 00:54:46 -0400 (Mon, 17 Jun 2024)
EllapsedTime: 776.7 seconds
RetCode: 0
Status:   OK  
CheckDir: mariner.Rcheck
Warnings: 0

Command output

##############################################################################
##############################################################################
###
### Running command:
###
###   /home/biocbuild/bbs-3.19-bioc/R/bin/R CMD check --install=check:mariner.install-out.txt --library=/home/biocbuild/bbs-3.19-bioc/R/site-library --timings mariner_1.4.0.tar.gz
###
##############################################################################
##############################################################################


* using log directory ‘/home/biocbuild/bbs-3.19-bioc/meat/mariner.Rcheck’
* using R version 4.4.0 (2024-04-24)
* using platform: x86_64-pc-linux-gnu
* R was compiled by
    gcc (Ubuntu 11.4.0-1ubuntu1~22.04) 11.4.0
    GNU Fortran (Ubuntu 11.4.0-1ubuntu1~22.04) 11.4.0
* running under: Ubuntu 22.04.4 LTS
* using session charset: UTF-8
* checking for file ‘mariner/DESCRIPTION’ ... OK
* checking extension type ... Package
* this is package ‘mariner’ version ‘1.4.0’
* package encoding: UTF-8
* checking package namespace information ... OK
* checking package dependencies ... OK
* checking if this is a source package ... OK
* checking if there is a namespace ... OK
* checking for hidden files and directories ... OK
* checking for portable file names ... OK
* checking for sufficient/correct file permissions ... OK
* checking whether package ‘mariner’ can be installed ... OK
* checking installed package size ... OK
* checking package directory ... OK
* checking ‘build’ directory ... OK
* checking DESCRIPTION meta-information ... OK
* checking top-level files ... OK
* checking for left-over files ... OK
* checking index information ... OK
* checking package subdirectories ... OK
* checking code files for non-ASCII characters ... OK
* checking R files for syntax errors ... OK
* checking whether the package can be loaded ... OK
* checking whether the package can be loaded with stated dependencies ... OK
* checking whether the package can be unloaded cleanly ... OK
* checking whether the namespace can be loaded with stated dependencies ... OK
* checking whether the namespace can be unloaded cleanly ... OK
* checking loading without being on the library search path ... OK
* checking dependencies in R code ... NOTE
Unexported objects imported by ':::' calls:
  ‘plotgardener:::check_page’ ‘plotgardener:::convert_page’
  ‘plotgardener:::current_viewports’ ‘plotgardener:::defaultUnits’
  ‘plotgardener:::pgEnv’
  See the note in ?`:::` about the use of this operator.
* checking S3 generic/method consistency ... OK
* checking replacement functions ... OK
* checking foreign function calls ... OK
* checking R code for possible problems ... OK
* checking Rd files ... NOTE
checkRd: (-1) mariner-package.Rd:18: Lost braces in \itemize; meant \describe ?
checkRd: (-1) mariner-package.Rd:20-21: Lost braces in \itemize; meant \describe ?
checkRd: (-1) mariner-package.Rd:23-24: Lost braces in \itemize; meant \describe ?
checkRd: (-1) mariner-package.Rd:26-28: Lost braces in \itemize; meant \describe ?
* checking Rd metadata ... OK
* checking Rd cross-references ... OK
* checking for missing documentation entries ... OK
* checking for code/documentation mismatches ... OK
* checking Rd \usage sections ... NOTE
Documented arguments not in \usage in Rd file 'MatrixSelection.Rd':
  ‘object’

Functions with \usage entries need to have the appropriate \alias
entries, and all their arguments documented.
The \usage entries must correspond to syntactically valid R code.
See chapter ‘Writing R documentation files’ in the ‘Writing R
Extensions’ manual.
* checking Rd contents ... OK
* checking for unstated dependencies in examples ... OK
* checking files in ‘vignettes’ ... OK
* checking examples ... OK
Examples with CPU (user + system) or elapsed time > 5s
                    user system elapsed
adjustEnrichment   9.919  1.435  12.173
CountMatrix-class  7.641  0.928  10.810
aggHicMatrices     5.575  1.259   7.730
calcLoopEnrichment 4.834  1.048   6.913
changePixelRes     4.644  0.818   6.700
pullHicMatrices    4.641  0.560   6.620
selectPixel        4.483  0.496   6.425
pullHicPixels      4.042  0.432   5.905
aggPairMcols       3.972  0.464   5.302
* checking for unstated dependencies in ‘tests’ ... OK
* checking tests ...
  Running ‘testthat.R’
 OK
* checking for unstated dependencies in vignettes ... OK
* checking package vignettes ... OK
* checking re-building of vignette outputs ... OK
* checking PDF version of manual ... OK
* DONE

Status: 3 NOTEs
See
  ‘/home/biocbuild/bbs-3.19-bioc/meat/mariner.Rcheck/00check.log’
for details.


Installation output

mariner.Rcheck/00install.out

##############################################################################
##############################################################################
###
### Running command:
###
###   /home/biocbuild/bbs-3.19-bioc/R/bin/R CMD INSTALL mariner
###
##############################################################################
##############################################################################


* installing to library ‘/home/biocbuild/bbs-3.19-bioc/R/site-library’
* installing *source* package ‘mariner’ ...
** using staged installation
** R
** inst
** byte-compile and prepare package for lazy loading
** help
*** installing help indices
*** copying figures
** building package indices
** installing vignettes
** testing if installed package can be loaded from temporary location
** testing if installed package can be loaded from final location
** testing if installed package keeps a record of temporary installation path
* DONE (mariner)

Tests output

mariner.Rcheck/tests/testthat.Rout


R version 4.4.0 (2024-04-24) -- "Puppy Cup"
Copyright (C) 2024 The R Foundation for Statistical Computing
Platform: x86_64-pc-linux-gnu

R is free software and comes with ABSOLUTELY NO WARRANTY.
You are welcome to redistribute it under certain conditions.
Type 'license()' or 'licence()' for distribution details.

R is a collaborative project with many contributors.
Type 'contributors()' for more information and
'citation()' on how to cite R or R packages in publications.

Type 'demo()' for some demos, 'help()' for on-line help, or
'help.start()' for an HTML browser interface to help.
Type 'q()' to quit R.

> library(testthat)
> library(mariner)
> 
> test_check("mariner")
see ?marinerData and browseVignettes('marinerData') for documentation
loading from cache
see ?marinerData and browseVignettes('marinerData') for documentation
loading from cache
see ?marinerData and browseVignettes('marinerData') for documentation
loading from cache
see ?marinerData and browseVignettes('marinerData') for documentation
loading from cache
see ?marinerData and browseVignettes('marinerData') for documentation
loading from cache
class: InteractionMatrix 
dim: count matrix with 3 interactions and 2 file(s)
metadata(3): binSize norm matrix
assays(1): counts
rownames: NULL
rowData names(0):
colnames(2): FS WT
colData names(2): files fileNames
type: GInteractions
regions: 4
class: InteractionMatrix 
dim: count matrix with 3 interactions and 2 file(s)
metadata(3): binSize norm matrix
assays(1): counts
rownames: NULL
rowData names(0):
colnames(2): FS WT
colData names(2): files fileNames
type: GInteractions
regions: 4
class: InteractionMatrix 
dim: count matrix with 3 interactions and 2 file(s)
metadata(3): binSize norm matrix
assays(1): counts
rownames: NULL
rowData names(0):
colnames(2): FS WT
colData names(2): files fileNames
type: GInteractions
regions: 4
Loading required package: stats4
Loading required package: BiocGenerics

Attaching package: 'BiocGenerics'

The following objects are masked from 'package:stats':

    IQR, mad, sd, var, xtabs

The following objects are masked from 'package:base':

    Filter, Find, Map, Position, Reduce, anyDuplicated, aperm, append,
    as.data.frame, basename, cbind, colnames, dirname, do.call,
    duplicated, eval, evalq, get, grep, grepl, intersect, is.unsorted,
    lapply, mapply, match, mget, order, paste, pmax, pmax.int, pmin,
    pmin.int, rank, rbind, rownames, sapply, setdiff, table, tapply,
    union, unique, unsplit, which.max, which.min

Loading required package: S4Vectors

Attaching package: 'S4Vectors'

The following object is masked from 'package:utils':

    findMatches

The following objects are masked from 'package:base':

    I, expand.grid, unname

Loading required package: IRanges
Loading required package: GenomeInfoDb
Loading required package: SummarizedExperiment
Loading required package: MatrixGenerics
Loading required package: matrixStats

Attaching package: 'MatrixGenerics'

The following objects are masked from 'package:matrixStats':

    colAlls, colAnyNAs, colAnys, colAvgsPerRowSet, colCollapse,
    colCounts, colCummaxs, colCummins, colCumprods, colCumsums,
    colDiffs, colIQRDiffs, colIQRs, colLogSumExps, colMadDiffs,
    colMads, colMaxs, colMeans2, colMedians, colMins, colOrderStats,
    colProds, colQuantiles, colRanges, colRanks, colSdDiffs, colSds,
    colSums2, colTabulates, colVarDiffs, colVars, colWeightedMads,
    colWeightedMeans, colWeightedMedians, colWeightedSds,
    colWeightedVars, rowAlls, rowAnyNAs, rowAnys, rowAvgsPerColSet,
    rowCollapse, rowCounts, rowCummaxs, rowCummins, rowCumprods,
    rowCumsums, rowDiffs, rowIQRDiffs, rowIQRs, rowLogSumExps,
    rowMadDiffs, rowMads, rowMaxs, rowMeans2, rowMedians, rowMins,
    rowOrderStats, rowProds, rowQuantiles, rowRanges, rowRanks,
    rowSdDiffs, rowSds, rowSums2, rowTabulates, rowVarDiffs, rowVars,
    rowWeightedMads, rowWeightedMeans, rowWeightedMedians,
    rowWeightedSds, rowWeightedVars

Loading required package: Biobase
Welcome to Bioconductor

    Vignettes contain introductory material; view with
    'browseVignettes()'. To cite Bioconductor, see
    'citation("Biobase")', and for packages 'citation("pkgname")'.


Attaching package: 'Biobase'

The following object is masked from 'package:MatrixGenerics':

    rowMedians

The following objects are masked from 'package:matrixStats':

    anyMissing, rowMedians


Attaching package: 'data.table'

The following object is masked from 'package:SummarizedExperiment':

    shift

The following object is masked from 'package:GenomicRanges':

    shift

The following object is masked from 'package:IRanges':

    shift

The following objects are masked from 'package:S4Vectors':

    first, second

see ?marinerData and browseVignettes('marinerData') for documentation
loading from cache
see ?marinerData and browseVignettes('marinerData') for documentation
loading from cache
see ?marinerData and browseVignettes('marinerData') for documentation
loading from cache
see ?marinerData and browseVignettes('marinerData') for documentation
loading from cache
see ?marinerData and browseVignettes('marinerData') for documentation
loading from cache
see ?marinerData and browseVignettes('marinerData') for documentation
loading from cache
see ?marinerData and browseVignettes('marinerData') for documentation
loading from cache
see ?marinerData and browseVignettes('marinerData') for documentation
loading from cache
see ?marinerData and browseVignettes('marinerData') for documentation
loading from cache
see ?marinerData and browseVignettes('marinerData') for documentation
loading from cache
see ?marinerData and browseVignettes('marinerData') for documentation
loading from cache
see ?marinerData and browseVignettes('marinerData') for documentation
loading from cache
see ?marinerData and browseVignettes('marinerData') for documentation
loading from cache
'0' = foreground;
'X' = background;
'*' = both;
'-' = unselected
                                 
 X  X  X  X  -  -  -  -  -  -  - 
 X  X  X  X  -  -  -  -  -  -  - 
 X  X  X  X  -  -  -  -  -  -  - 
 X  X  X  X  -  -  -  -  -  -  - 
 -  -  -  -  -  0  -  -  -  -  - 
 -  -  -  -  0  0  0  -  -  -  - 
 -  -  -  -  -  0  -  -  -  -  - 
 -  -  -  -  -  -  -  X  X  X  X 
 -  -  -  -  -  -  -  X  X  X  X 
 -  -  -  -  -  -  -  X  X  X  X 
 -  -  -  -  -  -  -  X  X  X  X 
/ reading and realizing block 5/5 ... ok
\ processing it ... ok

/ reading and realizing block 1/5 ... ok
\ processing it ... ok
/ reading and realizing block 2/5 ... ok
\ processing it ... ok

/ reading and realizing block 3/5 ... ok
\ processing it ... ok
/ reading and realizing block 4/5 ... ok
\ processing it ... ok

see ?marinerData and browseVignettes('marinerData') for documentation
loading from cache
see ?marinerData and browseVignettes('marinerData') for documentation
loading from cache
see ?marinerData and browseVignettes('marinerData') for documentation
loading from cache
see ?marinerData and browseVignettes('marinerData') for documentation
loading from cache
see ?marinerData and browseVignettes('marinerData') for documentation
loading from cache
see ?marinerData and browseVignettes('marinerData') for documentation
loading from cache
see ?marinerData and browseVignettes('marinerData') for documentation
loading from cache
see ?marinerData and browseVignettes('marinerData') for documentation
loading from cache
see ?marinerData and browseVignettes('marinerData') for documentation
loading from cache
'0' = selected; '- ' = unselected
         
 0  0  0 
 -  -  - 
 0  0  0 
'0' = selected; '- ' = unselected
         
 -  -  - 
 0  0  0 
 -  -  - 
'0' = selected; '- ' = unselected
                           
 -  -  -  -  -  -  -  -  - 
 -  -  -  -  -  -  -  -  - 
 -  0  -  0  -  0  0  0  - 
 -  0  -  0  -  -  0  -  - 
 -  0  0  0  -  -  0  -  - 
 -  0  -  0  -  -  0  -  - 
 -  0  -  0  -  0  0  0  - 
 -  -  -  -  -  -  -  -  - 
 -  -  -  -  -  -  -  -  - 
'0' = selected; '- ' = unselected
                           
 0  0  0  0  0  0  0  0  0 
 0  0  0  0  0  0  0  0  0 
 0  -  0  -  0  -  -  -  0 
 0  -  0  -  0  0  -  0  0 
 0  -  -  -  0  0  -  0  0 
 0  -  0  -  0  0  -  0  0 
 0  -  0  -  0  -  -  -  0 
 0  0  0  0  0  0  0  0  0 
 0  0  0  0  0  0  0  0  0 
'0' = foreground;
'X' = background;
'*' = both;
'-' = unselected
                     
 X  X  X  X  X  X  X 
 X  X  X  X  X  X  X 
 X  X  X  0  X  X  X 
 X  X  0  0  0  X  X 
 X  X  X  0  X  X  X 
 X  X  X  X  X  X  X 
 X  X  X  X  X  X  X 
'0' = foreground;
'X' = background;
'*' = both;
'-' = unselected
                                 
 X  X  X  X  -  -  -  -  -  -  - 
 X  X  X  X  -  -  -  -  -  -  - 
 X  X  X  X  -  -  -  -  -  -  - 
 X  X  X  X  -  -  -  -  -  -  - 
 -  -  -  -  -  0  -  -  -  -  - 
 -  -  -  -  0  0  0  -  -  -  - 
 -  -  -  -  -  0  -  -  -  -  - 
 -  -  -  -  -  -  -  X  X  X  X 
 -  -  -  -  -  -  -  X  X  X  X 
 -  -  -  -  -  -  -  X  X  X  X 
 -  -  -  -  -  -  -  X  X  X  X 
/ reading and realizing block 1/5 ... ok
\ processing it ... ok
/ reading and realizing block 2/5 ... ok
\ processing it ... ok

/ reading and realizing block 3/5 ... ok
\ processing it ... ok
/ reading and realizing block 4/5 ... ok
\ processing it ... ok

/ reading and realizing block 5/5 ... ok
\ processing it ... ok

see ?marinerData and browseVignettes('marinerData') for documentation
loading from cache
see ?marinerData and browseVignettes('marinerData') for documentation
loading from cache
see ?marinerData and browseVignettes('marinerData') for documentation
loading from cache
/ Reading and realizing block 1/5 ... OK
\ Processing it ... OK
/ Reading and realizing block 2/5 ... OK
\ Processing it ... OK
/ Reading and realizing block 3/5 ... OK
\ Processing it ... OK
/ Reading and realizing block 4/5 ... OK
\ Processing it ... OK
/ Reading and realizing block 5/5 ... OK
\ Processing it ... OK
/ Reading and realizing block 1/5 ... OK
\ Processing it ... OK
/ Reading and realizing block 2/5 ... OK
\ Processing it ... OK
/ Reading and realizing block 3/5 ... OK
\ Processing it ... OK
/ Reading and realizing block 4/5 ... OK
\ Processing it ... OK
/ Reading and realizing block 5/5 ... OK
\ Processing it ... OK
Loading required package: Matrix

Attaching package: 'Matrix'

The following object is masked from 'package:S4Vectors':

    expand

Loading required package: S4Arrays
Loading required package: abind

Attaching package: 'S4Arrays'

The following object is masked from 'package:abind':

    abind

The following object is masked from 'package:base':

    rowsum

Loading required package: SparseArray

Attaching package: 'DelayedArray'

The following objects are masked from 'package:base':

    apply, scale, sweep

/ Reading and realizing block 1/10 ... OK
\ Processing it ... OK
/ Reading and realizing block 2/10 ... OK
\ Processing it ... OK
/ Reading and realizing block 3/10 ... OK
\ Processing it ... OK
/ Reading and realizing block 4/10 ... OK
\ Processing it ... OK
/ Reading and realizing block 5/10 ... OK
\ Processing it ... OK
/ Reading and realizing block 6/10 ... OK
\ Processing it ... OK
/ Reading and realizing block 7/10 ... OK
\ Processing it ... OK
/ Reading and realizing block 8/10 ... OK
\ Processing it ... OK
/ Reading and realizing block 9/10 ... OK
\ Processing it ... OK
/ Reading and realizing block 10/10 ... OK
\ Processing it ... OK
see ?marinerData and browseVignettes('marinerData') for documentation
loading from cache
see ?marinerData and browseVignettes('marinerData') for documentation
loading from cache

Attaching package: 'plotgardener'

The following object is masked from 'package:base':

    c

MatrixPlot[MatrixPlot1]
MatrixPlot[MatrixPlot1]
MatrixPlot[MatrixPlot1]
MatrixPlot[MatrixPlot1]
MatrixPlot[MatrixPlot1]
see ?marinerData and browseVignettes('marinerData') for documentation
loading from cache
see ?marinerData and browseVignettes('marinerData') for documentation
loading from cache
see ?marinerData and browseVignettes('marinerData') for documentation
loading from cache
see ?marinerData and browseVignettes('marinerData') for documentation
loading from cache
see ?marinerData and browseVignettes('marinerData') for documentation
loading from cache
see ?marinerData and browseVignettes('marinerData') for documentation
loading from cache

Attaching package: 'rlang'

The following object is masked from 'package:data.table':

    :=

The following object is masked from 'package:Biobase':

    exprs

The following objects are masked from 'package:testthat':

    is_false, is_null, is_true


Attaching package: 'assertthat'

The following object is masked from 'package:rlang':

    has_name

see ?marinerData and browseVignettes('marinerData') for documentation
loading from cache
[ FAIL 0 | WARN 0 | SKIP 4 | PASS 899 ]

══ Skipped tests (4) ═══════════════════════════════════════════════════════════
• On CRAN (4): 'test_InteractionArray.R:39:5', 'test_InteractionArray.R:97:5',
  'test_InteractionMatrix.R:74:5', 'test_MergedGInteractions.R:61:5'

[ FAIL 0 | WARN 0 | SKIP 4 | PASS 899 ]
> 
> proc.time()
   user  system elapsed 
214.459  23.408 355.399 

Example timings

mariner.Rcheck/mariner-Ex.timings

nameusersystemelapsed
CountMatrix-class 7.641 0.92810.810
GInteractions-accessors0.3300.0080.338
InteractionArray-class0.0810.0000.081
InteractionMatrix-class0.0540.0030.058
MatrixSelection-class0.0130.0000.012
MergedGInteractions-class2.4290.3443.737
adjustEnrichment 9.919 1.43512.173
aggHicMatrices5.5751.2597.730
aggPairMcols3.9720.4645.302
as_ginteractions0.6420.0040.646
binPairs0.7630.0040.767
binRanges0.4620.0240.486
calcLoopEnrichment4.8341.0486.913
changePixelRes4.6440.8186.700
counts3.2680.4684.672
getPairClusters2.9710.3164.261
hdf5BlockApply0.3830.0240.407
mergePairs2.8470.4524.322
path2.8120.3234.118
pixelsToMatrices0.5180.0750.594
plotMatrix0.1740.0170.191
pullHicMatrices4.6410.5606.620
pullHicPixels4.0420.4325.905
removeShortPairs0.1000.0190.118
selectPixel4.4830.4966.425
selection-functions0.0880.0160.104
selectionMethod2.5980.1643.699
shiftRanges0.3290.0040.333
snapToBins1.2170.0281.245
sources2.8260.2564.056
subsetBySource0.3480.0280.369