Back to Multiple platform build/check report for BioC 3.12
ABCD[E]FGHIJKLMNOPQRSTUVWXYZ

Multiple platform build/check report for BioC 3.12

All results for package easyRNASeq

This page was generated on 2021-04-14 12:07:54 -0400 (Wed, 14 Apr 2021).

Package 522/1974HostnameOS / ArchINSTALLBUILDCHECKBUILD BIN
easyRNASeq 2.26.0  (landing page)
Nicolas Delhomme
Snapshot Date: 2021-04-13 14:50:13 -0400 (Tue, 13 Apr 2021)
URL: https://git.bioconductor.org/packages/easyRNASeq
Branch: RELEASE_3_12
Last Commit: e3ce60a
Last Changed Date: 2020-10-27 10:44:21 -0400 (Tue, 27 Oct 2020)
malbec1Linux (Ubuntu 18.04.5 LTS) / x86_64  OK    ERROR  skipped
tokay1Windows Server 2012 R2 Standard / x64  OK    ERROR  skippedskipped
merida1macOS 10.14.6 Mojave / x86_64  OK    OK    OK    OK  UNNEEDED, same version exists in internal repository

Results for Bioconductor software packages that depend directly on package easyRNASeq

QUICK STATSOS / ArchINSTALLBUILDCHECKBUILD BIN
malbec1Linux (Ubuntu 18.04.5 LTS) / x86_64
001
001
0010
tokay1Windows Server 2012 R2 Standard / x64
001
001
0010
001
merida1macOS 10.14.6 Mojave / x86_64
001
001
0010
001
Package 1/1HostnameOS / ArchINSTALLBUILDCHECKBUILD BIN
msgbsR 1.14.0  (landing page)
Benjamin Mayne
Last Commit: 9b64d08
Last Changed Date: 2020-10-27 11:24:25 -0400
malbec1Linux (Ubuntu 18.04.5 LTS) / x86_64  OK    OK    WARNINGS  UNNEEDED, same version exists in internal repository
tokay1Windows Server 2012 R2 Standard / x64  OK    OK    WARNINGS    OK  UNNEEDED, same version exists in internal repository
merida1macOS 10.14.6 Mojave / x86_64  OK    OK    WARNINGS    OK  UNNEEDED, same version exists in internal repository