Back to Multiple platform build/check report for BioC 3.19:   simplified   long

This page was generated on 2024-07-12 17:37 -0400 (Fri, 12 Jul 2024).

More about kjohnson1


Hostname: kjohnson1
OS: macOS 13.6.6 Ventura
Arch: arm64
Platform: arm64-apple-darwin22.6.0
R version: 4.4.1 (2024-06-14) -- "Race for Your Life"
R environment variables: Renviron.bioc

C compiler

R variable (VAR)Value ('R CMD config <VAR>' output)
CCclang -arch arm64
CFLAGS-falign-functions=64 -Wall -g -O2
CPICFLAGS-fPIC
Please refer to 'R CMD config -h' for the meaning of these variables

Compiler version ('clang -arch arm64 --version' output):

Apple clang version 15.0.0 (clang-1500.0.40.1)
Target: arm64-apple-darwin22.6.0
Thread model: posix
InstalledDir: /Library/Developer/CommandLineTools/usr/bin

C++ compiler

R variable (VAR)Value ('R CMD config <VAR>' output)
CXXclang++ -arch arm64 -std=gnu++17
CXXFLAGS-falign-functions=64 -Wall -g -O2
CXXPICFLAGS-fPIC
Please refer to 'R CMD config -h' for the meaning of these variables

Compiler version ('clang++ -arch arm64 -std=gnu++17 --version' output):

Apple clang version 15.0.0 (clang-1500.0.40.1)
Target: arm64-apple-darwin22.6.0
Thread model: posix
InstalledDir: /Library/Developer/CommandLineTools/usr/bin

C++11 compiler

R variable (VAR)Value ('R CMD config <VAR>' output)
CXX11clang++ -arch arm64
CXX11FLAGS-falign-functions=64 -Wall -g -O2
CXX11PICFLAGS-fPIC
CXX11STD-std=gnu++11
Please refer to 'R CMD config -h' for the meaning of these variables

Compiler version ('clang++ -arch arm64 --version' output):

Apple clang version 15.0.0 (clang-1500.0.40.1)
Target: arm64-apple-darwin22.6.0
Thread model: posix
InstalledDir: /Library/Developer/CommandLineTools/usr/bin

C++14 compiler

R variable (VAR)Value ('R CMD config <VAR>' output)
CXX14clang++ -arch arm64
CXX14FLAGS-falign-functions=64 -Wall -g -O2
CXX14PICFLAGS-fPIC
CXX14STD-std=gnu++14
Please refer to 'R CMD config -h' for the meaning of these variables

Compiler version ('clang++ -arch arm64 --version' output):

Apple clang version 15.0.0 (clang-1500.0.40.1)
Target: arm64-apple-darwin22.6.0
Thread model: posix
InstalledDir: /Library/Developer/CommandLineTools/usr/bin

C++17 compiler

R variable (VAR)Value ('R CMD config <VAR>' output)
CXX17clang++ -arch arm64
CXX17FLAGS-falign-functions=64 -Wall -g -O2
CXX17PICFLAGS-fPIC
CXX17STD-std=gnu++17
Please refer to 'R CMD config -h' for the meaning of these variables

Compiler version ('clang++ -arch arm64 --version' output):

Apple clang version 15.0.0 (clang-1500.0.40.1)
Target: arm64-apple-darwin22.6.0
Thread model: posix
InstalledDir: /Library/Developer/CommandLineTools/usr/bin

Java

java version ('java --version' output):

openjdk 21 2023-09-19
OpenJDK Runtime Environment (build 21+35-2513)
OpenJDK 64-Bit Server VM (build 21+35-2513, mixed mode, sharing)

Pandoc

pandoc version ('pandoc --version' output):

pandoc 3.1.2
Features: +server +lua
Scripting engine: Lua 5.4
User data directory: /Users/biocbuild/.local/share/pandoc
Copyright (C) 2006-2023 John MacFarlane. Web:  https://pandoc.org
This is free software; see the source for copying conditions. There is no
warranty, not even for merchantability or fitness for a particular purpose.

More information might be added in the future...