Back to Multiple platform build/check report for BioC 3.12
ABCDEFGHIJKLMNOPQRSTU[V]WXYZ

Multiple platform build/check report for BioC 3.12

Results for package VariantFiltering

This page was generated on 2021-02-22 12:28:08 -0500 (Mon, 22 Feb 2021).

Package 1932/1974HostnameOS / ArchINSTALLBUILDCHECKBUILD BIN
VariantFiltering 1.26.0
Robert Castelo
Snapshot Date: 2021-02-21 14:52:07 -0500 (Sun, 21 Feb 2021)
URL: https://git.bioconductor.org/packages/VariantFiltering
Branch: RELEASE_3_12
Last Commit: 3acde0e
Last Changed Date: 2020-10-27 10:56:11 -0500 (Tue, 27 Oct 2020)
malbec1Linux (Ubuntu 18.04.5 LTS) / x86_64  OK    OK    OK  UNNEEDED, same version exists in internal repository
nebbiolo1Linux (Ubuntu 20.04.2 LTS) / x86_64  OK    OK    OK  
tokay1Windows Server 2012 R2 Standard / x64  OK    OK    WARNINGS    OK  UNNEEDED, same version exists in internal repository
merida1macOS 10.14.6 Mojave / x86_64  OK    OK    OK    OK  UNNEEDED, same version exists in internal repository