Back to Multiple platform build/check report for BioC 3.17:   simplified   long
AB[C]DEFGHIJKLMNOPQRSTUVWXYZ

This page was generated on 2023-09-21 11:34:22 -0400 (Thu, 21 Sep 2023).

HostnameOSArch (*)R versionInstalled pkgs
nebbiolo1Linux (Ubuntu 22.04.2 LTS)x86_644.3.1 (2023-06-16) -- "Beagle Scouts" 4625
palomino3Windows Server 2022 Datacenterx644.3.1 (2023-06-16 ucrt) -- "Beagle Scouts" 4378
merida1macOS 12.6.4 Montereyx86_644.3.1 (2023-06-16) -- "Beagle Scouts" 4394
Click on any hostname to see more info about the system (e.g. compilers)      (*) as reported by 'uname -p', except on Windows and Mac OS X

Package 405/2230HostnameOS / ArchINSTALLBUILDCHECKBUILD BIN
coMethDMR 1.4.0  (landing page)
Fernanda Veitzman
Snapshot Date: 2023-09-20 14:00:09 -0400 (Wed, 20 Sep 2023)
git_url: https://git.bioconductor.org/packages/coMethDMR
git_branch: RELEASE_3_17
git_last_commit: 40e80ff
git_last_commit_date: 2023-04-25 11:35:11 -0400 (Tue, 25 Apr 2023)
nebbiolo1Linux (Ubuntu 22.04.2 LTS) / x86_64  OK    OK    OK  UNNEEDED, same version is already published
palomino3Windows Server 2022 Datacenter / x64  OK    OK    OK    OK  UNNEEDED, same version is already published
merida1macOS 12.6.4 Monterey / x86_64  OK    OK    OK    OK  UNNEEDED, same version is already published

CHECK results for coMethDMR on nebbiolo1


To the developers/maintainers of the coMethDMR package:
- Allow up to 24 hours (and sometimes 48 hours) for your latest push to git@git.bioconductor.org:packages/coMethDMR.git to reflect on this report. See Troubleshooting Build Report for more information.
- Use the following Renviron settings to reproduce errors and warnings.
- If 'R CMD check' started to fail recently on the Linux builder(s) over a missing dependency, add the missing dependency to 'Suggests:' in your DESCRIPTION file. See Renviron.bioc for more information.

raw results


Summary

Package: coMethDMR
Version: 1.4.0
Command: /home/biocbuild/bbs-3.17-bioc/R/bin/R CMD check --install=check:coMethDMR.install-out.txt --library=/home/biocbuild/bbs-3.17-bioc/R/site-library --timings coMethDMR_1.4.0.tar.gz
StartedAt: 2023-09-20 20:18:50 -0400 (Wed, 20 Sep 2023)
EndedAt: 2023-09-20 20:32:19 -0400 (Wed, 20 Sep 2023)
EllapsedTime: 809.1 seconds
RetCode: 0
Status:   OK  
CheckDir: coMethDMR.Rcheck
Warnings: 0

Command output

##############################################################################
##############################################################################
###
### Running command:
###
###   /home/biocbuild/bbs-3.17-bioc/R/bin/R CMD check --install=check:coMethDMR.install-out.txt --library=/home/biocbuild/bbs-3.17-bioc/R/site-library --timings coMethDMR_1.4.0.tar.gz
###
##############################################################################
##############################################################################


* using log directory ‘/home/biocbuild/bbs-3.17-bioc/meat/coMethDMR.Rcheck’
* using R version 4.3.1 (2023-06-16)
* using platform: x86_64-pc-linux-gnu (64-bit)
* R was compiled by
    gcc (Ubuntu 11.3.0-1ubuntu1~22.04.1) 11.3.0
    GNU Fortran (Ubuntu 11.3.0-1ubuntu1~22.04.1) 11.3.0
* running under: Ubuntu 22.04.3 LTS
* using session charset: UTF-8
* checking for file ‘coMethDMR/DESCRIPTION’ ... OK
* this is package ‘coMethDMR’ version ‘1.4.0’
* package encoding: UTF-8
* checking package namespace information ... OK
* checking package dependencies ... OK
* checking if this is a source package ... OK
* checking if there is a namespace ... OK
* checking for hidden files and directories ... OK
* checking for portable file names ... OK
* checking for sufficient/correct file permissions ... OK
* checking whether package ‘coMethDMR’ can be installed ... OK
* checking installed package size ... OK
* checking package directory ... OK
* checking ‘build’ directory ... OK
* checking DESCRIPTION meta-information ... OK
* checking top-level files ... OK
* checking for left-over files ... OK
* checking index information ... OK
* checking package subdirectories ... OK
* checking R files for non-ASCII characters ... OK
* checking R files for syntax errors ... OK
* checking whether the package can be loaded ... OK
* checking whether the package can be loaded with stated dependencies ... OK
* checking whether the package can be unloaded cleanly ... OK
* checking whether the namespace can be loaded with stated dependencies ... OK
* checking whether the namespace can be unloaded cleanly ... OK
* checking loading without being on the library search path ... OK
* checking startup messages can be suppressed ... OK
* checking dependencies in R code ... OK
* checking S3 generic/method consistency ... OK
* checking replacement functions ... OK
* checking foreign function calls ... OK
* checking R code for possible problems ... NOTE
File ‘coMethDMR/R/zzz.R’:
  .onLoad calls:
    packageStartupMessage("Checking for cached SeSAMe data.")
    packageStartupMessage("Caching SeSAMe data for 450k/EPIC arrays.")

See section ‘Good practice’ in '?.onAttach'.
* checking Rd files ... OK
* checking Rd metadata ... OK
* checking Rd cross-references ... OK
* checking for missing documentation entries ... OK
* checking for code/documentation mismatches ... OK
* checking Rd \usage sections ... OK
* checking Rd contents ... OK
* checking for unstated dependencies in examples ... OK
* checking contents of ‘data’ directory ... OK
* checking data for non-ASCII characters ... OK
* checking data for ASCII and uncompressed saves ... OK
* checking files in ‘vignettes’ ... OK
* checking examples ... OK
Examples with CPU (user + system) or elapsed time > 5s
                      user system elapsed
CoMethSingleRegion  29.494  1.264  32.066
CloseBySingleRegion 25.870  1.882  29.522
lmmTest             24.278  1.276  26.624
CpGsInfoOneRegion   17.778  0.611  19.409
lmmTestAllRegions   17.350  0.907  18.831
SplitCpGDFbyRegion  17.125  0.509  18.562
CoMethAllRegions    11.160  0.828  12.289
GetCpGsInRegion     11.380  0.336  12.521
AnnotateResults     10.201  1.040  11.242
CpGsInfoAllRegions   6.605  0.229   7.131
OrderCpGsByLocation  5.832  0.224   6.334
CreateOutputDF       5.591  0.164   6.059
ImportSesameData     5.496  0.128   5.898
* checking for unstated dependencies in ‘tests’ ... OK
* checking tests ...
  Running ‘testthat.R’
 OK
* checking for unstated dependencies in vignettes ... OK
* checking package vignettes in ‘inst/doc’ ... OK
* checking running R code from vignettes ...
  ‘vin1_Introduction_to_coMethDMR_geneBasedPipeline.Rmd’ using ‘UTF-8’... OK
  ‘vin2_BiocParallel_for_coMethDMR_geneBasedPipeline.Rmd’ using ‘UTF-8’... OK
 NONE
* checking re-building of vignette outputs ... OK
* checking PDF version of manual ... OK
* DONE

Status: 1 NOTE
See
  ‘/home/biocbuild/bbs-3.17-bioc/meat/coMethDMR.Rcheck/00check.log’
for details.



Installation output

coMethDMR.Rcheck/00install.out

##############################################################################
##############################################################################
###
### Running command:
###
###   /home/biocbuild/bbs-3.17-bioc/R/bin/R CMD INSTALL coMethDMR
###
##############################################################################
##############################################################################


* installing to library ‘/home/biocbuild/bbs-3.17-bioc/R/site-library’
* installing *source* package ‘coMethDMR’ ...
** using staged installation
** R
** data
** inst
** byte-compile and prepare package for lazy loading
** help
*** installing help indices
** building package indices
** installing vignettes
** testing if installed package can be loaded from temporary location
** testing if installed package can be loaded from final location
** testing if installed package keeps a record of temporary installation path
* DONE (coMethDMR)

Tests output

coMethDMR.Rcheck/tests/testthat.Rout


R version 4.3.1 (2023-06-16) -- "Beagle Scouts"
Copyright (C) 2023 The R Foundation for Statistical Computing
Platform: x86_64-pc-linux-gnu (64-bit)

R is free software and comes with ABSOLUTELY NO WARRANTY.
You are welcome to redistribute it under certain conditions.
Type 'license()' or 'licence()' for distribution details.

R is a collaborative project with many contributors.
Type 'contributors()' for more information and
'citation()' on how to cite R or R packages in publications.

Type 'demo()' for some demos, 'help()' for on-line help, or
'help.start()' for an HTML browser interface to help.
Type 'q()' to quit R.

> library(testthat)
> library(coMethDMR)
Checking for cached SeSAMe data.
> 
> test_check("coMethDMR")
[ FAIL 0 | WARN 0 | SKIP 0 | PASS 12 ]
> 
> proc.time()
   user  system elapsed 
 56.798   2.637  60.902 

Example timings

coMethDMR.Rcheck/coMethDMR-Ex.timings

nameusersystemelapsed
AnnotateResults10.201 1.04011.242
CloseBySingleRegion25.870 1.88229.522
CoMethAllRegions11.160 0.82812.289
CoMethSingleRegion29.494 1.26432.066
CpGsInfoAllRegions6.6050.2297.131
CpGsInfoOneRegion17.778 0.61119.409
CreateOutputDF5.5910.1646.059
CreateParallelWorkers1.3620.0481.410
CreateRdrop0.0030.0000.003
FindComethylatedRegions0.0140.0000.014
GetCpGsInRegion11.380 0.33612.521
GetResiduals0.2210.0080.230
ImportSesameData5.4960.1285.898
MarkComethylatedCpGs0.0000.0040.005
MarkMissing0.0010.0030.004
NameRegion0.0010.0000.001
OrderCpGsByLocation5.8320.2246.334
RegionsToRanges0.0080.0040.012
SplitCpGDFbyRegion17.125 0.50918.562
WriteCloseByAllRegions0.0350.0050.040
lmmTest24.278 1.27626.624
lmmTestAllRegions17.350 0.90718.831