Back to Multiple platform build/check report for BioC 3.11
AB[C]DEFGHIJKLMNOPQRSTUVWXYZ

Multiple platform build/check report for BioC 3.11

Results for ChIPanalyser

This page was generated on 2020-05-30 14:24:13 -0400 (Sat, 30 May 2020).

Package 278/1905HostnameOS / ArchINSTALLBUILDCHECKBUILD BIN
ChIPanalyser 1.10.0
Patrick C.N. Martin
Snapshot Date: 2020-05-29 16:51:25 -0400 (Fri, 29 May 2020)
URL: https://git.bioconductor.org/packages/ChIPanalyser
Branch: RELEASE_3_11
Last Commit: c8f1b51
Last Changed Date: 2020-04-27 15:09:59 -0400 (Mon, 27 Apr 2020)
malbec2 Linux (Ubuntu 18.04.4 LTS) / x86_64  OK  OK  OK UNNEEDED, same version exists in internal repository
tokay2 Windows Server 2012 R2 Standard / x64  OK  OK  WARNINGS  OK UNNEEDED, same version exists in internal repository
machv2 macOS 10.14.6 Mojave / x86_64  OK  OK  OK  OK UNNEEDED, same version exists in internal repository