Back to Multiple platform build/check report for BioC 3.18: simplified long |
|
This page was generated on 2024-03-29 11:37:50 -0400 (Fri, 29 Mar 2024).
Hostname | OS | Arch (*) | R version | Installed pkgs |
---|---|---|---|---|
nebbiolo2 | Linux (Ubuntu 22.04.3 LTS) | x86_64 | 4.3.3 (2024-02-29) -- "Angel Food Cake" | 4669 |
palomino4 | Windows Server 2022 Datacenter | x64 | 4.3.3 (2024-02-29 ucrt) -- "Angel Food Cake" | 4404 |
merida1 | macOS 12.7.1 Monterey | x86_64 | 4.3.3 (2024-02-29) -- "Angel Food Cake" | 4427 |
Click on any hostname to see more info about the system (e.g. compilers) (*) as reported by 'uname -p', except on Windows and Mac OS X |
Package 1026/2266 | Hostname | OS / Arch | INSTALL | BUILD | CHECK | BUILD BIN | ||||||||
INSPEcT 1.32.1 (landing page) Stefano de Pretis
| nebbiolo2 | Linux (Ubuntu 22.04.3 LTS) / x86_64 | OK | OK | OK | |||||||||
palomino4 | Windows Server 2022 Datacenter / x64 | OK | OK | OK | OK | |||||||||
merida1 | macOS 12.7.1 Monterey / x86_64 | OK | OK | OK | OK | |||||||||
kjohnson1 | macOS 13.6.1 Ventura / arm64 | see weekly results here | ||||||||||||
To the developers/maintainers of the INSPEcT package: - Allow up to 24 hours (and sometimes 48 hours) for your latest push to git@git.bioconductor.org:packages/INSPEcT.git to reflect on this report. See Troubleshooting Build Report for more information. - Use the following Renviron settings to reproduce errors and warnings. - If 'R CMD check' started to fail recently on the Linux builder(s) over a missing dependency, add the missing dependency to 'Suggests:' in your DESCRIPTION file. See Renviron.bioc for more information. |
Package: INSPEcT |
Version: 1.32.1 |
Command: /Library/Frameworks/R.framework/Resources/bin/R CMD check --install=check:INSPEcT.install-out.txt --library=/Library/Frameworks/R.framework/Resources/library --no-vignettes --timings INSPEcT_1.32.1.tar.gz |
StartedAt: 2024-03-28 04:13:06 -0400 (Thu, 28 Mar 2024) |
EndedAt: 2024-03-28 04:45:57 -0400 (Thu, 28 Mar 2024) |
EllapsedTime: 1970.6 seconds |
RetCode: 0 |
Status: OK |
CheckDir: INSPEcT.Rcheck |
Warnings: 0 |
############################################################################## ############################################################################## ### ### Running command: ### ### /Library/Frameworks/R.framework/Resources/bin/R CMD check --install=check:INSPEcT.install-out.txt --library=/Library/Frameworks/R.framework/Resources/library --no-vignettes --timings INSPEcT_1.32.1.tar.gz ### ############################################################################## ############################################################################## * using log directory ‘/Users/biocbuild/bbs-3.18-bioc/meat/INSPEcT.Rcheck’ * using R version 4.3.3 (2024-02-29) * using platform: x86_64-apple-darwin20 (64-bit) * R was compiled by Apple clang version 14.0.0 (clang-1400.0.29.202) GNU Fortran (GCC) 12.2.0 * running under: macOS Monterey 12.7.1 * using session charset: UTF-8 * using option ‘--no-vignettes’ * checking for file ‘INSPEcT/DESCRIPTION’ ... OK * checking extension type ... Package * this is package ‘INSPEcT’ version ‘1.32.1’ * checking package namespace information ... OK * checking package dependencies ... OK * checking if this is a source package ... OK * checking if there is a namespace ... OK * checking for hidden files and directories ... OK * checking for portable file names ... OK * checking for sufficient/correct file permissions ... OK * checking whether package ‘INSPEcT’ can be installed ... OK * checking installed package size ... NOTE installed size is 7.1Mb sub-directories of 1Mb or more: R 1.8Mb data 2.8Mb * checking package directory ... OK * checking ‘build’ directory ... OK * checking DESCRIPTION meta-information ... OK * checking top-level files ... OK * checking for left-over files ... OK * checking index information ... OK * checking package subdirectories ... OK * checking R files for non-ASCII characters ... OK * checking R files for syntax errors ... OK * checking whether the package can be loaded ... OK * checking whether the package can be loaded with stated dependencies ... OK * checking whether the package can be unloaded cleanly ... OK * checking whether the namespace can be loaded with stated dependencies ... OK * checking whether the namespace can be unloaded cleanly ... OK * checking dependencies in R code ... OK * checking S3 generic/method consistency ... OK * checking replacement functions ... OK * checking foreign function calls ... OK * checking R code for possible problems ... NOTE output_pars: no visible global function definition for ‘plot.new’ plotSingleRNADynamic: no visible global function definition for ‘lines’ Undefined global functions or variables: lines plot.new Consider adding importFrom("graphics", "lines", "plot.new") to your NAMESPACE file. * checking Rd files ... OK * checking Rd metadata ... OK * checking Rd cross-references ... OK * checking for missing documentation entries ... OK * checking for code/documentation mismatches ... OK * checking Rd \usage sections ... OK * checking Rd contents ... OK * checking for unstated dependencies in examples ... OK * checking contents of ‘data’ directory ... OK * checking data for non-ASCII characters ... OK * checking data for ASCII and uncompressed saves ... OK * checking files in ‘vignettes’ ... OK * checking examples ... OK Examples with CPU (user + system) or elapsed time > 5s user system elapsed makeSimDataset 220.276 1.490 247.714 modelRates 99.104 0.586 111.932 makeSimModel 76.545 0.506 83.108 rocCurve 75.760 0.626 85.920 quantifyExpressionsFromBAMs 69.526 6.815 85.069 rocThresholds 70.335 0.788 76.968 INSPEcT_diffsteady-class 69.990 0.689 83.442 plotMA 64.406 0.636 75.360 compareSteady 63.241 0.396 72.446 newINSPEcT 41.144 0.300 46.397 quantifyExpressionsFromTrCounts 33.956 0.217 36.922 processingDelay 33.101 0.321 35.906 makeOscillatorySimModel 18.233 0.200 19.500 inspectFromPCR 17.784 0.169 19.831 compareSteadyNoNascent 13.428 0.093 15.013 modelRatesNF 10.881 0.231 12.432 * checking for unstated dependencies in vignettes ... OK * checking package vignettes in ‘inst/doc’ ... OK * checking running R code from vignettes ... SKIPPED * checking re-building of vignette outputs ... SKIPPED * checking PDF version of manual ... OK * DONE Status: 2 NOTEs See ‘/Users/biocbuild/bbs-3.18-bioc/meat/INSPEcT.Rcheck/00check.log’ for details.
INSPEcT.Rcheck/00install.out
############################################################################## ############################################################################## ### ### Running command: ### ### /Library/Frameworks/R.framework/Resources/bin/R CMD INSTALL INSPEcT ### ############################################################################## ############################################################################## * installing to library ‘/Library/Frameworks/R.framework/Versions/4.3-x86_64/Resources/library’ * installing *source* package ‘INSPEcT’ ... ** using staged installation ** R ** data ** inst ** byte-compile and prepare package for lazy loading ** help *** installing help indices ** building package indices ** installing vignettes ** testing if installed package can be loaded from temporary location ** testing if installed package can be loaded from final location ** testing if installed package keeps a record of temporary installation path * DONE (INSPEcT)
INSPEcT.Rcheck/INSPEcT-Ex.timings
name | user | system | elapsed | |
AIC-INSPEcT-method | 0.374 | 0.018 | 0.458 | |
Extract | 0.791 | 0.020 | 0.970 | |
INSPEcT_diffsteady-class | 69.990 | 0.689 | 83.442 | |
calculateRatePvals | 0.473 | 0.015 | 0.607 | |
chisqmodel | 0.369 | 0.019 | 0.490 | |
chisqtest | 0.365 | 0.019 | 0.455 | |
combine | 0.764 | 0.022 | 0.945 | |
compareSteady | 63.241 | 0.396 | 72.446 | |
compareSteadyNoNascent | 13.428 | 0.093 | 15.013 | |
convergence | 0.376 | 0.021 | 0.441 | |
geneClass | 0.483 | 0.012 | 0.540 | |
inHeatmap | 0.444 | 0.021 | 0.483 | |
inspectFromPCR | 17.784 | 0.169 | 19.831 | |
labeledSF | 0.372 | 0.006 | 0.401 | |
logLik | 0.374 | 0.022 | 0.449 | |
makeModelRates | 0.488 | 0.022 | 0.560 | |
makeOscillatorySimModel | 18.233 | 0.200 | 19.500 | |
makeSimDataset | 220.276 | 1.490 | 247.714 | |
makeSimModel | 76.545 | 0.506 | 83.108 | |
modelRates | 99.104 | 0.586 | 111.932 | |
modelRatesNF | 10.881 | 0.231 | 12.432 | |
modelSelection | 0.370 | 0.022 | 0.489 | |
modelingParams | 0.357 | 0.006 | 0.408 | |
nGenes | 0.357 | 0.010 | 0.409 | |
nTpts | 0.363 | 0.006 | 0.401 | |
newINSPEcT | 41.144 | 0.300 | 46.397 | |
plotGene | 0.456 | 0.013 | 0.517 | |
plotMA | 64.406 | 0.636 | 75.360 | |
processingDelay | 33.101 | 0.321 | 35.906 | |
quantifyExpressionsFromBAMs | 69.526 | 6.815 | 85.069 | |
quantifyExpressionsFromTrCounts | 33.956 | 0.217 | 36.922 | |
ratePvals | 0.367 | 0.007 | 0.410 | |
ratesFirstGuess | 0.366 | 0.013 | 0.421 | |
ratesFirstGuessVar | 0.367 | 0.011 | 0.408 | |
removeModel | 0.585 | 0.007 | 0.650 | |
rocCurve | 75.760 | 0.626 | 85.920 | |
rocThresholds | 70.335 | 0.788 | 76.968 | |
split | 0.562 | 0.008 | 0.645 | |
tpts | 0.362 | 0.011 | 0.442 | |
viewConfidenceIntervals | 0.366 | 0.017 | 0.413 | |
viewModelRates | 0.366 | 0.011 | 0.418 | |