Back to Multiple platform build/check report for BioC 3.17:   simplified   long
ABCDEFGHIJKL[M]NOPQRSTUVWXYZ

This page was generated on 2023-09-30 11:34:55 -0400 (Sat, 30 Sep 2023).

HostnameOSArch (*)R versionInstalled pkgs
nebbiolo1Linux (Ubuntu 22.04.2 LTS)x86_644.3.1 (2023-06-16) -- "Beagle Scouts" 4626
palomino3Windows Server 2022 Datacenterx644.3.1 (2023-06-16 ucrt) -- "Beagle Scouts" 4379
merida1macOS 12.6.4 Montereyx86_644.3.1 (2023-06-16) -- "Beagle Scouts" 4395
Click on any hostname to see more info about the system (e.g. compilers)      (*) as reported by 'uname -p', except on Windows and Mac OS X

All results for package MultiAssayExperiment


To the developers/maintainers of the MultiAssayExperiment package:
- Allow up to 24 hours (and sometimes 48 hours) for your latest push to git@git.bioconductor.org:packages/MultiAssayExperiment.git to reflect on this report. See Troubleshooting Build Report for more information.
- Use the following Renviron settings to reproduce errors and warnings.
- If 'R CMD check' started to fail recently on the Linux builder(s) over a missing dependency, add the missing dependency to 'Suggests:' in your DESCRIPTION file. See Renviron.bioc for more information.

raw results

Package 1326/2230HostnameOS / ArchINSTALLBUILDCHECKBUILD BIN
MultiAssayExperiment 1.26.0  (landing page)
Marcel Ramos
Snapshot Date: 2023-09-29 14:00:14 -0400 (Fri, 29 Sep 2023)
git_url: https://git.bioconductor.org/packages/MultiAssayExperiment
git_branch: RELEASE_3_17
git_last_commit: 4fa272a
git_last_commit_date: 2023-04-25 10:45:43 -0400 (Tue, 25 Apr 2023)
nebbiolo1Linux (Ubuntu 22.04.2 LTS) / x86_64  OK    OK    OK  UNNEEDED, same version is already published
palomino3Windows Server 2022 Datacenter / x64  OK    OK    OK    OK  UNNEEDED, same version is already published
merida1macOS 12.6.4 Monterey / x86_64  OK    OK    OK    OK  UNNEEDED, same version is already published

Results for Bioconductor software packages that depend directly on package MultiAssayExperiment

QUICK STATSOS / ArchINSTALLBUILDCHECKBUILD BIN
nebbiolo1Linux (Ubuntu 22.04.2 LTS) / x86_64
0046
0046
01936
palomino3Windows Server 2022 Datacenter / x64
0144
0045
01836
0045
merida1macOS 12.6.4 Monterey / x86_64
0145
0244
21932
0044
Package 1/46HostnameOS / ArchINSTALLBUILDCHECKBUILD BIN
AffiXcan 1.18.0  (landing page)
Alessandro Lussana
git_last_commit: e3e6dfb
git_last_commit_date: 2023-04-25 11:04:58 -0400
nebbiolo1Linux (Ubuntu 22.04.2 LTS) / x86_64  OK    OK    OK  UNNEEDED, same version is already published
palomino3Windows Server 2022 Datacenter / x64  OK    OK    OK    OK  UNNEEDED, same version is already published
merida1macOS 12.6.4 Monterey / x86_64  OK    OK    OK    OK  UNNEEDED, same version is already published
Package 2/46HostnameOS / ArchINSTALLBUILDCHECKBUILD BIN
alabaster.mae 1.0.0  (landing page)
Aaron Lun
git_last_commit: acbca50
git_last_commit_date: 2023-04-25 11:43:04 -0400
nebbiolo1Linux (Ubuntu 22.04.2 LTS) / x86_64  OK    OK    OK  UNNEEDED, same version is already published
palomino3Windows Server 2022 Datacenter / x64  OK    OK    OK    OK  UNNEEDED, same version is already published
merida1macOS 12.6.4 Monterey / x86_64  OK    OK    OK    OK  UNNEEDED, same version is already published
Package 3/46HostnameOS / ArchINSTALLBUILDCHECKBUILD BIN
AMARETTO 1.16.0  (landing page)
Olivier Gevaert
git_last_commit: 3be8f0f
git_last_commit_date: 2023-04-25 11:08:40 -0400
nebbiolo1Linux (Ubuntu 22.04.2 LTS) / x86_64  OK    OK    WARNINGS  UNNEEDED, same version is already published
palomino3Windows Server 2022 Datacenter / x64  OK    OK    WARNINGS    OK  UNNEEDED, same version is already published
merida1macOS 12.6.4 Monterey / x86_64  OK    OK    WARNINGS    OK  UNNEEDED, same version is already published
Package 4/46HostnameOS / ArchINSTALLBUILDCHECKBUILD BIN
animalcules 1.16.0  (landing page)
Yue Zhao
git_last_commit: e7416c0
git_last_commit_date: 2023-04-25 11:10:12 -0400
nebbiolo1Linux (Ubuntu 22.04.2 LTS) / x86_64  OK    OK    ERROR  
palomino3Windows Server 2022 Datacenter / x64  OK    OK    WARNINGS    OK  UNNEEDED, same version is already published
merida1macOS 12.6.4 Monterey / x86_64  OK    OK    WARNINGS    OK  UNNEEDED, same version is already published
Package 5/46HostnameOS / ArchINSTALLBUILDCHECKBUILD BIN
autonomics 1.8.0  (landing page)
Aditya Bhagwat
git_last_commit: d84d5f1
git_last_commit_date: 2023-04-25 11:27:21 -0400
nebbiolo1Linux (Ubuntu 22.04.2 LTS) / x86_64  OK    OK    WARNINGS  UNNEEDED, same version is already published
palomino3Windows Server 2022 Datacenter / x64  OK    OK    WARNINGS    OK  UNNEEDED, same version is already published
merida1macOS 12.6.4 Monterey / x86_64  OK    OK    WARNINGS    OK  UNNEEDED, same version is already published
Package 6/46HostnameOS / ArchINSTALLBUILDCHECKBUILD BIN
biosigner 1.28.0  (landing page)
Etienne A. Thevenot
git_last_commit: 83d8e8f
git_last_commit_date: 2023-04-25 10:44:49 -0400
nebbiolo1Linux (Ubuntu 22.04.2 LTS) / x86_64  OK    OK    OK  UNNEEDED, same version is already published
palomino3Windows Server 2022 Datacenter / x64  OK    OK    OK    OK  UNNEEDED, same version is already published
merida1macOS 12.6.4 Monterey / x86_64  OK    OK    OK    OK  UNNEEDED, same version is already published
Package 7/46HostnameOS / ArchINSTALLBUILDCHECKBUILD BIN
CAGEr 2.6.1  (landing page)
Charles Plessy
git_last_commit: 1711478
git_last_commit_date: 2023-07-04 19:40:32 -0400
nebbiolo1Linux (Ubuntu 22.04.2 LTS) / x86_64  OK    OK    OK  UNNEEDED, same version is already published
palomino3Windows Server 2022 Datacenter / x64  OK    OK    OK    OK  UNNEEDED, same version is already published
merida1macOS 12.6.4 Monterey / x86_64  OK    OK    OK    OK  UNNEEDED, same version is already published
Package 8/46HostnameOS / ArchINSTALLBUILDCHECKBUILD BIN
cBioPortalData 2.12.0  (landing page)
Marcel Ramos
git_last_commit: 13c35fc
git_last_commit_date: 2023-04-25 11:18:25 -0400
nebbiolo1Linux (Ubuntu 22.04.2 LTS) / x86_64  OK    OK    OK  UNNEEDED, same version is already published
palomino3Windows Server 2022 Datacenter / x64  OK    OK    OK    OK  UNNEEDED, same version is already published
merida1macOS 12.6.4 Monterey / x86_64  OK    OK    OK    OK  UNNEEDED, same version is already published
Package 9/46HostnameOS / ArchINSTALLBUILDCHECKBUILD BIN
ClassifyR 3.4.11  (landing page)
Dario Strbenac
git_last_commit: 528fd78
git_last_commit_date: 2023-09-20 20:30:08 -0400
nebbiolo1Linux (Ubuntu 22.04.2 LTS) / x86_64  OK    OK    OK  UNNEEDED, same version is already published
palomino3Windows Server 2022 Datacenter / x64  OK    OK    OK    OK  UNNEEDED, same version is already published
merida1macOS 12.6.4 Monterey / x86_64  OK    OK    TIMEOUT    OK  
Package 10/46HostnameOS / ArchINSTALLBUILDCHECKBUILD BIN
CoreGx 2.4.0  (landing page)
Benjamin Haibe-Kains
git_last_commit: 788cc40
git_last_commit_date: 2023-04-25 11:18:08 -0400
nebbiolo1Linux (Ubuntu 22.04.2 LTS) / x86_64  OK    OK    OK  UNNEEDED, same version is already published
palomino3Windows Server 2022 Datacenter / x64  OK    OK    OK    OK  UNNEEDED, same version is already published
merida1macOS 12.6.4 Monterey / x86_64  OK    OK    OK    OK  UNNEEDED, same version is already published
Package 11/46HostnameOS / ArchINSTALLBUILDCHECKBUILD BIN
corral 1.10.0  (landing page)
Lauren Hsu
git_last_commit: 7bcf4ec
git_last_commit_date: 2023-04-25 11:18:58 -0400
nebbiolo1Linux (Ubuntu 22.04.2 LTS) / x86_64  OK    OK    OK  UNNEEDED, same version is already published
palomino3Windows Server 2022 Datacenter / x64  OK    OK    OK    OK  UNNEEDED, same version is already published
merida1macOS 12.6.4 Monterey / x86_64  OK    OK    OK    OK  UNNEEDED, same version is already published
Package 12/46HostnameOS / ArchINSTALLBUILDCHECKBUILD BIN
ELMER 2.24.1  (landing page)
Tiago Chedraoui Silva
git_last_commit: 5c6fd17
git_last_commit_date: 2023-05-07 16:43:07 -0400
nebbiolo1Linux (Ubuntu 22.04.2 LTS) / x86_64  OK    OK    WARNINGS  UNNEEDED, same version is already published
palomino3Windows Server 2022 Datacenter / x64  OK    OK    WARNINGS    OK  UNNEEDED, same version is already published
merida1macOS 12.6.4 Monterey / x86_64  OK    OK    WARNINGS    OK  UNNEEDED, same version is already published
Package 13/46HostnameOS / ArchINSTALLBUILDCHECKBUILD BIN
evaluomeR 1.16.0  (landing page)
José Antonio Bernabé-Díaz
git_last_commit: e860ec7
git_last_commit_date: 2023-04-25 11:08:54 -0400
nebbiolo1Linux (Ubuntu 22.04.2 LTS) / x86_64  OK    OK    OK  UNNEEDED, same version is already published
palomino3Windows Server 2022 Datacenter / x64  OK    OK    OK    OK  UNNEEDED, same version is already published
merida1macOS 12.6.4 Monterey / x86_64  OK    OK    OK    OK  UNNEEDED, same version is already published
Package 14/46HostnameOS / ArchINSTALLBUILDCHECKBUILD BIN
FindIT2 1.6.0  (landing page)
Guandong Shang
git_last_commit: ed293ae
git_last_commit_date: 2023-04-25 11:31:01 -0400
nebbiolo1Linux (Ubuntu 22.04.2 LTS) / x86_64  OK    OK    OK  UNNEEDED, same version is already published
palomino3Windows Server 2022 Datacenter / x64  OK    OK    OK    OK  UNNEEDED, same version is already published
merida1macOS 12.6.4 Monterey / x86_64  OK    OK    OK    OK  UNNEEDED, same version is already published
Package 15/46HostnameOS / ArchINSTALLBUILDCHECKBUILD BIN
FLAMES 1.6.0  (landing page)
Oliver Voogd
git_last_commit: 31277b6
git_last_commit_date: 2023-04-25 11:31:20 -0400
nebbiolo1Linux (Ubuntu 22.04.2 LTS) / x86_64  OK    OK    WARNINGS  UNNEEDED, same version is already published
palomino3Windows Server 2022 Datacenter / x64  OK    OK    OK    OK  UNNEEDED, same version is already published
merida1macOS 12.6.4 Monterey / x86_64  OK    OK    WARNINGS    OK  UNNEEDED, same version is already published
Package 16/46HostnameOS / ArchINSTALLBUILDCHECKBUILD BIN
glmSparseNet 1.18.0  (landing page)
André Veríssimo
git_last_commit: fa0321e
git_last_commit_date: 2023-04-25 11:04:37 -0400
nebbiolo1Linux (Ubuntu 22.04.2 LTS) / x86_64  OK    OK    OK  UNNEEDED, same version is already published
palomino3Windows Server 2022 Datacenter / x64  OK    OK    OK    OK  UNNEEDED, same version is already published
merida1macOS 12.6.4 Monterey / x86_64  OK    ERROR  skippedskipped
Package 17/46HostnameOS / ArchINSTALLBUILDCHECKBUILD BIN
GOpro 1.26.0  (landing page)
Lidia Chrabaszcz
git_last_commit: 7cebbeb
git_last_commit_date: 2023-04-25 10:49:55 -0400
nebbiolo1Linux (Ubuntu 22.04.2 LTS) / x86_64  OK    OK    OK  UNNEEDED, same version is already published
palomino3Windows Server 2022 Datacenter / x64  OK    OK    OK    OK  UNNEEDED, same version is already published
merida1macOS 12.6.4 Monterey / x86_64  OK    OK    OK    OK  UNNEEDED, same version is already published
Package 18/46HostnameOS / ArchINSTALLBUILDCHECKBUILD BIN
hermes 1.4.0  (landing page)
Daniel Sabanés Bové
git_last_commit: 66d78db
git_last_commit_date: 2023-04-25 11:35:06 -0400
nebbiolo1Linux (Ubuntu 22.04.2 LTS) / x86_64  OK    OK    OK  UNNEEDED, same version is already published
palomino3Windows Server 2022 Datacenter / x64  OK    OK    OK    OK  UNNEEDED, same version is already published
merida1macOS 12.6.4 Monterey / x86_64  OK    OK    OK    OK  UNNEEDED, same version is already published
Package 19/46HostnameOS / ArchINSTALLBUILDCHECKBUILD BIN
hipathia 3.0.2  (landing page)
Marta R. Hidalgo
git_last_commit: 2c2a601
git_last_commit_date: 2023-06-05 09:08:26 -0400
nebbiolo1Linux (Ubuntu 22.04.2 LTS) / x86_64  OK    OK    WARNINGS  UNNEEDED, same version is already published
palomino3Windows Server 2022 Datacenter / x64  OK    OK    WARNINGS    OK  UNNEEDED, same version is already published
merida1macOS 12.6.4 Monterey / x86_64  OK    OK    WARNINGS    OK  UNNEEDED, same version is already published
Package 20/46HostnameOS / ArchINSTALLBUILDCHECKBUILD BIN
InTAD 1.20.0  (landing page)
Konstantin Okonechnikov
git_last_commit: c031674
git_last_commit_date: 2023-04-25 11:00:59 -0400
nebbiolo1Linux (Ubuntu 22.04.2 LTS) / x86_64  OK    OK    OK  UNNEEDED, same version is already published
palomino3Windows Server 2022 Datacenter / x64  OK    OK    OK    OK  UNNEEDED, same version is already published
merida1macOS 12.6.4 Monterey / x86_64  OK    OK    OK    OK  UNNEEDED, same version is already published
Package 21/46HostnameOS / ArchINSTALLBUILDCHECKBUILD BIN
LinkHD 1.14.0  (landing page)
"Laura M Zingaretti"
git_last_commit: 8fa9f88
git_last_commit_date: 2023-04-25 11:13:22 -0400
nebbiolo1Linux (Ubuntu 22.04.2 LTS) / x86_64  OK    OK    OK  UNNEEDED, same version is already published
palomino3Windows Server 2022 Datacenter / x64  OK    OK    OK    OK  UNNEEDED, same version is already published
merida1macOS 12.6.4 Monterey / x86_64  OK    OK    OK    OK  UNNEEDED, same version is already published
Package 22/46HostnameOS / ArchINSTALLBUILDCHECKBUILD BIN
metabolomicsWorkbenchR 1.10.0  (landing page)
Gavin Rhys Lloyd
git_last_commit: 816cbcf
git_last_commit_date: 2023-04-25 11:22:12 -0400
nebbiolo1Linux (Ubuntu 22.04.2 LTS) / x86_64  OK    OK    OK  UNNEEDED, same version is already published
palomino3Windows Server 2022 Datacenter / x64  OK    OK    OK    OK  UNNEEDED, same version is already published
merida1macOS 12.6.4 Monterey / x86_64  OK    OK    OK    OK  UNNEEDED, same version is already published
Package 23/46HostnameOS / ArchINSTALLBUILDCHECKBUILD BIN
mia 1.8.0  (landing page)
Tuomas Borman
git_last_commit: e5f4407
git_last_commit_date: 2023-04-25 11:27:49 -0400
nebbiolo1Linux (Ubuntu 22.04.2 LTS) / x86_64  OK    OK    OK  UNNEEDED, same version is already published
palomino3Windows Server 2022 Datacenter / x64  OK    OK    OK    OK  UNNEEDED, same version is already published
merida1macOS 12.6.4 Monterey / x86_64  OK    OK    TIMEOUT    OK  
Package 24/46HostnameOS / ArchINSTALLBUILDCHECKBUILD BIN
midasHLA 1.8.0  (landing page)
Maciej Migdał
git_last_commit: 9441502
git_last_commit_date: 2023-04-25 11:27:07 -0400
nebbiolo1Linux (Ubuntu 22.04.2 LTS) / x86_64  OK    OK    OK  UNNEEDED, same version is already published
palomino3Windows Server 2022 Datacenter / x64  OK    OK    OK    OK  UNNEEDED, same version is already published
merida1macOS 12.6.4 Monterey / x86_64  OK    OK    OK    OK  UNNEEDED, same version is already published
Package 25/46HostnameOS / ArchINSTALLBUILDCHECKBUILD BIN
missRows 1.20.0  (landing page)
Gonzalez Ignacio
git_last_commit: 0c8cbae
git_last_commit_date: 2023-04-25 11:00:49 -0400
nebbiolo1Linux (Ubuntu 22.04.2 LTS) / x86_64  OK    OK    OK  UNNEEDED, same version is already published
palomino3Windows Server 2022 Datacenter / x64  OK    OK    OK    OK  UNNEEDED, same version is already published
merida1macOS 12.6.4 Monterey / x86_64  OK    OK    OK    OK  UNNEEDED, same version is already published
Package 26/46HostnameOS / ArchINSTALLBUILDCHECKBUILD BIN
MOMA 1.12.0  (landing page)
Sunny Jones
git_last_commit: a9260ac
git_last_commit_date: 2023-04-25 11:17:48 -0400
nebbiolo1Linux (Ubuntu 22.04.2 LTS) / x86_64  OK    OK    OK  UNNEEDED, same version is already published
palomino3Windows Server 2022 Datacenter / x64  OK    OK    OK    OK  UNNEEDED, same version is already published
merida1macOS 12.6.4 Monterey / x86_64  OK    OK    OK    OK  UNNEEDED, same version is already published
Package 27/46HostnameOS / ArchINSTALLBUILDCHECKBUILD BIN
msqrob2 1.8.0  (landing page)
Lieven Clement
git_last_commit: 33d0081
git_last_commit_date: 2023-04-25 11:30:03 -0400
nebbiolo1Linux (Ubuntu 22.04.2 LTS) / x86_64  OK    OK    OK  UNNEEDED, same version is already published
palomino3Windows Server 2022 Datacenter / x64  OK    OK    OK    OK  UNNEEDED, same version is already published
merida1macOS 12.6.4 Monterey / x86_64  OK    OK    OK    OK  UNNEEDED, same version is already published
Package 28/46HostnameOS / ArchINSTALLBUILDCHECKBUILD BIN
MuData 1.4.0  (landing page)
Danila Bredikhin
git_last_commit: f0a9471
git_last_commit_date: 2023-04-25 11:36:12 -0400
nebbiolo1Linux (Ubuntu 22.04.2 LTS) / x86_64  OK    OK    OK  UNNEEDED, same version is already published
palomino3Windows Server 2022 Datacenter / x64  OK    OK    OK    OK  UNNEEDED, same version is already published
merida1macOS 12.6.4 Monterey / x86_64  OK    OK    OK    OK  UNNEEDED, same version is already published
Package 29/46HostnameOS / ArchINSTALLBUILDCHECKBUILD BIN
MultiBaC 1.10.0  (landing page)
The package maintainer
git_last_commit: c3c7fe3
git_last_commit_date: 2023-04-25 11:20:34 -0400
nebbiolo1Linux (Ubuntu 22.04.2 LTS) / x86_64  OK    OK    OK  UNNEEDED, same version is already published
palomino3Windows Server 2022 Datacenter / x64  OK    OK    OK    OK  UNNEEDED, same version is already published
merida1macOS 12.6.4 Monterey / x86_64  OK    OK    OK    OK  UNNEEDED, same version is already published
Package 30/46HostnameOS / ArchINSTALLBUILDCHECKBUILD BIN
MultimodalExperiment 1.0.0  (landing page)
Lucas Schiffer
git_last_commit: 287ad80
git_last_commit_date: 2023-04-25 11:45:00 -0400
nebbiolo1Linux (Ubuntu 22.04.2 LTS) / x86_64  OK    OK    OK  UNNEEDED, same version is already published
palomino3Windows Server 2022 Datacenter / x64  OK    OK    OK    OK  UNNEEDED, same version is already published
merida1macOS 12.6.4 Monterey / x86_64  OK    OK    OK    OK  UNNEEDED, same version is already published
Package 31/46HostnameOS / ArchINSTALLBUILDCHECKBUILD BIN
netDx 1.12.0  (landing page)
Shraddha Pai
git_last_commit: a2c338f
git_last_commit_date: 2023-04-25 11:15:11 -0400
nebbiolo1Linux (Ubuntu 22.04.2 LTS) / x86_64  OK    OK    OK  UNNEEDED, same version is already published
palomino3Windows Server 2022 Datacenter / x64... NOT SUPPORTED ...
merida1macOS 12.6.4 Monterey / x86_64  OK    ERROR  skippedskipped
Package 32/46HostnameOS / ArchINSTALLBUILDCHECKBUILD BIN
OMICsPCA 1.18.0  (landing page)
Subhadeep Das
git_last_commit: 141de51
git_last_commit_date: 2023-04-25 11:04:48 -0400
nebbiolo1Linux (Ubuntu 22.04.2 LTS) / x86_64  OK    OK    OK  UNNEEDED, same version is already published
palomino3Windows Server 2022 Datacenter / x64  OK    OK    OK    OK  UNNEEDED, same version is already published
merida1macOS 12.6.4 Monterey / x86_64  OK    OK    OK    OK  UNNEEDED, same version is already published
Package 33/46HostnameOS / ArchINSTALLBUILDCHECKBUILD BIN
omicsPrint 1.20.0  (landing page)
Davy Cats
git_last_commit: e057d63
git_last_commit_date: 2023-04-25 10:58:23 -0400
nebbiolo1Linux (Ubuntu 22.04.2 LTS) / x86_64  OK    OK    WARNINGS  UNNEEDED, same version is already published
palomino3Windows Server 2022 Datacenter / x64  OK    OK    WARNINGS    OK  UNNEEDED, same version is already published
merida1macOS 12.6.4 Monterey / x86_64  OK    OK    WARNINGS    OK  UNNEEDED, same version is already published
Package 34/46HostnameOS / ArchINSTALLBUILDCHECKBUILD BIN
padma 1.10.0  (landing page)
Andrea Rau
git_last_commit: 7d8d3a5
git_last_commit_date: 2023-04-25 11:20:24 -0400
nebbiolo1Linux (Ubuntu 22.04.2 LTS) / x86_64  OK    OK    OK  UNNEEDED, same version is already published
palomino3Windows Server 2022 Datacenter / x64  OK    OK    OK    OK  UNNEEDED, same version is already published
merida1macOS 12.6.4 Monterey / x86_64  OK    OK    OK    OK  UNNEEDED, same version is already published
Package 35/46HostnameOS / ArchINSTALLBUILDCHECKBUILD BIN
PDATK 1.8.0  (landing page)
Benjamin Haibe-Kains
git_last_commit: 1c5053f
git_last_commit_date: 2023-04-25 11:27:04 -0400
nebbiolo1Linux (Ubuntu 22.04.2 LTS) / x86_64  OK    OK    WARNINGS  UNNEEDED, same version is already published
palomino3Windows Server 2022 Datacenter / x64  OK    OK    WARNINGS    OK  UNNEEDED, same version is already published
merida1macOS 12.6.4 Monterey / x86_64  OK    OK    WARNINGS    OK  UNNEEDED, same version is already published
Package 36/46HostnameOS / ArchINSTALLBUILDCHECKBUILD BIN
PharmacoGx 3.4.0  (landing page)
Benjamin Haibe-Kains
git_last_commit: 8141450
git_last_commit_date: 2023-04-25 10:49:02 -0400
nebbiolo1Linux (Ubuntu 22.04.2 LTS) / x86_64  OK    OK    OK  UNNEEDED, same version is already published
palomino3Windows Server 2022 Datacenter / x64  OK    OK    OK    OK  UNNEEDED, same version is already published
merida1macOS 12.6.4 Monterey / x86_64  OK    OK    OK    OK  UNNEEDED, same version is already published
Package 37/46HostnameOS / ArchINSTALLBUILDCHECKBUILD BIN
phenomis 1.2.0  (landing page)
Etienne A. Thevenot
git_last_commit: ccf2bb6
git_last_commit_date: 2023-04-25 11:39:57 -0400
nebbiolo1Linux (Ubuntu 22.04.2 LTS) / x86_64  OK    OK    OK  UNNEEDED, same version is already published
palomino3Windows Server 2022 Datacenter / x64  OK    OK    OK    OK  UNNEEDED, same version is already published
merida1macOS 12.6.4 Monterey / x86_64  OK    OK    OK    OK  UNNEEDED, same version is already published
Package 38/46HostnameOS / ArchINSTALLBUILDCHECKBUILD BIN
QFeatures 1.10.0  (landing page)
Laurent Gatto
git_last_commit: 8bf8485
git_last_commit_date: 2023-04-25 11:21:51 -0400
nebbiolo1Linux (Ubuntu 22.04.2 LTS) / x86_64  OK    OK    OK  UNNEEDED, same version is already published
palomino3Windows Server 2022 Datacenter / x64  OK    OK    OK    OK  UNNEEDED, same version is already published
merida1macOS 12.6.4 Monterey / x86_64  OK    OK    OK    OK  UNNEEDED, same version is already published
Package 39/46HostnameOS / ArchINSTALLBUILDCHECKBUILD BIN
ropls 1.32.0  (landing page)
Etienne A. Thevenot
git_last_commit: 6062224
git_last_commit_date: 2023-04-25 10:40:28 -0400
nebbiolo1Linux (Ubuntu 22.04.2 LTS) / x86_64  OK    OK    OK  UNNEEDED, same version is already published
palomino3Windows Server 2022 Datacenter / x64  OK    OK    OK    OK  UNNEEDED, same version is already published
merida1macOS 12.6.4 Monterey / x86_64  OK    OK    OK    OK  UNNEEDED, same version is already published
Package 40/46HostnameOS / ArchINSTALLBUILDCHECKBUILD BIN
scp 1.10.1  (landing page)
Christophe Vanderaa
git_last_commit: eb62620
git_last_commit_date: 2023-06-13 13:23:30 -0400
nebbiolo1Linux (Ubuntu 22.04.2 LTS) / x86_64  OK    OK    OK  UNNEEDED, same version is already published
palomino3Windows Server 2022 Datacenter / x64  OK    OK    OK    OK  UNNEEDED, same version is already published
merida1macOS 12.6.4 Monterey / x86_64  OK    OK    OK    OK  UNNEEDED, same version is already published
Package 41/46HostnameOS / ArchINSTALLBUILDCHECKBUILD BIN
scPipe 2.0.0  (landing page)
Shian Su
git_last_commit: 2d9cb4c
git_last_commit_date: 2023-04-25 10:57:21 -0400
nebbiolo1Linux (Ubuntu 22.04.2 LTS) / x86_64  OK    OK    WARNINGS  UNNEEDED, same version is already published
palomino3Windows Server 2022 Datacenter / x64  OK    OK    WARNINGS    OK  UNNEEDED, same version is already published
merida1macOS 12.6.4 Monterey / x86_64  OK    OK    WARNINGS    OK  UNNEEDED, same version is already published
Package 42/46HostnameOS / ArchINSTALLBUILDCHECKBUILD BIN
TCGAutils 1.20.4  (landing page)
Marcel Ramos
git_last_commit: 459bb80
git_last_commit_date: 2023-09-07 16:06:50 -0400
nebbiolo1Linux (Ubuntu 22.04.2 LTS) / x86_64  OK    OK    OK  UNNEEDED, same version is already published
palomino3Windows Server 2022 Datacenter / x64  OK    OK    OK    OK  UNNEEDED, same version is already published
merida1macOS 12.6.4 Monterey / x86_64  OK    OK    OK    OK  UNNEEDED, same version is already published
Package 43/46HostnameOS / ArchINSTALLBUILDCHECKBUILD BIN
terraTCGAdata 1.4.0  (landing page)
Marcel Ramos
git_last_commit: 87bfda0
git_last_commit_date: 2023-04-25 11:37:38 -0400
nebbiolo1Linux (Ubuntu 22.04.2 LTS) / x86_64  OK    OK    OK  UNNEEDED, same version is already published
palomino3Windows Server 2022 Datacenter / x64  OK    OK    OK    OK  UNNEEDED, same version is already published
merida1macOS 12.6.4 Monterey / x86_64  OK    OK    OK    OK  UNNEEDED, same version is already published
Package 44/46HostnameOS / ArchINSTALLBUILDCHECKBUILD BIN
TimiRGeN 1.10.0  (landing page)
Krutik Patel
git_last_commit: 74072d3
git_last_commit_date: 2023-04-25 11:22:28 -0400
nebbiolo1Linux (Ubuntu 22.04.2 LTS) / x86_64  OK    OK    OK  UNNEEDED, same version is already published
palomino3Windows Server 2022 Datacenter / x64  OK    OK    OK    OK  UNNEEDED, same version is already published
merida1macOS 12.6.4 Monterey / x86_64  OK    OK    OK    OK  UNNEEDED, same version is already published
Package 45/46HostnameOS / ArchINSTALLBUILDCHECKBUILD BIN
vsclust 1.2.0  (landing page)
Veit Schwaemmle
git_last_commit: 2155137
git_last_commit_date: 2023-04-25 11:40:46 -0400
nebbiolo1Linux (Ubuntu 22.04.2 LTS) / x86_64  OK    OK    WARNINGS  UNNEEDED, same version is already published
palomino3Windows Server 2022 Datacenter / x64  ERROR    OK    ERROR    OK  
merida1macOS 12.6.4 Monterey / x86_64  ERROR    OK    ERROR    OK  
Package 46/46HostnameOS / ArchINSTALLBUILDCHECKBUILD BIN
xcore 1.4.0  (landing page)
Maciej Migdał
git_last_commit: 5016b48
git_last_commit_date: 2023-04-25 11:36:25 -0400
nebbiolo1Linux (Ubuntu 22.04.2 LTS) / x86_64  OK    OK    OK  UNNEEDED, same version is already published
palomino3Windows Server 2022 Datacenter / x64  OK    OK    OK    OK  UNNEEDED, same version is already published
merida1macOS 12.6.4 Monterey / x86_64  OK    OK    OK    OK  UNNEEDED, same version is already published