Back to Multiple platform build/check report for BioC 3.12
ABCDEFGHIJKL[M]NOPQRSTUVWXYZ

Multiple platform build/check report for BioC 3.12

Results for package maser

This page was generated on 2021-02-22 12:27:50 -0500 (Mon, 22 Feb 2021).

Package 1003/1974HostnameOS / ArchINSTALLBUILDCHECKBUILD BIN
maser 1.8.0
Diogo F.T. Veiga
Snapshot Date: 2021-02-21 14:52:07 -0500 (Sun, 21 Feb 2021)
URL: https://git.bioconductor.org/packages/maser
Branch: RELEASE_3_12
Last Commit: e86964d
Last Changed Date: 2020-10-27 11:35:52 -0500 (Tue, 27 Oct 2020)
malbec1Linux (Ubuntu 18.04.5 LTS) / x86_64  OK    ERROR  skipped
nebbiolo1Linux (Ubuntu 20.04.2 LTS) / x86_64  OK    ERROR  skipped
tokay1Windows Server 2012 R2 Standard / x64  OK    ERROR  skippedskipped
merida1macOS 10.14.6 Mojave / x86_64  OK    ERROR  skippedskipped