Back to Multiple platform build/check report for BioC 3.12
ABCDEFGHIJKLMNOPQ[R]STUVWXYZ

Multiple platform build/check report for BioC 3.12

Results for RNAmodR.ML

This page was generated on 2020-11-23 12:11:22 -0500 (Mon, 23 Nov 2020).

Package 1551/1974HostnameOS / ArchINSTALLBUILDCHECKBUILD BIN
RNAmodR.ML 1.4.0
Felix G.M. Ernst
Snapshot Date: 2020-11-22 14:42:09 -0500 (Sun, 22 Nov 2020)
URL: https://git.bioconductor.org/packages/RNAmodR.ML
Branch: RELEASE_3_12
Last Commit: 7196e32
Last Changed Date: 2020-10-27 11:47:07 -0500 (Tue, 27 Oct 2020)
malbec1 Linux (Ubuntu 18.04.4 LTS) / x86_64  OK  OK  OK UNNEEDED, same version exists in internal repository
nebbiolo1 Linux (Ubuntu 20.04.1 LTS) / x86_64  OK  OK  OK 
tokay1 Windows Server 2012 R2 Standard / x64  OK  OK  OK  OK UNNEEDED, same version exists in internal repository
merida1 macOS 10.14.6 Mojave / x86_64  OK  OK  OK  OK UNNEEDED, same version exists in internal repository