Back to Multiple platform build/check report for BioC 3.19:   simplified   long
ABCDEFGHIJKL[M]NOPQRSTUVWXYZ

This page was generated on 2024-07-16 17:42 -0400 (Tue, 16 Jul 2024).

HostnameOSArch (*)R versionInstalled pkgs
nebbiolo1Linux (Ubuntu 22.04.3 LTS)x86_644.4.1 (2024-06-14) -- "Race for Your Life" 4742
palomino7Windows Server 2022 Datacenterx644.4.1 (2024-06-14 ucrt) -- "Race for Your Life" 4484
merida1macOS 12.7.4 Montereyx86_644.4.1 (2024-06-14) -- "Race for Your Life" 4513
kjohnson1macOS 13.6.6 Venturaarm644.4.1 (2024-06-14) -- "Race for Your Life" 4462
Click on any hostname to see more info about the system (e.g. compilers)      (*) as reported by 'uname -p', except on Windows and Mac OS X

Package 1229/2300HostnameOS / ArchINSTALLBUILDCHECKBUILD BIN
methInheritSim 1.26.0  (landing page)
Pascal Belleau
Snapshot Date: 2024-07-14 14:00 -0400 (Sun, 14 Jul 2024)
git_url: https://git.bioconductor.org/packages/methInheritSim
git_branch: RELEASE_3_19
git_last_commit: 8d60c74
git_last_commit_date: 2024-04-30 10:58:22 -0400 (Tue, 30 Apr 2024)
nebbiolo1Linux (Ubuntu 22.04.3 LTS) / x86_64  OK    OK    OK  UNNEEDED, same version is already published
palomino7Windows Server 2022 Datacenter / x64  OK    OK    OK    OK  
merida1macOS 12.7.4 Monterey / x86_64  OK    OK    OK    OK  UNNEEDED, same version is already published
kjohnson1macOS 13.6.6 Ventura / arm64  OK    OK    OK    OK  UNNEEDED, same version is already published


CHECK results for methInheritSim on kjohnson1

To the developers/maintainers of the methInheritSim package:
- Allow up to 24 hours (and sometimes 48 hours) for your latest push to git@git.bioconductor.org:packages/methInheritSim.git to reflect on this report. See Troubleshooting Build Report for more information.
- Use the following Renviron settings to reproduce errors and warnings.
- If 'R CMD check' started to fail recently on the Linux builder(s) over a missing dependency, add the missing dependency to 'Suggests:' in your DESCRIPTION file. See Renviron.bioc for more information.

raw results


Summary

Package: methInheritSim
Version: 1.26.0
Command: /Library/Frameworks/R.framework/Resources/bin/R CMD check --install=check:methInheritSim.install-out.txt --library=/Library/Frameworks/R.framework/Resources/library --no-vignettes --timings methInheritSim_1.26.0.tar.gz
StartedAt: 2024-07-16 00:47:32 -0400 (Tue, 16 Jul 2024)
EndedAt: 2024-07-16 00:53:08 -0400 (Tue, 16 Jul 2024)
EllapsedTime: 336.1 seconds
RetCode: 0
Status:   OK  
CheckDir: methInheritSim.Rcheck
Warnings: 0

Command output

##############################################################################
##############################################################################
###
### Running command:
###
###   /Library/Frameworks/R.framework/Resources/bin/R CMD check --install=check:methInheritSim.install-out.txt --library=/Library/Frameworks/R.framework/Resources/library --no-vignettes --timings methInheritSim_1.26.0.tar.gz
###
##############################################################################
##############################################################################


* using log directory ‘/Users/biocbuild/bbs-3.19-bioc/meat/methInheritSim.Rcheck’
* using R version 4.4.1 (2024-06-14)
* using platform: aarch64-apple-darwin20
* R was compiled by
    Apple clang version 14.0.0 (clang-1400.0.29.202)
    GNU Fortran (GCC) 12.2.0
* running under: macOS Ventura 13.6.6
* using session charset: UTF-8
* using option ‘--no-vignettes’
* checking for file ‘methInheritSim/DESCRIPTION’ ... OK
* checking extension type ... Package
* this is package ‘methInheritSim’ version ‘1.26.0’
* package encoding: UTF-8
* checking package namespace information ... OK
* checking package dependencies ... OK
* checking if this is a source package ... OK
* checking if there is a namespace ... OK
* checking for hidden files and directories ... NOTE
Found the following hidden files and directories:
  .travis.yml
These were most likely included in error. See section ‘Package
structure’ in the ‘Writing R Extensions’ manual.
* checking for portable file names ... OK
* checking for sufficient/correct file permissions ... OK
* checking whether package ‘methInheritSim’ can be installed ... OK
* checking installed package size ... OK
* checking package directory ... OK
* checking ‘build’ directory ... OK
* checking DESCRIPTION meta-information ... OK
* checking top-level files ... OK
* checking for left-over files ... OK
* checking index information ... OK
* checking package subdirectories ... OK
* checking code files for non-ASCII characters ... OK
* checking R files for syntax errors ... OK
* checking whether the package can be loaded ... OK
* checking whether the package can be loaded with stated dependencies ... OK
* checking whether the package can be unloaded cleanly ... OK
* checking whether the namespace can be loaded with stated dependencies ... OK
* checking whether the namespace can be unloaded cleanly ... OK
* checking dependencies in R code ... OK
* checking S3 generic/method consistency ... OK
* checking replacement functions ... OK
* checking foreign function calls ... OK
* checking R code for possible problems ... OK
* checking Rd files ... NOTE
checkRd: (-1) dataSimExample.Rd:85-86: Lost braces
    85 | \item \code{\link{runSim}} {for running a
       |                            ^
checkRd: (-1) methInheritSim-package.Rd:14-15: Lost braces
    14 | \item \code{\link{runSim}} { for simulating a multigeneration methylation 
       |                            ^
checkRd: (-1) samplesForChrSynthetic.Rd:59-60: Lost braces
    59 | \item \code{\link{runSim}} {for running a
       |                            ^
* checking Rd metadata ... OK
* checking Rd cross-references ... OK
* checking for missing documentation entries ... OK
* checking for code/documentation mismatches ... OK
* checking Rd \usage sections ... OK
* checking Rd contents ... OK
* checking for unstated dependencies in examples ... OK
* checking contents of ‘data’ directory ... OK
* checking data for non-ASCII characters ... OK
* checking data for ASCII and uncompressed saves ... OK
* checking files in ‘vignettes’ ... OK
* checking examples ... OK
Examples with CPU (user + system) or elapsed time > 5s
                         user system elapsed
samplesForChrSynthetic 11.493  0.109  11.605
runSim                  5.440  0.068   5.510
* checking for unstated dependencies in ‘tests’ ... OK
* checking tests ...
  Running ‘runTests.R’
 OK
* checking for unstated dependencies in vignettes ... OK
* checking package vignettes ... OK
* checking running R code from vignettes ... SKIPPED
* checking re-building of vignette outputs ... SKIPPED
* checking PDF version of manual ... OK
* DONE

Status: 2 NOTEs
See
  ‘/Users/biocbuild/bbs-3.19-bioc/meat/methInheritSim.Rcheck/00check.log’
for details.


Installation output

methInheritSim.Rcheck/00install.out

##############################################################################
##############################################################################
###
### Running command:
###
###   /Library/Frameworks/R.framework/Resources/bin/R CMD INSTALL methInheritSim
###
##############################################################################
##############################################################################


* installing to library ‘/Library/Frameworks/R.framework/Versions/4.4-arm64/Resources/library’
* installing *source* package ‘methInheritSim’ ...
** using staged installation
** R
** data
** inst
** byte-compile and prepare package for lazy loading
** help
*** installing help indices
** building package indices
** installing vignettes
** testing if installed package can be loaded from temporary location
** testing if installed package can be loaded from final location
** testing if installed package keeps a record of temporary installation path
* DONE (methInheritSim)

Tests output

methInheritSim.Rcheck/tests/runTests.Rout


R version 4.4.1 (2024-06-14) -- "Race for Your Life"
Copyright (C) 2024 The R Foundation for Statistical Computing
Platform: aarch64-apple-darwin20

R is free software and comes with ABSOLUTELY NO WARRANTY.
You are welcome to redistribute it under certain conditions.
Type 'license()' or 'licence()' for distribution details.

R is a collaborative project with many contributors.
Type 'contributors()' for more information and
'citation()' on how to cite R or R packages in publications.

Type 'demo()' for some demos, 'help()' for on-line help, or
'help.start()' for an HTML browser interface to help.
Type 'q()' to quit R.

> ## Run all tests presnt in the package
> BiocGenerics:::testPackage("methInheritSim")
Loading required package: stats4
Loading required package: BiocGenerics

Attaching package: 'BiocGenerics'

The following objects are masked from 'package:stats':

    IQR, mad, sd, var, xtabs

The following objects are masked from 'package:base':

    Filter, Find, Map, Position, Reduce, anyDuplicated, aperm, append,
    as.data.frame, basename, cbind, colnames, dirname, do.call,
    duplicated, eval, evalq, get, grep, grepl, intersect, is.unsorted,
    lapply, mapply, match, mget, order, paste, pmax, pmax.int, pmin,
    pmin.int, rank, rbind, rownames, sapply, setdiff, table, tapply,
    union, unique, unsplit, which.max, which.min

Loading required package: S4Vectors

Attaching package: 'S4Vectors'

The following object is masked from 'package:utils':

    findMatches

The following objects are masked from 'package:base':

    I, expand.grid, unname

Loading required package: IRanges
Loading required package: GenomeInfoDb
uniting...
two groups detected:
 will calculate methylation difference as the difference of
treatment (group: 1) - control (group: 0)
uniting...
two groups detected:
 will calculate methylation difference as the difference of
treatment (group: 1) - control (group: 0)
uniting...
two groups detected:
 will calculate methylation difference as the difference of
treatment (group: 1) - control (group: 0)
uniting...
two groups detected:
 will calculate methylation difference as the difference of
treatment (group: 1) - control (group: 0)
uniting...
two groups detected:
 will calculate methylation difference as the difference of
treatment (group: 1) - control (group: 0)
uniting...
two groups detected:
 will calculate methylation difference as the difference of
treatment (group: 1) - control (group: 0)
uniting...
two groups detected:
 will calculate methylation difference as the difference of
treatment (group: 1) - control (group: 0)
uniting...
two groups detected:
 will calculate methylation difference as the difference of
treatment (group: 1) - control (group: 0)
uniting...
two groups detected:
 will calculate methylation difference as the difference of
treatment (group: 1) - control (group: 0)
uniting...
two groups detected:
 will calculate methylation difference as the difference of
treatment (group: 1) - control (group: 0)
uniting...
two groups detected:
 will calculate methylation difference as the difference of
treatment (group: 1) - control (group: 0)


RUNIT TEST PROTOCOL -- Tue Jul 16 00:52:57 2024 
*********************************************** 
Number of test functions: 104 
Number of errors: 0 
Number of failures: 0 

 
1 Test Suite : 
methInheritSim RUnit Tests - 104 test functions, 0 errors, 0 failures
Number of test functions: 104 
Number of errors: 0 
Number of failures: 0 
> 
> proc.time()
   user  system elapsed 
 27.919   0.728  28.654 

Example timings

methInheritSim.Rcheck/methInheritSim-Ex.timings

nameusersystemelapsed
calculateNbDiffCase0.0020.0010.002
createSampleID0.0010.0010.003
dataSimExample0.0680.0110.079
estBetaAlpha000
estBetaBeta0.0010.0000.001
fixSeed0.0000.0010.001
getDiffCase000
getDiffMeth0.0830.0140.098
getSim0.4930.0440.538
getSyntheticChr0.1920.0270.220
runOnEachSynCHR1.9630.0642.030
runSim5.4400.0685.510
samplesForChrSynthetic11.493 0.10911.605
saveData000
simEachGeneration0.4910.0100.501
simInheritance0.7210.0050.725
testIfAlreadyDone0.0010.0000.001
validateRunSimDoubleParameters0.0000.0000.001
validateRunSimIntegerParameters0.0010.0000.001
validateRunSimLogicalParameters0.0460.0030.048
validateRunSimOtherParameters0.0460.0020.048
validateRunSimParameters0.0460.0020.048