Back to Multiple platform build/check report for BioC 3.18:   simplified   long
ABCDEFGHIJKL[M]NOPQRSTUVWXYZ

This page was generated on 2024-02-21 11:35:26 -0500 (Wed, 21 Feb 2024).

HostnameOSArch (*)R versionInstalled pkgs
nebbiolo2Linux (Ubuntu 22.04.3 LTS)x86_644.3.2 Patched (2023-11-13 r85521) -- "Eye Holes" 4691
palomino4Windows Server 2022 Datacenterx644.3.2 (2023-10-31 ucrt) -- "Eye Holes" 4444
lconwaymacOS 12.7.1 Montereyx86_644.3.2 Patched (2023-11-01 r85457) -- "Eye Holes" 4465
Click on any hostname to see more info about the system (e.g. compilers)      (*) as reported by 'uname -p', except on Windows and Mac OS X

All results for package motifmatchr


To the developers/maintainers of the motifmatchr package:
- Allow up to 24 hours (and sometimes 48 hours) for your latest push to git@git.bioconductor.org:packages/motifmatchr.git to reflect on this report. See Troubleshooting Build Report for more information.
- Use the following Renviron settings to reproduce errors and warnings.
- If 'R CMD check' started to fail recently on the Linux builder(s) over a missing dependency, add the missing dependency to 'Suggests:' in your DESCRIPTION file. See Renviron.bioc for more information.

raw results

Package 1313/2266HostnameOS / ArchINSTALLBUILDCHECKBUILD BIN
motifmatchr 1.24.0  (landing page)
Alicia Schep
Snapshot Date: 2024-02-20 14:05:06 -0500 (Tue, 20 Feb 2024)
git_url: https://git.bioconductor.org/packages/motifmatchr
git_branch: RELEASE_3_18
git_last_commit: 4051143
git_last_commit_date: 2023-10-24 10:57:39 -0500 (Tue, 24 Oct 2023)
nebbiolo2Linux (Ubuntu 22.04.3 LTS) / x86_64  OK    OK    OK  UNNEEDED, same version is already published
palomino4Windows Server 2022 Datacenter / x64  OK    OK    OK    OK  UNNEEDED, same version is already published
lconwaymacOS 12.7.1 Monterey / x86_64  OK    OK    OK    OK  UNNEEDED, same version is already published
kjohnson1macOS 13.6.1 Ventura / arm64see weekly results here

Results for Bioconductor software packages that depend directly on package motifmatchr

QUICK STATSOS / ArchINSTALLBUILDCHECKBUILD BIN
nebbiolo2Linux (Ubuntu 22.04.3 LTS) / x86_64
007
007
0106
palomino4Windows Server 2022 Datacenter / x64
007
007
0007
007
lconwaymacOS 12.7.1 Monterey / x86_64
007
007
0007
007
Package 1/7HostnameOS / ArchINSTALLBUILDCHECKBUILD BIN
ATACCoGAPS 1.4.0  (landing page)
Rossin Erbe
git_last_commit: 1e97480
git_last_commit_date: 2023-10-24 11:42:56 -0500
nebbiolo2Linux (Ubuntu 22.04.3 LTS) / x86_64  OK    OK    OK  UNNEEDED, same version is already published
palomino4Windows Server 2022 Datacenter / x64  OK    OK    OK    OK  UNNEEDED, same version is already published
lconwaymacOS 12.7.1 Monterey / x86_64  OK    OK    OK    OK  UNNEEDED, same version is already published
kjohnson1macOS 13.6.1 Ventura / arm64see weekly results here
Package 2/7HostnameOS / ArchINSTALLBUILDCHECKBUILD BIN
ATACseqTFEA 1.4.0  (landing page)
Jianhong Ou
git_last_commit: a8b0929
git_last_commit_date: 2023-10-24 11:43:31 -0500
nebbiolo2Linux (Ubuntu 22.04.3 LTS) / x86_64  OK    OK    OK  UNNEEDED, same version is already published
palomino4Windows Server 2022 Datacenter / x64  OK    OK    OK    OK  UNNEEDED, same version is already published
lconwaymacOS 12.7.1 Monterey / x86_64  OK    OK    OK    OK  UNNEEDED, same version is already published
kjohnson1macOS 13.6.1 Ventura / arm64see weekly results here
Package 3/7HostnameOS / ArchINSTALLBUILDCHECKBUILD BIN
enhancerHomologSearch 1.8.3  (landing page)
Jianhong Ou
git_last_commit: f2f7a74
git_last_commit_date: 2024-02-06 11:45:52 -0500
nebbiolo2Linux (Ubuntu 22.04.3 LTS) / x86_64  OK    OK    OK  UNNEEDED, same version is already published
palomino4Windows Server 2022 Datacenter / x64  OK    OK    OK    OK  UNNEEDED, same version is already published
lconwaymacOS 12.7.1 Monterey / x86_64  OK    OK    OK    OK  UNNEEDED, same version is already published
kjohnson1macOS 13.6.1 Ventura / arm64see weekly results here
Package 4/7HostnameOS / ArchINSTALLBUILDCHECKBUILD BIN
enrichTF 1.18.0  (landing page)
Zheng Wei
git_last_commit: fab8b47
git_last_commit_date: 2023-10-24 11:13:36 -0500
nebbiolo2Linux (Ubuntu 22.04.3 LTS) / x86_64  OK    OK    ERROR  
palomino4Windows Server 2022 Datacenter / x64  OK    OK    OK    OK  UNNEEDED, same version is already published
lconwaymacOS 12.7.1 Monterey / x86_64  OK    OK    OK    OK  UNNEEDED, same version is already published
kjohnson1macOS 13.6.1 Ventura / arm64see weekly results here
Package 5/7HostnameOS / ArchINSTALLBUILDCHECKBUILD BIN
esATAC 1.24.0  (landing page)
Zheng Wei
git_last_commit: fc5274b
git_last_commit_date: 2023-10-24 11:01:27 -0500
nebbiolo2Linux (Ubuntu 22.04.3 LTS) / x86_64  OK    OK    OK  UNNEEDED, same version is already published
palomino4Windows Server 2022 Datacenter / x64  OK    OK    OK    OK  UNNEEDED, same version is already published
lconwaymacOS 12.7.1 Monterey / x86_64  OK    OK    OK    OK  UNNEEDED, same version is already published
kjohnson1macOS 13.6.1 Ventura / arm64see weekly results here
Package 6/7HostnameOS / ArchINSTALLBUILDCHECKBUILD BIN
pageRank 1.12.0  (landing page)
Hongxu Ding
git_last_commit: 0fb8df7
git_last_commit_date: 2023-10-24 11:25:46 -0500
nebbiolo2Linux (Ubuntu 22.04.3 LTS) / x86_64  OK    OK    OK  UNNEEDED, same version is already published
palomino4Windows Server 2022 Datacenter / x64  OK    OK    OK    OK  UNNEEDED, same version is already published
lconwaymacOS 12.7.1 Monterey / x86_64  OK    OK    OK    OK  UNNEEDED, same version is already published
kjohnson1macOS 13.6.1 Ventura / arm64see weekly results here
Package 7/7HostnameOS / ArchINSTALLBUILDCHECKBUILD BIN
spatzie 1.8.0  (landing page)
Jennifer Hammelman
git_last_commit: a9dbc03
git_last_commit_date: 2023-10-24 11:35:19 -0500
nebbiolo2Linux (Ubuntu 22.04.3 LTS) / x86_64  OK    OK    OK  UNNEEDED, same version is already published
palomino4Windows Server 2022 Datacenter / x64  OK    OK    OK    OK  UNNEEDED, same version is already published
lconwaymacOS 12.7.1 Monterey / x86_64  OK    OK    OK    OK  UNNEEDED, same version is already published
kjohnson1macOS 13.6.1 Ventura / arm64see weekly results here