Back to Multiple platform build/check report for BioC 3.12
ABCDEFGHIJKLMNOPQRSTUV[W]XYZ

Multiple platform build/check report for BioC 3.12

All results for package wiggleplotr

This page was generated on 2021-04-22 12:26:23 -0400 (Thu, 22 Apr 2021).

Package 1955/1974HostnameOS / ArchINSTALLBUILDCHECKBUILD BIN
wiggleplotr 1.14.0  (landing page)
Kaur Alasoo
Snapshot Date: 2021-04-21 14:50:06 -0400 (Wed, 21 Apr 2021)
URL: https://git.bioconductor.org/packages/wiggleplotr
Branch: RELEASE_3_12
Last Commit: 9d06b5d
Last Changed Date: 2020-10-27 11:22:55 -0400 (Tue, 27 Oct 2020)
malbec1Linux (Ubuntu 18.04.5 LTS) / x86_64  OK    OK    OK  UNNEEDED, same version exists in internal repository
tokay1Windows Server 2012 R2 Standard / x64  OK    OK    OK    OK  UNNEEDED, same version exists in internal repository
merida1macOS 10.14.6 Mojave / x86_64  OK    OK    OK    OK  UNNEEDED, same version exists in internal repository