Back to Multiple platform build/check report for BioC 3.18:   simplified   long
ABCDEFGHIJKLMNOPQ[R]STUVWXYZ

This page was generated on 2024-02-27 11:35:16 -0500 (Tue, 27 Feb 2024).

HostnameOSArch (*)R versionInstalled pkgs
nebbiolo2Linux (Ubuntu 22.04.3 LTS)x86_644.3.2 Patched (2023-11-13 r85521) -- "Eye Holes" 4691
palomino4Windows Server 2022 Datacenterx644.3.2 (2023-10-31 ucrt) -- "Eye Holes" 4444
lconwaymacOS 12.7.1 Montereyx86_644.3.2 Patched (2023-11-01 r85457) -- "Eye Holes" 4465
Click on any hostname to see more info about the system (e.g. compilers)      (*) as reported by 'uname -p', except on Windows and Mac OS X

All results for package regioneR


To the developers/maintainers of the regioneR package:
- Allow up to 24 hours (and sometimes 48 hours) for your latest push to git@git.bioconductor.org:packages/regioneR.git to reflect on this report. See Troubleshooting Build Report for more information.
- Use the following Renviron settings to reproduce errors and warnings.
- If 'R CMD check' started to fail recently on the Linux builder(s) over a missing dependency, add the missing dependency to 'Suggests:' in your DESCRIPTION file. See Renviron.bioc for more information.

raw results

Package 1711/2266HostnameOS / ArchINSTALLBUILDCHECKBUILD BIN
regioneR 1.34.0  (landing page)
Bernat Gel
Snapshot Date: 2024-02-26 14:53:20 -0500 (Mon, 26 Feb 2024)
git_url: https://git.bioconductor.org/packages/regioneR
git_branch: RELEASE_3_18
git_last_commit: 769313a
git_last_commit_date: 2023-10-24 10:42:41 -0500 (Tue, 24 Oct 2023)
nebbiolo2Linux (Ubuntu 22.04.3 LTS) / x86_64  OK    OK    OK  UNNEEDED, same version is already published
palomino4Windows Server 2022 Datacenter / x64  OK    OK    OK    OK  UNNEEDED, same version is already published
lconwaymacOS 12.7.1 Monterey / x86_64  OK    OK    OK    OK  UNNEEDED, same version is already published
kjohnson1macOS 13.6.1 Ventura / arm64see weekly results here

Results for Bioconductor software packages that depend directly on package regioneR

QUICK STATSOS / ArchINSTALLBUILDCHECKBUILD BIN
nebbiolo2Linux (Ubuntu 22.04.3 LTS) / x86_64
0010
019
0207
palomino4Windows Server 2022 Datacenter / x64
019
019
0108
008
lconwaymacOS 12.7.1 Monterey / x86_64
019
019
0108
009
Package 1/10HostnameOS / ArchINSTALLBUILDCHECKBUILD BIN
annotatr 1.28.0  (landing page)
Raymond G. Cavalcante
git_last_commit: 8a19608
git_last_commit_date: 2023-10-24 10:53:43 -0500
nebbiolo2Linux (Ubuntu 22.04.3 LTS) / x86_64  OK    OK    OK  UNNEEDED, same version is already published
palomino4Windows Server 2022 Datacenter / x64  OK    OK    OK    OK  UNNEEDED, same version is already published
lconwaymacOS 12.7.1 Monterey / x86_64  OK    OK    OK    OK  UNNEEDED, same version is already published
kjohnson1macOS 13.6.1 Ventura / arm64see weekly results here
Package 2/10HostnameOS / ArchINSTALLBUILDCHECKBUILD BIN
ChIPpeakAnno 3.36.1  (landing page)
Jianhong Ou
git_last_commit: 105ec60
git_last_commit_date: 2024-02-15 15:06:09 -0500
nebbiolo2Linux (Ubuntu 22.04.3 LTS) / x86_64  OK    OK    OK  UNNEEDED, same version is already published
palomino4Windows Server 2022 Datacenter / x64  OK    OK    OK    OK  UNNEEDED, same version is already published
lconwaymacOS 12.7.1 Monterey / x86_64  OK    OK    OK    OK  UNNEEDED, same version is already published
kjohnson1macOS 13.6.1 Ventura / arm64see weekly results here
Package 3/10HostnameOS / ArchINSTALLBUILDCHECKBUILD BIN
CNVfilteR 1.16.0  (landing page)
Jose Marcos Moreno-Cabrera
git_last_commit: b3a6913
git_last_commit_date: 2023-10-24 11:17:02 -0500
nebbiolo2Linux (Ubuntu 22.04.3 LTS) / x86_64  OK    OK    OK  UNNEEDED, same version is already published
palomino4Windows Server 2022 Datacenter / x64  OK    OK    OK    OK  UNNEEDED, same version is already published
lconwaymacOS 12.7.1 Monterey / x86_64  OK    OK    OK    OK  UNNEEDED, same version is already published
kjohnson1macOS 13.6.1 Ventura / arm64see weekly results here
Package 4/10HostnameOS / ArchINSTALLBUILDCHECKBUILD BIN
CopyNumberPlots 1.18.0  (landing page)
Bernat Gel
git_last_commit: 88ca611
git_last_commit_date: 2023-10-24 11:13:15 -0500
nebbiolo2Linux (Ubuntu 22.04.3 LTS) / x86_64  OK    OK    OK  UNNEEDED, same version is already published
palomino4Windows Server 2022 Datacenter / x64  OK    OK    OK    OK  UNNEEDED, same version is already published
lconwaymacOS 12.7.1 Monterey / x86_64  OK    OK    OK    OK  UNNEEDED, same version is already published
kjohnson1macOS 13.6.1 Ventura / arm64see weekly results here
Package 5/10HostnameOS / ArchINSTALLBUILDCHECKBUILD BIN
karyoploteR 1.28.0  (landing page)
Bernat Gel
git_last_commit: 20fa00f
git_last_commit_date: 2023-10-24 10:55:15 -0500
nebbiolo2Linux (Ubuntu 22.04.3 LTS) / x86_64  OK    OK    OK  UNNEEDED, same version is already published
palomino4Windows Server 2022 Datacenter / x64  OK    OK    OK    OK  UNNEEDED, same version is already published
lconwaymacOS 12.7.1 Monterey / x86_64  OK    OK    OK    OK  UNNEEDED, same version is already published
kjohnson1macOS 13.6.1 Ventura / arm64see weekly results here
Package 6/10HostnameOS / ArchINSTALLBUILDCHECKBUILD BIN
regioneReloaded 1.4.0  (landing page)
Roberto Malinverni
git_last_commit: e177e0f
git_last_commit_date: 2023-10-24 11:43:44 -0500
nebbiolo2Linux (Ubuntu 22.04.3 LTS) / x86_64  OK    OK    OK  UNNEEDED, same version is already published
palomino4Windows Server 2022 Datacenter / x64  OK    OK    OK    OK  UNNEEDED, same version is already published
lconwaymacOS 12.7.1 Monterey / x86_64  OK    OK    OK    OK  UNNEEDED, same version is already published
kjohnson1macOS 13.6.1 Ventura / arm64see weekly results here
Package 7/10HostnameOS / ArchINSTALLBUILDCHECKBUILD BIN
RgnTX 1.4.0  (landing page)
Yue Wang
git_last_commit: 0a29f5f
git_last_commit_date: 2023-10-24 11:42:27 -0500
nebbiolo2Linux (Ubuntu 22.04.3 LTS) / x86_64  OK    OK    OK  UNNEEDED, same version is already published
palomino4Windows Server 2022 Datacenter / x64  OK    OK    OK    OK  UNNEEDED, same version is already published
lconwaymacOS 12.7.1 Monterey / x86_64  OK    OK    OK    OK  UNNEEDED, same version is already published
kjohnson1macOS 13.6.1 Ventura / arm64see weekly results here
Package 8/10HostnameOS / ArchINSTALLBUILDCHECKBUILD BIN
RIPAT 1.12.0  (landing page)
Min-Jeong Baek
git_last_commit: ed95547
git_last_commit_date: 2023-10-24 11:24:55 -0500
nebbiolo2Linux (Ubuntu 22.04.3 LTS) / x86_64  OK    OK    ERROR  
palomino4Windows Server 2022 Datacenter / x64  OK    OK    OK    OK  UNNEEDED, same version is already published
lconwaymacOS 12.7.1 Monterey / x86_64  OK    OK    OK    OK  UNNEEDED, same version is already published
kjohnson1macOS 13.6.1 Ventura / arm64see weekly results here
Package 9/10HostnameOS / ArchINSTALLBUILDCHECKBUILD BIN
RLSeq 1.8.0  (landing page)
Henry Miller
git_last_commit: 299fafc
git_last_commit_date: 2023-10-24 11:38:24 -0500
nebbiolo2Linux (Ubuntu 22.04.3 LTS) / x86_64  OK    ERROR  skipped
palomino4Windows Server 2022 Datacenter / x64  ERROR    ERROR  skippedskipped
lconwaymacOS 12.7.1 Monterey / x86_64  ERROR    ERROR  skippedskipped
kjohnson1macOS 13.6.1 Ventura / arm64see weekly results here
Package 10/10HostnameOS / ArchINSTALLBUILDCHECKBUILD BIN
UMI4Cats 1.12.0  (landing page)
Mireia Ramos-Rodriguez
git_last_commit: df941ac
git_last_commit_date: 2023-10-24 11:24:33 -0500
nebbiolo2Linux (Ubuntu 22.04.3 LTS) / x86_64  OK    OK    ERROR  
palomino4Windows Server 2022 Datacenter / x64  OK    OK    ERROR    NA  
lconwaymacOS 12.7.1 Monterey / x86_64  OK    OK    ERROR    OK  
kjohnson1macOS 13.6.1 Ventura / arm64see weekly results here