Back to Multiple platform build/check report for BioC 3.19:   simplified   long
[A]BCDEFGHIJKLMNOPQRSTUVWXYZ

This page was generated on 2024-07-24 09:01 -0400 (Wed, 24 Jul 2024).

HostnameOSArch (*)R versionInstalled pkgs
nebbiolo1Linux (Ubuntu 22.04.3 LTS)x86_644.4.1 (2024-06-14) -- "Race for Your Life" 4747
palomino7Windows Server 2022 Datacenterx644.4.1 (2024-06-14 ucrt) -- "Race for Your Life" 4489
merida1macOS 12.7.5 Montereyx86_644.4.1 (2024-06-14) -- "Race for Your Life" 4518
kjohnson1macOS 13.6.6 Venturaarm644.4.1 (2024-06-14) -- "Race for Your Life" 4467
Click on any hostname to see more info about the system (e.g. compilers)      (*) as reported by 'uname -p', except on Windows and Mac OS X

All results for package ALDEx2


To the developers/maintainers of the ALDEx2 package:
- Allow up to 24 hours (and sometimes 48 hours) for your latest push to git@git.bioconductor.org:packages/ALDEx2.git to reflect on this report. See Troubleshooting Build Report for more information.
- Use the following Renviron settings to reproduce errors and warnings.
- If 'R CMD check' started to fail recently on the Linux builder(s) over a missing dependency, add the missing dependency to 'Suggests:' in your DESCRIPTION file. See Renviron.bioc for more information.

raw results

Package 52/2300HostnameOS / ArchINSTALLBUILDCHECKBUILD BIN
ALDEx2 1.36.0  (landing page)
Greg Gloor
Snapshot Date: 2024-07-21 14:00 -0400 (Sun, 21 Jul 2024)
git_url: https://git.bioconductor.org/packages/ALDEx2
git_branch: RELEASE_3_19
git_last_commit: c7a4c4b
git_last_commit_date: 2024-04-30 10:39:09 -0400 (Tue, 30 Apr 2024)
nebbiolo1Linux (Ubuntu 22.04.3 LTS) / x86_64  OK    OK    OK  UNNEEDED, same version is already published
palomino7Windows Server 2022 Datacenter / x64  OK    OK    OK    OK  UNNEEDED, same version is already published
merida1macOS 12.7.5 Monterey / x86_64  OK    OK    OK    OK  UNNEEDED, same version is already published
kjohnson1macOS 13.6.6 Ventura / arm64  OK    OK    OK    OK  UNNEEDED, same version is already published



Results for Bioconductor software packages that depend directly on package ALDEx2

QUICK STATSOS / ArchINSTALLBUILDCHECKBUILD BIN
nebbiolo1Linux (Ubuntu 22.04.3 LTS) / x86_64
021
021
0001
palomino7Windows Server 2022 Datacenter / x64
003
003
0102
003
merida1macOS 12.7.5 Monterey / x86_64
003
102
0101
002
kjohnson1macOS 13.6.6 Ventura / arm64
003
003
0102
003
Package 1/3HostnameOS / ArchINSTALLBUILDCHECKBUILD BIN
benchdamic 1.10.0  (landing page)
Matteo Calgaro
git_last_commit: 8e9ad07
git_last_commit_date: 2024-04-30 11:38:25 -0400
nebbiolo1Linux (Ubuntu 22.04.3 LTS) / x86_64  ERROR    ERROR  skipped
palomino7Windows Server 2022 Datacenter / x64  OK    OK    OK    OK  UNNEEDED, same version is already published
merida1macOS 12.7.5 Monterey / x86_64  OK    TIMEOUT  skippedskipped
kjohnson1macOS 13.6.6 Ventura / arm64  OK    OK    OK    OK  UNNEEDED, same version is already published
Package 2/3HostnameOS / ArchINSTALLBUILDCHECKBUILD BIN
microbiomeMarker 1.10.0  (landing page)
Yang Cao
git_last_commit: be09871
git_last_commit_date: 2024-04-30 11:37:55 -0400
nebbiolo1Linux (Ubuntu 22.04.3 LTS) / x86_64  ERROR    ERROR  skipped
palomino7Windows Server 2022 Datacenter / x64  OK    OK    ERROR    OK  
merida1macOS 12.7.5 Monterey / x86_64  OK    OK    ERROR    OK  
kjohnson1macOS 13.6.6 Ventura / arm64  OK    OK    ERROR    OK  
Package 3/3HostnameOS / ArchINSTALLBUILDCHECKBUILD BIN
omicplotR 1.24.0  (landing page)
Daniel Giguere
git_last_commit: a5374bb
git_last_commit_date: 2024-04-30 11:03:46 -0400
nebbiolo1Linux (Ubuntu 22.04.3 LTS) / x86_64  OK    OK    OK  UNNEEDED, same version is already published
palomino7Windows Server 2022 Datacenter / x64  OK    OK    OK    OK  UNNEEDED, same version is already published
merida1macOS 12.7.5 Monterey / x86_64  OK    OK    OK    OK  UNNEEDED, same version is already published
kjohnson1macOS 13.6.6 Ventura / arm64  OK    OK    OK    OK  UNNEEDED, same version is already published