Back to Multiple platform build/check report for BioC 3.19:   simplified   long
ABCDE[F]GHIJKLMNOPQRSTUVWXYZ

This page was generated on 2024-07-12 17:42 -0400 (Fri, 12 Jul 2024).

HostnameOSArch (*)R versionInstalled pkgs
nebbiolo1Linux (Ubuntu 22.04.3 LTS)x86_644.4.1 (2024-06-14) -- "Race for Your Life" 4741
palomino7Windows Server 2022 Datacenterx644.4.1 (2024-06-14 ucrt) -- "Race for Your Life" 4483
merida1macOS 12.7.4 Montereyx86_644.4.1 (2024-06-14) -- "Race for Your Life" 4512
kjohnson1macOS 13.6.6 Venturaarm644.4.1 (2024-06-14) -- "Race for Your Life" 4461
Click on any hostname to see more info about the system (e.g. compilers)      (*) as reported by 'uname -p', except on Windows and Mac OS X

Package 728/2300HostnameOS / ArchINSTALLBUILDCHECKBUILD BIN
FLAMES 1.10.0  (landing page)
Changqing Wang
Snapshot Date: 2024-07-10 14:00 -0400 (Wed, 10 Jul 2024)
git_url: https://git.bioconductor.org/packages/FLAMES
git_branch: RELEASE_3_19
git_last_commit: bd149f9
git_last_commit_date: 2024-04-30 11:35:54 -0400 (Tue, 30 Apr 2024)
nebbiolo1Linux (Ubuntu 22.04.3 LTS) / x86_64  OK    OK    OK  UNNEEDED, same version is already published
palomino7Windows Server 2022 Datacenter / x64... NOT SUPPORTED ...
merida1macOS 12.7.4 Monterey / x86_64  OK    OK    OK    OK  UNNEEDED, same version is already published
kjohnson1macOS 13.6.6 Ventura / arm64  ERROR    ERROR  skippedskipped


BUILD results for FLAMES on kjohnson1

To the developers/maintainers of the FLAMES package:
- Allow up to 24 hours (and sometimes 48 hours) for your latest push to git@git.bioconductor.org:packages/FLAMES.git to reflect on this report. See Troubleshooting Build Report for more information.
- Use the following Renviron settings to reproduce errors and warnings.
- If 'R CMD check' started to fail recently on the Linux builder(s) over a missing dependency, add the missing dependency to 'Suggests:' in your DESCRIPTION file. See Renviron.bioc for more information.

raw results


Summary

Package: FLAMES
Version: 1.10.0
Command: /Library/Frameworks/R.framework/Resources/bin/R CMD build --keep-empty-dirs --no-resave-data FLAMES
StartedAt: 2024-07-10 23:47:20 -0400 (Wed, 10 Jul 2024)
EndedAt: 2024-07-10 23:48:42 -0400 (Wed, 10 Jul 2024)
EllapsedTime: 82.1 seconds
RetCode: 1
Status:   ERROR  
PackageFile: None
PackageFileSize: NA

Command output

##############################################################################
##############################################################################
###
### Running command:
###
###   /Library/Frameworks/R.framework/Resources/bin/R CMD build --keep-empty-dirs --no-resave-data FLAMES
###
##############################################################################
##############################################################################


* checking for file ‘FLAMES/DESCRIPTION’ ... OK
* preparing ‘FLAMES’:
* checking DESCRIPTION meta-information ... OK
* cleaning src
* installing the package to build vignettes
      -----------------------------------
* installing *source* package ‘FLAMES’ ...
** using non-staged installation via StagedInstall field
** libs
using C++ compiler: ‘Apple clang version 15.0.0 (clang-1500.0.40.1)’
using C++17
using SDK: ‘MacOSX11.3.sdk’
clang++ -arch arm64 -std=gnu++17 -I"/Library/Frameworks/R.framework/Resources/include" -DNDEBUG -pthread -D_FILE_OFFSET_BITS=64 -I'/Library/Frameworks/R.framework/Versions/4.4-arm64/Resources/library/Rcpp/include' -I'/Library/Frameworks/R.framework/Versions/4.4-arm64/Resources/library/Rhtslib/include' -I'/Library/Frameworks/R.framework/Versions/4.4-arm64/Resources/library/zlibbioc/include' -I'/Library/Frameworks/R.framework/Versions/4.4-arm64/Resources/library/testthat/include' -I/opt/R/arm64/include    -fPIC  -falign-functions=64 -Wall -g -O2   -c RcppExports.cpp -o RcppExports.o
clang++ -arch arm64 -std=gnu++17 -I"/Library/Frameworks/R.framework/Resources/include" -DNDEBUG -pthread -D_FILE_OFFSET_BITS=64 -I'/Library/Frameworks/R.framework/Versions/4.4-arm64/Resources/library/Rcpp/include' -I'/Library/Frameworks/R.framework/Versions/4.4-arm64/Resources/library/Rhtslib/include' -I'/Library/Frameworks/R.framework/Versions/4.4-arm64/Resources/library/zlibbioc/include' -I'/Library/Frameworks/R.framework/Versions/4.4-arm64/Resources/library/testthat/include' -I/opt/R/arm64/include    -fPIC  -falign-functions=64 -Wall -g -O2   -c RcppFunctions.cpp -o RcppFunctions.o
clang++ -arch arm64 -std=gnu++17 -I"/Library/Frameworks/R.framework/Resources/include" -DNDEBUG -pthread -D_FILE_OFFSET_BITS=64 -I'/Library/Frameworks/R.framework/Versions/4.4-arm64/Resources/library/Rcpp/include' -I'/Library/Frameworks/R.framework/Versions/4.4-arm64/Resources/library/Rhtslib/include' -I'/Library/Frameworks/R.framework/Versions/4.4-arm64/Resources/library/zlibbioc/include' -I'/Library/Frameworks/R.framework/Versions/4.4-arm64/Resources/library/testthat/include' -I/opt/R/arm64/include    -fPIC  -falign-functions=64 -Wall -g -O2   -c classes/BamRecord.cpp -o classes/BamRecord.o
clang++ -arch arm64 -std=gnu++17 -I"/Library/Frameworks/R.framework/Resources/include" -DNDEBUG -pthread -D_FILE_OFFSET_BITS=64 -I'/Library/Frameworks/R.framework/Versions/4.4-arm64/Resources/library/Rcpp/include' -I'/Library/Frameworks/R.framework/Versions/4.4-arm64/Resources/library/Rhtslib/include' -I'/Library/Frameworks/R.framework/Versions/4.4-arm64/Resources/library/zlibbioc/include' -I'/Library/Frameworks/R.framework/Versions/4.4-arm64/Resources/library/testthat/include' -I/opt/R/arm64/include    -fPIC  -falign-functions=64 -Wall -g -O2   -c classes/GFFRecord.cpp -o classes/GFFRecord.o
clang++ -arch arm64 -std=gnu++17 -I"/Library/Frameworks/R.framework/Resources/include" -DNDEBUG -pthread -D_FILE_OFFSET_BITS=64 -I'/Library/Frameworks/R.framework/Versions/4.4-arm64/Resources/library/Rcpp/include' -I'/Library/Frameworks/R.framework/Versions/4.4-arm64/Resources/library/Rhtslib/include' -I'/Library/Frameworks/R.framework/Versions/4.4-arm64/Resources/library/zlibbioc/include' -I'/Library/Frameworks/R.framework/Versions/4.4-arm64/Resources/library/testthat/include' -I/opt/R/arm64/include    -fPIC  -falign-functions=64 -Wall -g -O2   -c classes/GeneAnnotationParser.cpp -o classes/GeneAnnotationParser.o
clang++ -arch arm64 -std=gnu++17 -I"/Library/Frameworks/R.framework/Resources/include" -DNDEBUG -pthread -D_FILE_OFFSET_BITS=64 -I'/Library/Frameworks/R.framework/Versions/4.4-arm64/Resources/library/Rcpp/include' -I'/Library/Frameworks/R.framework/Versions/4.4-arm64/Resources/library/Rhtslib/include' -I'/Library/Frameworks/R.framework/Versions/4.4-arm64/Resources/library/zlibbioc/include' -I'/Library/Frameworks/R.framework/Versions/4.4-arm64/Resources/library/testthat/include' -I/opt/R/arm64/include    -fPIC  -falign-functions=64 -Wall -g -O2   -c classes/Isoforms.cpp -o classes/Isoforms.o
clang++ -arch arm64 -std=gnu++17 -I"/Library/Frameworks/R.framework/Resources/include" -DNDEBUG -pthread -D_FILE_OFFSET_BITS=64 -I'/Library/Frameworks/R.framework/Versions/4.4-arm64/Resources/library/Rcpp/include' -I'/Library/Frameworks/R.framework/Versions/4.4-arm64/Resources/library/Rhtslib/include' -I'/Library/Frameworks/R.framework/Versions/4.4-arm64/Resources/library/zlibbioc/include' -I'/Library/Frameworks/R.framework/Versions/4.4-arm64/Resources/library/testthat/include' -I/opt/R/arm64/include    -fPIC  -falign-functions=64 -Wall -g -O2   -c classes/junctions.cpp -o classes/junctions.o
clang++ -arch arm64 -std=gnu++17 -I"/Library/Frameworks/R.framework/Resources/include" -DNDEBUG -pthread -D_FILE_OFFSET_BITS=64 -I'/Library/Frameworks/R.framework/Versions/4.4-arm64/Resources/library/Rcpp/include' -I'/Library/Frameworks/R.framework/Versions/4.4-arm64/Resources/library/Rhtslib/include' -I'/Library/Frameworks/R.framework/Versions/4.4-arm64/Resources/library/zlibbioc/include' -I'/Library/Frameworks/R.framework/Versions/4.4-arm64/Resources/library/testthat/include' -I/opt/R/arm64/include    -fPIC  -falign-functions=64 -Wall -g -O2   -c main-functions/find_isoform.cpp -o main-functions/find_isoform.o
clang++ -arch arm64 -std=gnu++17 -I"/Library/Frameworks/R.framework/Resources/include" -DNDEBUG -pthread -D_FILE_OFFSET_BITS=64 -I'/Library/Frameworks/R.framework/Versions/4.4-arm64/Resources/library/Rcpp/include' -I'/Library/Frameworks/R.framework/Versions/4.4-arm64/Resources/library/Rhtslib/include' -I'/Library/Frameworks/R.framework/Versions/4.4-arm64/Resources/library/zlibbioc/include' -I'/Library/Frameworks/R.framework/Versions/4.4-arm64/Resources/library/testthat/include' -I/opt/R/arm64/include    -fPIC  -falign-functions=64 -Wall -g -O2   -c main-functions/flexiplex.cpp -o main-functions/flexiplex.o
clang++ -arch arm64 -std=gnu++17 -I"/Library/Frameworks/R.framework/Resources/include" -DNDEBUG -pthread -D_FILE_OFFSET_BITS=64 -I'/Library/Frameworks/R.framework/Versions/4.4-arm64/Resources/library/Rcpp/include' -I'/Library/Frameworks/R.framework/Versions/4.4-arm64/Resources/library/Rhtslib/include' -I'/Library/Frameworks/R.framework/Versions/4.4-arm64/Resources/library/zlibbioc/include' -I'/Library/Frameworks/R.framework/Versions/4.4-arm64/Resources/library/testthat/include' -I/opt/R/arm64/include    -fPIC  -falign-functions=64 -Wall -g -O2   -c main-functions/get_transcript_seq.cpp -o main-functions/get_transcript_seq.o
clang++ -arch arm64 -std=gnu++17 -I"/Library/Frameworks/R.framework/Resources/include" -DNDEBUG -pthread -D_FILE_OFFSET_BITS=64 -I'/Library/Frameworks/R.framework/Versions/4.4-arm64/Resources/library/Rcpp/include' -I'/Library/Frameworks/R.framework/Versions/4.4-arm64/Resources/library/Rhtslib/include' -I'/Library/Frameworks/R.framework/Versions/4.4-arm64/Resources/library/zlibbioc/include' -I'/Library/Frameworks/R.framework/Versions/4.4-arm64/Resources/library/testthat/include' -I/opt/R/arm64/include    -fPIC  -falign-functions=64 -Wall -g -O2   -c main-functions/group_bam2isoform.cpp -o main-functions/group_bam2isoform.o
clang++ -arch arm64 -std=gnu++17 -I"/Library/Frameworks/R.framework/Resources/include" -DNDEBUG -pthread -D_FILE_OFFSET_BITS=64 -I'/Library/Frameworks/R.framework/Versions/4.4-arm64/Resources/library/Rcpp/include' -I'/Library/Frameworks/R.framework/Versions/4.4-arm64/Resources/library/Rhtslib/include' -I'/Library/Frameworks/R.framework/Versions/4.4-arm64/Resources/library/zlibbioc/include' -I'/Library/Frameworks/R.framework/Versions/4.4-arm64/Resources/library/testthat/include' -I/opt/R/arm64/include    -fPIC  -falign-functions=64 -Wall -g -O2   -c main-functions/pileup_readid.cpp -o main-functions/pileup_readid.o
clang++ -arch arm64 -std=gnu++17 -I"/Library/Frameworks/R.framework/Resources/include" -DNDEBUG -pthread -D_FILE_OFFSET_BITS=64 -I'/Library/Frameworks/R.framework/Versions/4.4-arm64/Resources/library/Rcpp/include' -I'/Library/Frameworks/R.framework/Versions/4.4-arm64/Resources/library/Rhtslib/include' -I'/Library/Frameworks/R.framework/Versions/4.4-arm64/Resources/library/zlibbioc/include' -I'/Library/Frameworks/R.framework/Versions/4.4-arm64/Resources/library/testthat/include' -I/opt/R/arm64/include    -fPIC  -falign-functions=64 -Wall -g -O2   -c tests/test-junctions.cpp -o tests/test-junctions.o
clang++ -arch arm64 -std=gnu++17 -I"/Library/Frameworks/R.framework/Resources/include" -DNDEBUG -pthread -D_FILE_OFFSET_BITS=64 -I'/Library/Frameworks/R.framework/Versions/4.4-arm64/Resources/library/Rcpp/include' -I'/Library/Frameworks/R.framework/Versions/4.4-arm64/Resources/library/Rhtslib/include' -I'/Library/Frameworks/R.framework/Versions/4.4-arm64/Resources/library/zlibbioc/include' -I'/Library/Frameworks/R.framework/Versions/4.4-arm64/Resources/library/testthat/include' -I/opt/R/arm64/include    -fPIC  -falign-functions=64 -Wall -g -O2   -c tests/test-parsing.cpp -o tests/test-parsing.o
clang++ -arch arm64 -std=gnu++17 -I"/Library/Frameworks/R.framework/Resources/include" -DNDEBUG -pthread -D_FILE_OFFSET_BITS=64 -I'/Library/Frameworks/R.framework/Versions/4.4-arm64/Resources/library/Rcpp/include' -I'/Library/Frameworks/R.framework/Versions/4.4-arm64/Resources/library/Rhtslib/include' -I'/Library/Frameworks/R.framework/Versions/4.4-arm64/Resources/library/zlibbioc/include' -I'/Library/Frameworks/R.framework/Versions/4.4-arm64/Resources/library/testthat/include' -I/opt/R/arm64/include    -fPIC  -falign-functions=64 -Wall -g -O2   -c utility/cigars.cpp -o utility/cigars.o
clang++ -arch arm64 -std=gnu++17 -I"/Library/Frameworks/R.framework/Resources/include" -DNDEBUG -pthread -D_FILE_OFFSET_BITS=64 -I'/Library/Frameworks/R.framework/Versions/4.4-arm64/Resources/library/Rcpp/include' -I'/Library/Frameworks/R.framework/Versions/4.4-arm64/Resources/library/Rhtslib/include' -I'/Library/Frameworks/R.framework/Versions/4.4-arm64/Resources/library/zlibbioc/include' -I'/Library/Frameworks/R.framework/Versions/4.4-arm64/Resources/library/testthat/include' -I/opt/R/arm64/include    -fPIC  -falign-functions=64 -Wall -g -O2   -c utility/edit_dist.cpp -o utility/edit_dist.o
clang++ -arch arm64 -std=gnu++17 -I"/Library/Frameworks/R.framework/Resources/include" -DNDEBUG -pthread -D_FILE_OFFSET_BITS=64 -I'/Library/Frameworks/R.framework/Versions/4.4-arm64/Resources/library/Rcpp/include' -I'/Library/Frameworks/R.framework/Versions/4.4-arm64/Resources/library/Rhtslib/include' -I'/Library/Frameworks/R.framework/Versions/4.4-arm64/Resources/library/zlibbioc/include' -I'/Library/Frameworks/R.framework/Versions/4.4-arm64/Resources/library/testthat/include' -I/opt/R/arm64/include    -fPIC  -falign-functions=64 -Wall -g -O2   -c utility/fastq_utils.cpp -o utility/fastq_utils.o
clang++ -arch arm64 -std=gnu++17 -I"/Library/Frameworks/R.framework/Resources/include" -DNDEBUG -pthread -D_FILE_OFFSET_BITS=64 -I'/Library/Frameworks/R.framework/Versions/4.4-arm64/Resources/library/Rcpp/include' -I'/Library/Frameworks/R.framework/Versions/4.4-arm64/Resources/library/Rhtslib/include' -I'/Library/Frameworks/R.framework/Versions/4.4-arm64/Resources/library/zlibbioc/include' -I'/Library/Frameworks/R.framework/Versions/4.4-arm64/Resources/library/testthat/include' -I/opt/R/arm64/include    -fPIC  -falign-functions=64 -Wall -g -O2   -c utility/edlib-1.2.7/edlib.cpp -o utility/edlib-1.2.7/edlib.o
clang++ -arch arm64 -std=gnu++17 -I"/Library/Frameworks/R.framework/Resources/include" -DNDEBUG -pthread -D_FILE_OFFSET_BITS=64 -I'/Library/Frameworks/R.framework/Versions/4.4-arm64/Resources/library/Rcpp/include' -I'/Library/Frameworks/R.framework/Versions/4.4-arm64/Resources/library/Rhtslib/include' -I'/Library/Frameworks/R.framework/Versions/4.4-arm64/Resources/library/zlibbioc/include' -I'/Library/Frameworks/R.framework/Versions/4.4-arm64/Resources/library/testthat/include' -I/opt/R/arm64/include    -fPIC  -falign-functions=64 -Wall -g -O2   -c utility/ssw/ssw_cpp.cpp -o utility/ssw/ssw_cpp.o
In file included from utility/ssw/ssw_cpp.cpp:6:
utility/ssw/ssw.h:19:10: fatal error: 'sse2neon.h' file not found
#include "sse2neon.h"
         ^~~~~~~~~~~~
1 error generated.
make: *** [utility/ssw/ssw_cpp.o] Error 1
ERROR: compilation failed for package ‘FLAMES’
* removing ‘/private/tmp/RtmpPANLaV/Rinst796e2519c214/FLAMES’
      -----------------------------------
ERROR: package installation failed