Back to Multiple platform build/check report for BioC 3.18:   simplified   long
A[B]CDEFGHIJKLMNOPQRSTUVWXYZ

This page was generated on 2024-02-22 11:34:54 -0500 (Thu, 22 Feb 2024).

HostnameOSArch (*)R versionInstalled pkgs
nebbiolo2Linux (Ubuntu 22.04.3 LTS)x86_644.3.2 Patched (2023-11-13 r85521) -- "Eye Holes" 4691
palomino4Windows Server 2022 Datacenterx644.3.2 (2023-10-31 ucrt) -- "Eye Holes" 4444
lconwaymacOS 12.7.1 Montereyx86_644.3.2 Patched (2023-11-01 r85457) -- "Eye Holes" 4465
Click on any hostname to see more info about the system (e.g. compilers)      (*) as reported by 'uname -p', except on Windows and Mac OS X

All results for package bsseq


To the developers/maintainers of the bsseq package:
- Allow up to 24 hours (and sometimes 48 hours) for your latest push to git@git.bioconductor.org:packages/bsseq.git to reflect on this report. See Troubleshooting Build Report for more information.
- Use the following Renviron settings to reproduce errors and warnings.
- If 'R CMD check' started to fail recently on the Linux builder(s) over a missing dependency, add the missing dependency to 'Suggests:' in your DESCRIPTION file. See Renviron.bioc for more information.

raw results

Package 244/2266HostnameOS / ArchINSTALLBUILDCHECKBUILD BIN
bsseq 1.38.0  (landing page)
Kasper Daniel Hansen
Snapshot Date: 2024-02-21 14:05:05 -0500 (Wed, 21 Feb 2024)
git_url: https://git.bioconductor.org/packages/bsseq
git_branch: RELEASE_3_18
git_last_commit: 392e22c
git_last_commit_date: 2023-10-24 09:50:39 -0500 (Tue, 24 Oct 2023)
nebbiolo2Linux (Ubuntu 22.04.3 LTS) / x86_64  OK    OK    OK  UNNEEDED, same version is already published
palomino4Windows Server 2022 Datacenter / x64  OK    OK    OK    OK  UNNEEDED, same version is already published
lconwaymacOS 12.7.1 Monterey / x86_64  OK    OK    OK    OK  UNNEEDED, same version is already published
kjohnson1macOS 13.6.1 Ventura / arm64see weekly results here

Results for Bioconductor software packages that depend directly on package bsseq

QUICK STATSOS / ArchINSTALLBUILDCHECKBUILD BIN
nebbiolo2Linux (Ubuntu 22.04.3 LTS) / x86_64
0011
0011
0029
palomino4Windows Server 2022 Datacenter / x64
0011
0011
0029
0011
lconwaymacOS 12.7.1 Monterey / x86_64
0011
0011
0029
0011
Package 1/11HostnameOS / ArchINSTALLBUILDCHECKBUILD BIN
biscuiteer 1.16.0  (landing page)
Jacob Morrison
git_last_commit: ebfa0bf
git_last_commit_date: 2023-10-24 11:17:31 -0500
nebbiolo2Linux (Ubuntu 22.04.3 LTS) / x86_64  OK    OK    WARNINGS  UNNEEDED, same version is already published
palomino4Windows Server 2022 Datacenter / x64  OK    OK    WARNINGS    OK  UNNEEDED, same version is already published
lconwaymacOS 12.7.1 Monterey / x86_64  OK    OK    WARNINGS    OK  UNNEEDED, same version is already published
kjohnson1macOS 13.6.1 Ventura / arm64see weekly results here
Package 2/11HostnameOS / ArchINSTALLBUILDCHECKBUILD BIN
borealis 1.6.0  (landing page)
Garrett Jenkinson
git_last_commit: 701604e
git_last_commit_date: 2023-10-24 11:41:29 -0500
nebbiolo2Linux (Ubuntu 22.04.3 LTS) / x86_64  OK    OK    OK  UNNEEDED, same version is already published
palomino4Windows Server 2022 Datacenter / x64  OK    OK    OK    OK  UNNEEDED, same version is already published
lconwaymacOS 12.7.1 Monterey / x86_64  OK    OK    OK    OK  UNNEEDED, same version is already published
kjohnson1macOS 13.6.1 Ventura / arm64see weekly results here
Package 3/11HostnameOS / ArchINSTALLBUILDCHECKBUILD BIN
DMRcate 2.16.1  (landing page)
Tim Peters
git_last_commit: 4cd2397
git_last_commit_date: 2023-12-04 22:28:28 -0500
nebbiolo2Linux (Ubuntu 22.04.3 LTS) / x86_64  OK    OK    OK  UNNEEDED, same version is already published
palomino4Windows Server 2022 Datacenter / x64  OK    OK    OK    OK  UNNEEDED, same version is already published
lconwaymacOS 12.7.1 Monterey / x86_64  OK    OK    OK    OK  UNNEEDED, same version is already published
kjohnson1macOS 13.6.1 Ventura / arm64see weekly results here
Package 4/11HostnameOS / ArchINSTALLBUILDCHECKBUILD BIN
dmrseq 1.22.1  (landing page)
Keegan Korthauer
git_last_commit: daaf07a
git_last_commit_date: 2024-02-20 13:55:13 -0500
nebbiolo2Linux (Ubuntu 22.04.3 LTS) / x86_64  OK    OK    OK  UNNEEDED, same version is already published
palomino4Windows Server 2022 Datacenter / x64  OK    OK    OK    OK  UNNEEDED, same version is already published
lconwaymacOS 12.7.1 Monterey / x86_64  OK    OK    OK    OK  UNNEEDED, same version is already published
kjohnson1macOS 13.6.1 Ventura / arm64see weekly results here
Package 5/11HostnameOS / ArchINSTALLBUILDCHECKBUILD BIN
DSS 2.50.1  (landing page)
Hao Wu , Hao Feng
git_last_commit: 57860ca
git_last_commit_date: 2024-01-10 22:20:17 -0500
nebbiolo2Linux (Ubuntu 22.04.3 LTS) / x86_64  OK    OK    WARNINGS  UNNEEDED, same version is already published
palomino4Windows Server 2022 Datacenter / x64  OK    OK    WARNINGS    OK  UNNEEDED, same version is already published
lconwaymacOS 12.7.1 Monterey / x86_64  OK    OK    WARNINGS    OK  UNNEEDED, same version is already published
kjohnson1macOS 13.6.1 Ventura / arm64see weekly results here
Package 6/11HostnameOS / ArchINSTALLBUILDCHECKBUILD BIN
methylCC 1.16.0  (landing page)
Stephanie C. Hicks
git_last_commit: 5122b11
git_last_commit_date: 2023-10-24 11:16:54 -0500
nebbiolo2Linux (Ubuntu 22.04.3 LTS) / x86_64  OK    OK    OK  UNNEEDED, same version is already published
palomino4Windows Server 2022 Datacenter / x64  OK    OK    OK    OK  UNNEEDED, same version is already published
lconwaymacOS 12.7.1 Monterey / x86_64  OK    OK    OK    OK  UNNEEDED, same version is already published
kjohnson1macOS 13.6.1 Ventura / arm64see weekly results here
Package 7/11HostnameOS / ArchINSTALLBUILDCHECKBUILD BIN
methylSig 1.14.0  (landing page)
Raymond G. Cavalcante
git_last_commit: 341d23b
git_last_commit_date: 2023-10-24 11:21:41 -0500
nebbiolo2Linux (Ubuntu 22.04.3 LTS) / x86_64  OK    OK    OK  UNNEEDED, same version is already published
palomino4Windows Server 2022 Datacenter / x64  OK    OK    OK    OK  UNNEEDED, same version is already published
lconwaymacOS 12.7.1 Monterey / x86_64  OK    OK    OK    OK  UNNEEDED, same version is already published
kjohnson1macOS 13.6.1 Ventura / arm64see weekly results here
Package 8/11HostnameOS / ArchINSTALLBUILDCHECKBUILD BIN
MIRA 1.24.0  (landing page)
John Lawson
git_last_commit: a6d3f7c
git_last_commit_date: 2023-10-24 11:00:09 -0500
nebbiolo2Linux (Ubuntu 22.04.3 LTS) / x86_64  OK    OK    OK  UNNEEDED, same version is already published
palomino4Windows Server 2022 Datacenter / x64  OK    OK    OK    OK  UNNEEDED, same version is already published
lconwaymacOS 12.7.1 Monterey / x86_64  OK    OK    OK    OK  UNNEEDED, same version is already published
kjohnson1macOS 13.6.1 Ventura / arm64see weekly results here
Package 9/11HostnameOS / ArchINSTALLBUILDCHECKBUILD BIN
NanoMethViz 2.8.1  (landing page)
Shian Su
git_last_commit: 1d8a149
git_last_commit_date: 2023-11-07 20:56:11 -0500
nebbiolo2Linux (Ubuntu 22.04.3 LTS) / x86_64  OK    OK    OK  UNNEEDED, same version is already published
palomino4Windows Server 2022 Datacenter / x64  OK    OK    OK    OK  UNNEEDED, same version is already published
lconwaymacOS 12.7.1 Monterey / x86_64  OK    OK    OK    OK  UNNEEDED, same version is already published
kjohnson1macOS 13.6.1 Ventura / arm64see weekly results here
Package 10/11HostnameOS / ArchINSTALLBUILDCHECKBUILD BIN
scmeth 1.22.0  (landing page)
Divy Kangeyan
git_last_commit: 39a201a
git_last_commit_date: 2023-10-24 11:02:56 -0500
nebbiolo2Linux (Ubuntu 22.04.3 LTS) / x86_64  OK    OK    OK  UNNEEDED, same version is already published
palomino4Windows Server 2022 Datacenter / x64  OK    OK    OK    OK  UNNEEDED, same version is already published
lconwaymacOS 12.7.1 Monterey / x86_64  OK    OK    OK    OK  UNNEEDED, same version is already published
kjohnson1macOS 13.6.1 Ventura / arm64see weekly results here
Package 11/11HostnameOS / ArchINSTALLBUILDCHECKBUILD BIN
SOMNiBUS 1.10.0  (landing page)
Kathleen Klein
git_last_commit: c51922b
git_last_commit_date: 2023-10-24 11:29:28 -0500
nebbiolo2Linux (Ubuntu 22.04.3 LTS) / x86_64  OK    OK    OK  UNNEEDED, same version is already published
palomino4Windows Server 2022 Datacenter / x64  OK    OK    OK    OK  UNNEEDED, same version is already published
lconwaymacOS 12.7.1 Monterey / x86_64  OK    OK    OK    OK  UNNEEDED, same version is already published
kjohnson1macOS 13.6.1 Ventura / arm64see weekly results here