Back to Multiple platform build/check report for BioC 3.11
ABCDEFGHIJKLMNOPQR[S]TUVWXYZ

Multiple platform build/check report for BioC 3.11

Results for signeR

This page was generated on 2020-07-13 13:38:10 -0400 (Mon, 13 Jul 2020).

Package 1656/1905HostnameOS / ArchINSTALLBUILDCHECKBUILD BIN
signeR 1.14.0
Renan Valieris
Snapshot Date: 2020-07-12 15:50:18 -0400 (Sun, 12 Jul 2020)
URL: https://git.bioconductor.org/packages/signeR
Branch: RELEASE_3_11
Last Commit: 4fcdc43
Last Changed Date: 2020-04-27 15:01:35 -0400 (Mon, 27 Apr 2020)
malbec2 Linux (Ubuntu 18.04.4 LTS) / x86_64  OK  OK  OK UNNEEDED, same version exists in internal repository
tokay2 Windows Server 2012 R2 Standard / x64  OK  OK  OK  OK UNNEEDED, same version exists in internal repository
machv2 macOS 10.14.6 Mojave / x86_64  ERROR  ERROR  skipped  skipped