Back to Multiple platform build/check report for BioC 3.19:   simplified   long
ABCDEFGHIJKLMNOPQR[S]TUVWXYZ

This page was generated on 2024-06-14 14:37 -0400 (Fri, 14 Jun 2024).

HostnameOSArch (*)R versionInstalled pkgs
nebbiolo1Linux (Ubuntu 22.04.3 LTS)x86_644.4.0 (2024-04-24) -- "Puppy Cup" 4757
palomino3Windows Server 2022 Datacenterx644.4.0 (2024-04-24 ucrt) -- "Puppy Cup" 4491
Click on any hostname to see more info about the system (e.g. compilers)      (*) as reported by 'uname -p', except on Windows and Mac OS X

All results for package StructuralVariantAnnotation


To the developers/maintainers of the StructuralVariantAnnotation package:
- Allow up to 24 hours (and sometimes 48 hours) for your latest push to git@git.bioconductor.org:packages/StructuralVariantAnnotation.git to reflect on this report. See Troubleshooting Build Report for more information.
- Use the following Renviron settings to reproduce errors and warnings.
- If 'R CMD check' started to fail recently on the Linux builder(s) over a missing dependency, add the missing dependency to 'Suggests:' in your DESCRIPTION file. See Renviron.bioc for more information.

raw results

Package 2096/2300HostnameOS / ArchINSTALLBUILDCHECKBUILD BIN
StructuralVariantAnnotation 1.20.0  (landing page)
Daniel Cameron
Snapshot Date: 2024-06-12 14:00 -0400 (Wed, 12 Jun 2024)
git_url: https://git.bioconductor.org/packages/StructuralVariantAnnotation
git_branch: RELEASE_3_19
git_last_commit: 95de7cb
git_last_commit_date: 2024-04-30 11:15:07 -0400 (Tue, 30 Apr 2024)
nebbiolo1Linux (Ubuntu 22.04.3 LTS) / x86_64  OK    OK    OK  UNNEEDED, same version is already published
palomino3Windows Server 2022 Datacenter / x64  OK    OK    OK    OK  UNNEEDED, same version is already published



Results for Bioconductor software packages that depend directly on package StructuralVariantAnnotation

QUICK STATSOS / ArchINSTALLBUILDCHECKBUILD BIN
nebbiolo1Linux (Ubuntu 22.04.3 LTS) / x86_64
002
002
0002
palomino3Windows Server 2022 Datacenter / x64
002
002
0002
002
Package 1/2HostnameOS / ArchINSTALLBUILDCHECKBUILD BIN
svaNUMT 1.10.0  (landing page)
Ruining Dong
git_last_commit: 760b990
git_last_commit_date: 2024-04-30 11:35:44 -0400
nebbiolo1Linux (Ubuntu 22.04.3 LTS) / x86_64  OK    OK    OK  UNNEEDED, same version is already published
palomino3Windows Server 2022 Datacenter / x64  OK    OK    OK    OK  UNNEEDED, same version is already published
Package 2/2HostnameOS / ArchINSTALLBUILDCHECKBUILD BIN
svaRetro 1.10.0  (landing page)
Ruining Dong
git_last_commit: d0a70d7
git_last_commit_date: 2024-04-30 11:36:51 -0400
nebbiolo1Linux (Ubuntu 22.04.3 LTS) / x86_64  OK    OK    OK  UNNEEDED, same version is already published
palomino3Windows Server 2022 Datacenter / x64  OK    OK    OK    OK  UNNEEDED, same version is already published