Back to Multiple platform build/check report for BioC 3.18: simplified long |
|
This page was generated on 2024-03-29 11:37:45 -0400 (Fri, 29 Mar 2024).
Hostname | OS | Arch (*) | R version | Installed pkgs |
---|---|---|---|---|
nebbiolo2 | Linux (Ubuntu 22.04.3 LTS) | x86_64 | 4.3.3 (2024-02-29) -- "Angel Food Cake" | 4669 |
palomino4 | Windows Server 2022 Datacenter | x64 | 4.3.3 (2024-02-29 ucrt) -- "Angel Food Cake" | 4404 |
merida1 | macOS 12.7.1 Monterey | x86_64 | 4.3.3 (2024-02-29) -- "Angel Food Cake" | 4427 |
Click on any hostname to see more info about the system (e.g. compilers) (*) as reported by 'uname -p', except on Windows and Mac OS X |
Package 790/2266 | Hostname | OS / Arch | INSTALL | BUILD | CHECK | BUILD BIN | ||||||||
GeneBreak 1.32.0 (landing page) Evert van den Broek
| nebbiolo2 | Linux (Ubuntu 22.04.3 LTS) / x86_64 | OK | OK | OK | |||||||||
palomino4 | Windows Server 2022 Datacenter / x64 | OK | OK | OK | OK | |||||||||
merida1 | macOS 12.7.1 Monterey / x86_64 | OK | OK | OK | OK | |||||||||
kjohnson1 | macOS 13.6.1 Ventura / arm64 | see weekly results here | ||||||||||||
To the developers/maintainers of the GeneBreak package: - Allow up to 24 hours (and sometimes 48 hours) for your latest push to git@git.bioconductor.org:packages/GeneBreak.git to reflect on this report. See Troubleshooting Build Report for more information. - Use the following Renviron settings to reproduce errors and warnings. - If 'R CMD check' started to fail recently on the Linux builder(s) over a missing dependency, add the missing dependency to 'Suggests:' in your DESCRIPTION file. See Renviron.bioc for more information. |
Package: GeneBreak |
Version: 1.32.0 |
Command: /Library/Frameworks/R.framework/Resources/bin/R CMD check --install=check:GeneBreak.install-out.txt --library=/Library/Frameworks/R.framework/Resources/library --no-vignettes --timings GeneBreak_1.32.0.tar.gz |
StartedAt: 2024-03-28 03:06:40 -0400 (Thu, 28 Mar 2024) |
EndedAt: 2024-03-28 03:12:24 -0400 (Thu, 28 Mar 2024) |
EllapsedTime: 344.3 seconds |
RetCode: 0 |
Status: OK |
CheckDir: GeneBreak.Rcheck |
Warnings: 0 |
############################################################################## ############################################################################## ### ### Running command: ### ### /Library/Frameworks/R.framework/Resources/bin/R CMD check --install=check:GeneBreak.install-out.txt --library=/Library/Frameworks/R.framework/Resources/library --no-vignettes --timings GeneBreak_1.32.0.tar.gz ### ############################################################################## ############################################################################## * using log directory ‘/Users/biocbuild/bbs-3.18-bioc/meat/GeneBreak.Rcheck’ * using R version 4.3.3 (2024-02-29) * using platform: x86_64-apple-darwin20 (64-bit) * R was compiled by Apple clang version 14.0.0 (clang-1400.0.29.202) GNU Fortran (GCC) 12.2.0 * running under: macOS Monterey 12.7.1 * using session charset: UTF-8 * using option ‘--no-vignettes’ * checking for file ‘GeneBreak/DESCRIPTION’ ... OK * checking extension type ... Package * this is package ‘GeneBreak’ version ‘1.32.0’ * checking package namespace information ... OK * checking package dependencies ... OK * checking if this is a source package ... OK * checking if there is a namespace ... OK * checking for hidden files and directories ... OK * checking for portable file names ... OK * checking for sufficient/correct file permissions ... OK * checking whether package ‘GeneBreak’ can be installed ... OK * checking installed package size ... OK * checking package directory ... OK * checking ‘build’ directory ... OK * checking DESCRIPTION meta-information ... OK * checking top-level files ... OK * checking for left-over files ... OK * checking index information ... OK * checking package subdirectories ... OK * checking R files for non-ASCII characters ... OK * checking R files for syntax errors ... OK * checking whether the package can be loaded ... OK * checking whether the package can be loaded with stated dependencies ... OK * checking whether the package can be unloaded cleanly ... OK * checking whether the namespace can be loaded with stated dependencies ... OK * checking whether the namespace can be unloaded cleanly ... OK * checking dependencies in R code ... OK * checking S3 generic/method consistency ... OK * checking replacement functions ... OK * checking foreign function calls ... OK * checking R code for possible problems ... NOTE .glmbreak: no visible global function definition for ‘glm’ .glmbreak: no visible global function definition for ‘predict’ addGeneAnnotation,CopyNumberBreakPoints: no visible global function definition for ‘head’ bpStats,CopyNumberBreakPoints: no visible global function definition for ‘sd’ bpStats,CopyNumberBreakPoints: no visible global function definition for ‘p.adjust’ Undefined global functions or variables: glm head p.adjust predict sd Consider adding importFrom("stats", "glm", "p.adjust", "predict", "sd") importFrom("utils", "head") to your NAMESPACE file. * checking Rd files ... OK * checking Rd metadata ... OK * checking Rd cross-references ... OK * checking for missing documentation entries ... OK * checking for code/documentation mismatches ... OK * checking Rd \usage sections ... OK * checking Rd contents ... OK * checking for unstated dependencies in examples ... OK * checking contents of ‘data’ directory ... OK * checking data for non-ASCII characters ... OK * checking data for ASCII and uncompressed saves ... OK * checking sizes of PDF files under ‘inst/doc’ ... OK * checking files in ‘vignettes’ ... OK * checking examples ... OK Examples with CPU (user + system) or elapsed time > 5s user system elapsed CopyNumberBreakPointGenes-class 10.126 0.940 12.029 bpStats-CopyNumberBreakPoints-method 8.995 0.686 10.754 bpPlot-CopyNumberBreakPoints-method 8.822 0.662 10.120 recurrentGenes-CopyNumberBreakPointGenes-method 8.615 0.822 10.008 breakpointsPerGene-CopyNumberBreakPointGenes-method 3.336 1.573 5.662 * checking for unstated dependencies in vignettes ... OK * checking package vignettes in ‘inst/doc’ ... OK * checking running R code from vignettes ... SKIPPED * checking re-building of vignette outputs ... SKIPPED * checking PDF version of manual ... OK * DONE Status: 1 NOTE See ‘/Users/biocbuild/bbs-3.18-bioc/meat/GeneBreak.Rcheck/00check.log’ for details.
GeneBreak.Rcheck/00install.out
############################################################################## ############################################################################## ### ### Running command: ### ### /Library/Frameworks/R.framework/Resources/bin/R CMD INSTALL GeneBreak ### ############################################################################## ############################################################################## * installing to library ‘/Library/Frameworks/R.framework/Versions/4.3-x86_64/Resources/library’ * installing *source* package ‘GeneBreak’ ... ** using staged installation ** R ** data ** byte-compile and prepare package for lazy loading Creating a new generic function for ‘segmentData’ in package ‘GeneBreak’ ** help *** installing help indices ** building package indices ** installing vignettes ** testing if installed package can be loaded from temporary location ** testing if installed package can be loaded from final location ** testing if installed package keeps a record of temporary installation path * DONE (GeneBreak)
GeneBreak.Rcheck/GeneBreak-Ex.timings
name | user | system | elapsed | |
CopyNumberBreakPointGenes-class | 10.126 | 0.940 | 12.029 | |
CopyNumberBreakPoints-class | 2.042 | 0.171 | 2.311 | |
accessOptions-CopyNumberBreakPoints-method | 1.278 | 0.085 | 1.537 | |
addGeneAnnotation-CopyNumberBreakPoints-method | 3.019 | 0.160 | 3.488 | |
bpFilter-CopyNumberBreakPoints-method | 1.828 | 0.112 | 2.035 | |
bpGenes-CopyNumberBreakPointGenes-method | 2.861 | 0.133 | 3.159 | |
bpPlot-CopyNumberBreakPoints-method | 8.822 | 0.662 | 10.120 | |
bpStats-CopyNumberBreakPoints-method | 8.995 | 0.686 | 10.754 | |
breakpointData-CopyNumberBreakPoints-method | 1.899 | 1.582 | 3.908 | |
breakpointsPerGene-CopyNumberBreakPointGenes-method | 3.336 | 1.573 | 5.662 | |
callData-CopyNumberBreakPoints-method | 1.939 | 1.584 | 3.887 | |
featureChromosomes-CopyNumberBreakPoints-method | 1.295 | 0.110 | 1.607 | |
featureInfo-CopyNumberBreakPoints-method | 3.098 | 0.548 | 4.103 | |
featuresPerGene-CopyNumberBreakPointGenes-method | 3.241 | 0.164 | 3.714 | |
geneChromosomes-CopyNumberBreakPointGenes-method | 2.885 | 0.154 | 3.244 | |
geneInfo-CopyNumberBreakPointGenes-method | 2.696 | 0.272 | 3.107 | |
getBreakpoints | 2.317 | 0.106 | 2.621 | |
namesFeatures-CopyNumberBreakPoints-method | 1.309 | 0.191 | 1.594 | |
recurrentGenes-CopyNumberBreakPointGenes-method | 8.615 | 0.822 | 10.008 | |
sampleNames-CopyNumberBreakPoints-method | 0.924 | 0.058 | 1.024 | |
segmentData-CopyNumberBreakPoints-method | 1.974 | 1.754 | 3.967 | |