Back to Multiple platform build/check report for BioC 3.12
ABCDEFGHIJKLM[N]OPQRSTUVWXYZ

Multiple platform build/check report for BioC 3.12

Results for package nucleR

This page was generated on 2021-02-22 12:27:54 -0500 (Mon, 22 Feb 2021).

Package 1239/1974HostnameOS / ArchINSTALLBUILDCHECKBUILD BIN
nucleR 2.22.0
Diego Gallego
Snapshot Date: 2021-02-21 14:52:07 -0500 (Sun, 21 Feb 2021)
URL: https://git.bioconductor.org/packages/nucleR
Branch: RELEASE_3_12
Last Commit: 4f0d071
Last Changed Date: 2020-11-15 11:56:00 -0500 (Sun, 15 Nov 2020)
malbec1Linux (Ubuntu 18.04.5 LTS) / x86_64  OK    OK    WARNINGS  UNNEEDED, same version exists in internal repository
nebbiolo1Linux (Ubuntu 20.04.2 LTS) / x86_64  OK    OK    WARNINGS  
tokay1Windows Server 2012 R2 Standard / x64  OK    OK    WARNINGS    OK  UNNEEDED, same version exists in internal repository
merida1macOS 10.14.6 Mojave / x86_64  OK    OK    WARNINGS    OK  UNNEEDED, same version exists in internal repository