Back to Multiple platform build/check report for BioC 3.12
ABC[D]EFGHIJKLMNOPQRSTUVWXYZ

Multiple platform build/check report for BioC 3.12

Results for DMRScan

This page was generated on 2020-10-30 12:04:46 -0400 (Fri, 30 Oct 2020).

Package 496/1974HostnameOS / ArchINSTALLBUILDCHECKBUILD BIN
DMRScan 1.12.0
Christian M Page
Snapshot Date: 2020-10-29 14:45:49 -0400 (Thu, 29 Oct 2020)
URL: https://git.bioconductor.org/packages/DMRScan
Branch: RELEASE_3_12
Last Commit: 25a84f2
Last Changed Date: 2020-10-27 11:20:53 -0400 (Tue, 27 Oct 2020)
malbec1 Linux (Ubuntu 18.04.4 LTS) / x86_64  OK  OK  OK UNNEEDED, same version exists in internal repository
nebbiolo1 Linux (Ubuntu 20.04.1 LTS) / x86_64  OK  OK  OK 
tokay1 Windows Server 2012 R2 Standard / x64  OK  OK  OK  OK UNNEEDED, same version exists in internal repository
merida1 macOS 10.14.6 Mojave / x86_64  OK  OK  OK  OK UNNEEDED, same version exists in internal repository