Back to Multiple platform build/check report for BioC 3.19:   simplified   long
[A]BCDEFGHIJKLMNOPQRSTUVWXYZ

This page was generated on 2024-07-16 17:37 -0400 (Tue, 16 Jul 2024).

HostnameOSArch (*)R versionInstalled pkgs
nebbiolo1Linux (Ubuntu 22.04.3 LTS)x86_644.4.1 (2024-06-14) -- "Race for Your Life" 4742
palomino7Windows Server 2022 Datacenterx644.4.1 (2024-06-14 ucrt) -- "Race for Your Life" 4484
merida1macOS 12.7.4 Montereyx86_644.4.1 (2024-06-14) -- "Race for Your Life" 4513
kjohnson1macOS 13.6.6 Venturaarm644.4.1 (2024-06-14) -- "Race for Your Life" 4462
Click on any hostname to see more info about the system (e.g. compilers)      (*) as reported by 'uname -p', except on Windows and Mac OS X

All results for package annotatr


To the developers/maintainers of the annotatr package:
- Allow up to 24 hours (and sometimes 48 hours) for your latest push to git@git.bioconductor.org:packages/annotatr.git to reflect on this report. See Troubleshooting Build Report for more information.
- Use the following Renviron settings to reproduce errors and warnings.
- If 'R CMD check' started to fail recently on the Linux builder(s) over a missing dependency, add the missing dependency to 'Suggests:' in your DESCRIPTION file. See Renviron.bioc for more information.

raw results

Package 76/2300HostnameOS / ArchINSTALLBUILDCHECKBUILD BIN
annotatr 1.30.0  (landing page)
Raymond G. Cavalcante
Snapshot Date: 2024-07-14 14:00 -0400 (Sun, 14 Jul 2024)
git_url: https://git.bioconductor.org/packages/annotatr
git_branch: RELEASE_3_19
git_last_commit: aa1c8ba
git_last_commit_date: 2024-04-30 10:54:39 -0400 (Tue, 30 Apr 2024)
nebbiolo1Linux (Ubuntu 22.04.3 LTS) / x86_64  OK    ERROR  skipped
palomino7Windows Server 2022 Datacenter / x64  OK    ERROR  skippedskipped
merida1macOS 12.7.4 Monterey / x86_64  OK    OK    OK    OK  UNNEEDED, same version is already published
kjohnson1macOS 13.6.6 Ventura / arm64  OK    OK    OK    OK  UNNEEDED, same version is already published



Results for Bioconductor software packages that depend directly on package annotatr

QUICK STATSOS / ArchINSTALLBUILDCHECKBUILD BIN
nebbiolo1Linux (Ubuntu 22.04.3 LTS) / x86_64
003
012
0002
palomino7Windows Server 2022 Datacenter / x64
003
012
0002
002
merida1macOS 12.7.4 Monterey / x86_64
003
003
0003
003
kjohnson1macOS 13.6.6 Ventura / arm64
003
003
0003
003
Package 1/3HostnameOS / ArchINSTALLBUILDCHECKBUILD BIN
dmrseq 1.24.0  (landing page)
Keegan Korthauer
git_last_commit: c293895
git_last_commit_date: 2024-04-30 11:04:20 -0400
nebbiolo1Linux (Ubuntu 22.04.3 LTS) / x86_64  OK    ERROR  skipped
palomino7Windows Server 2022 Datacenter / x64  OK    ERROR  skippedskipped
merida1macOS 12.7.4 Monterey / x86_64  OK    OK    OK    OK  UNNEEDED, same version is already published
kjohnson1macOS 13.6.6 Ventura / arm64  OK    OK    OK    OK  UNNEEDED, same version is already published
Package 2/3HostnameOS / ArchINSTALLBUILDCHECKBUILD BIN
scmeth 1.24.0  (landing page)
Divy Kangeyan
git_last_commit: 4d56c2a
git_last_commit_date: 2024-04-30 11:04:04 -0400
nebbiolo1Linux (Ubuntu 22.04.3 LTS) / x86_64  OK    OK    OK  UNNEEDED, same version is already published
palomino7Windows Server 2022 Datacenter / x64  OK    OK    OK    OK  
merida1macOS 12.7.4 Monterey / x86_64  OK    OK    OK    OK  UNNEEDED, same version is already published
kjohnson1macOS 13.6.6 Ventura / arm64  OK    OK    OK    OK  UNNEEDED, same version is already published
Package 3/3HostnameOS / ArchINSTALLBUILDCHECKBUILD BIN
SOMNiBUS 1.12.0  (landing page)
Kathleen Klein
git_last_commit: a22c11b
git_last_commit_date: 2024-04-30 11:30:49 -0400
nebbiolo1Linux (Ubuntu 22.04.3 LTS) / x86_64  OK    OK    OK  UNNEEDED, same version is already published
palomino7Windows Server 2022 Datacenter / x64  OK    OK    OK    OK  
merida1macOS 12.7.4 Monterey / x86_64  OK    OK    OK    OK  UNNEEDED, same version is already published
kjohnson1macOS 13.6.6 Ventura / arm64  OK    OK    OK    OK  UNNEEDED, same version is already published