Back to Multiple platform build/check report for BioC 3.12
AB[C]DEFGHIJKLMNOPQRSTUVWXYZ

Multiple platform build/check report for BioC 3.12

Results for CAGEr

This page was generated on 2021-01-19 11:51:07 -0500 (Tue, 19 Jan 2021).

Package 224/1974HostnameOS / ArchINSTALLBUILDCHECKBUILD BIN
CAGEr 1.32.1
Vanja Haberle , Charles Plessy , Damir Baranasic , Sarvesh Nikumbh
Snapshot Date: 2021-01-18 14:42:24 -0500 (Mon, 18 Jan 2021)
URL: https://git.bioconductor.org/packages/CAGEr
Branch: RELEASE_3_12
Last Commit: 034e4bf
Last Changed Date: 2021-01-15 01:28:35 -0500 (Fri, 15 Jan 2021)
malbec1 Linux (Ubuntu 18.04.5 LTS) / x86_64  OK  OK  ERROR 
nebbiolo1 Linux (Ubuntu 20.04.1 LTS) / x86_64  OK  OK  WARNINGS 
tokay1 Windows Server 2012 R2 Standard / x64  OK  OK  WARNINGS  OK UNNEEDED, same version exists in internal repository
merida1 macOS 10.14.6 Mojave / x86_64  OK  OK  ERROR  OK