Back to Multiple platform build/check report for BioC 3.17:   simplified   long
ABCDEFGHIJKLMNOPQR[S]TUVWXYZ

This page was generated on 2023-09-25 11:35:54 -0400 (Mon, 25 Sep 2023).

HostnameOSArch (*)R versionInstalled pkgs
nebbiolo1Linux (Ubuntu 22.04.2 LTS)x86_644.3.1 (2023-06-16) -- "Beagle Scouts" 4625
palomino3Windows Server 2022 Datacenterx644.3.1 (2023-06-16 ucrt) -- "Beagle Scouts" 4378
merida1macOS 12.6.4 Montereyx86_644.3.1 (2023-06-16) -- "Beagle Scouts" 4394
Click on any hostname to see more info about the system (e.g. compilers)      (*) as reported by 'uname -p', except on Windows and Mac OS X

Package 1893/2230HostnameOS / ArchINSTALLBUILDCHECKBUILD BIN
seqsetvis 1.20.0  (landing page)
Joseph R Boyd
Snapshot Date: 2023-09-24 14:00:11 -0400 (Sun, 24 Sep 2023)
git_url: https://git.bioconductor.org/packages/seqsetvis
git_branch: RELEASE_3_17
git_last_commit: 99963de
git_last_commit_date: 2023-04-25 11:00:32 -0400 (Tue, 25 Apr 2023)
nebbiolo1Linux (Ubuntu 22.04.2 LTS) / x86_64  OK    OK    OK  UNNEEDED, same version is already published
palomino3Windows Server 2022 Datacenter / x64  OK    OK    OK    OK  UNNEEDED, same version is already published
merida1macOS 12.6.4 Monterey / x86_64  OK    OK    OK    OK  UNNEEDED, same version is already published

CHECK results for seqsetvis on nebbiolo1


To the developers/maintainers of the seqsetvis package:
- Allow up to 24 hours (and sometimes 48 hours) for your latest push to git@git.bioconductor.org:packages/seqsetvis.git to reflect on this report. See Troubleshooting Build Report for more information.
- Use the following Renviron settings to reproduce errors and warnings.
- If 'R CMD check' started to fail recently on the Linux builder(s) over a missing dependency, add the missing dependency to 'Suggests:' in your DESCRIPTION file. See Renviron.bioc for more information.

raw results


Summary

Package: seqsetvis
Version: 1.20.0
Command: /home/biocbuild/bbs-3.17-bioc/R/bin/R CMD check --install=check:seqsetvis.install-out.txt --library=/home/biocbuild/bbs-3.17-bioc/R/site-library --timings seqsetvis_1.20.0.tar.gz
StartedAt: 2023-09-25 01:07:38 -0400 (Mon, 25 Sep 2023)
EndedAt: 2023-09-25 01:17:19 -0400 (Mon, 25 Sep 2023)
EllapsedTime: 580.8 seconds
RetCode: 0
Status:   OK  
CheckDir: seqsetvis.Rcheck
Warnings: 0

Command output

##############################################################################
##############################################################################
###
### Running command:
###
###   /home/biocbuild/bbs-3.17-bioc/R/bin/R CMD check --install=check:seqsetvis.install-out.txt --library=/home/biocbuild/bbs-3.17-bioc/R/site-library --timings seqsetvis_1.20.0.tar.gz
###
##############################################################################
##############################################################################


* using log directory ‘/home/biocbuild/bbs-3.17-bioc/meat/seqsetvis.Rcheck’
* using R version 4.3.1 (2023-06-16)
* using platform: x86_64-pc-linux-gnu (64-bit)
* R was compiled by
    gcc (Ubuntu 11.3.0-1ubuntu1~22.04.1) 11.3.0
    GNU Fortran (Ubuntu 11.3.0-1ubuntu1~22.04.1) 11.3.0
* running under: Ubuntu 22.04.3 LTS
* using session charset: UTF-8
* checking for file ‘seqsetvis/DESCRIPTION’ ... OK
* checking extension type ... Package
* this is package ‘seqsetvis’ version ‘1.20.0’
* package encoding: UTF-8
* checking package namespace information ... OK
* checking package dependencies ... OK
* checking if this is a source package ... OK
* checking if there is a namespace ... OK
* checking for hidden files and directories ... OK
* checking for portable file names ... OK
* checking for sufficient/correct file permissions ... OK
* checking whether package ‘seqsetvis’ can be installed ... OK
* checking installed package size ... OK
* checking package directory ... OK
* checking ‘build’ directory ... OK
* checking DESCRIPTION meta-information ... OK
* checking top-level files ... OK
* checking for left-over files ... OK
* checking index information ... OK
* checking package subdirectories ... OK
* checking R files for non-ASCII characters ... OK
* checking R files for syntax errors ... OK
* checking whether the package can be loaded ... OK
* checking whether the package can be loaded with stated dependencies ... OK
* checking whether the package can be unloaded cleanly ... OK
* checking whether the namespace can be loaded with stated dependencies ... OK
* checking whether the namespace can be unloaded cleanly ... OK
* checking loading without being on the library search path ... OK
* checking dependencies in R code ... OK
* checking S3 generic/method consistency ... OK
* checking replacement functions ... OK
* checking foreign function calls ... OK
* checking R code for possible problems ... NOTE
ssvSignalBandedQuantiles: no visible binding for global variable ‘x’
ssvSignalLineplotAgg: no visible binding for global variable ‘y’
Undefined global functions or variables:
  x y
* checking Rd files ... OK
* checking Rd metadata ... OK
* checking Rd cross-references ... OK
* checking for missing documentation entries ... OK
* checking for code/documentation mismatches ... OK
* checking Rd \usage sections ... OK
* checking Rd contents ... OK
* checking for unstated dependencies in examples ... OK
* checking contents of ‘data’ directory ... OK
* checking data for non-ASCII characters ... OK
* checking LazyData ... OK
* checking data for ASCII and uncompressed saves ... OK
* checking files in ‘vignettes’ ... OK
* checking examples ... OK
Examples with CPU (user + system) or elapsed time > 5s
                         user system elapsed
ssvFeatureBinaryHeatmap 6.392  0.288   6.681
ssvFetchBam             6.062  0.044   6.065
* checking for unstated dependencies in ‘tests’ ... OK
* checking tests ...
  Running ‘testthat.R’
 OK
* checking for unstated dependencies in vignettes ... OK
* checking package vignettes in ‘inst/doc’ ... OK
* checking running R code from vignettes ...
  ‘seqsetvis_overview.Rmd’ using ‘UTF-8’... OK
 NONE
* checking re-building of vignette outputs ... OK
* checking PDF version of manual ... OK
* DONE

Status: 1 NOTE
See
  ‘/home/biocbuild/bbs-3.17-bioc/meat/seqsetvis.Rcheck/00check.log’
for details.



Installation output

seqsetvis.Rcheck/00install.out

##############################################################################
##############################################################################
###
### Running command:
###
###   /home/biocbuild/bbs-3.17-bioc/R/bin/R CMD INSTALL seqsetvis
###
##############################################################################
##############################################################################


* installing to library ‘/home/biocbuild/bbs-3.17-bioc/R/site-library’
* installing *source* package ‘seqsetvis’ ...
** using staged installation
** R
** data
*** moving datasets to lazyload DB
** inst
** byte-compile and prepare package for lazy loading
** help
*** installing help indices
** building package indices
** installing vignettes
** testing if installed package can be loaded from temporary location
** testing if installed package can be loaded from final location
** testing if installed package keeps a record of temporary installation path
* DONE (seqsetvis)

Tests output

seqsetvis.Rcheck/tests/testthat.Rout


R version 4.3.1 (2023-06-16) -- "Beagle Scouts"
Copyright (C) 2023 The R Foundation for Statistical Computing
Platform: x86_64-pc-linux-gnu (64-bit)

R is free software and comes with ABSOLUTELY NO WARRANTY.
You are welcome to redistribute it under certain conditions.
Type 'license()' or 'licence()' for distribution details.

R is a collaborative project with many contributors.
Type 'contributors()' for more information and
'citation()' on how to cite R or R packages in publications.

Type 'demo()' for some demos, 'help()' for on-line help, or
'help.start()' for an HTML browser interface to help.
Type 'q()' to quit R.

> 
> ## load dependencies
> library(testthat)
> library(seqsetvis)
Loading required package: ggplot2
> library(data.table)
> 
> ## test package
> test_check(package = "seqsetvis")
[ FAIL 0 | WARN 0 | SKIP 0 | PASS 1182 ]
> 
> proc.time()
   user  system elapsed 
235.086   2.836 233.780 

Example timings

seqsetvis.Rcheck/seqsetvis-Ex.timings

nameusersystemelapsed
add_cluster_annotation2.6060.1162.685
append_ynorm0.0500.0030.032
applySpline0.4830.0120.457
assemble_heatmap_cluster_bars0.7110.0000.679
calc_norm_factors0.0190.0000.011
centerAtMax0.3140.0040.270
centerFixedSizeGRanges0.1220.0040.126
centerGRangesAtMax0.3750.0060.343
clusteringKmeans0.0240.0000.014
clusteringKmeansNestedHclust0.0290.0000.020
col2hex0.0010.0000.002
collapse_gr0.7190.0200.739
convert_collapsed_coord0.1970.0040.200
copy_clust_info1.6640.0041.588
crossCorrByRle0.3330.0030.337
easyLoad_FUN0.0570.0010.057
easyLoad_IDRmerged0.0590.0000.060
easyLoad_bed0.1320.0190.153
easyLoad_broadPeak0.0390.0040.042
easyLoad_narrowPeak0.0350.0040.039
easyLoad_seacr0.0380.0050.043
expandCigar0.1760.0110.168
fragLen_calcStranded1.7180.0331.744
fragLen_fromMacs2Xls0.0020.0000.002
getReadLength0.0520.0000.052
get_mapped_reads0.0090.0000.009
ggellipse0.5780.0000.577
harmonize_seqlengths0.0910.0070.099
make_clustering_matrix0.0500.0000.041
merge_clusters4.0830.1444.139
prepare_fetch_GRanges0.0270.0000.027
prepare_fetch_GRanges_names0.0730.0000.073
prepare_fetch_GRanges_width0.0220.0040.027
quantileGRangesWidth0.0010.0000.002
reorder_clusters_hclust1.7440.0081.710
reorder_clusters_manual0.9430.0040.910
reorder_clusters_stepdown1.7380.0121.708
reverse_clusters1.9360.0481.874
safeBrew0.0240.0000.023
split_cluster1.7370.0441.689
ssvConsensusIntervalSets0.3230.0000.323
ssvFactorizeMembTable0.0160.0000.016
ssvFeatureBars0.6090.0030.613
ssvFeatureBinaryHeatmap6.3920.2886.681
ssvFeatureEuler0.5420.0000.542
ssvFeaturePie1.5560.0231.579
ssvFeatureUpset2.6940.0122.706
ssvFeatureVenn0.6410.0040.645
ssvFetchBam6.0620.0446.065
ssvFetchBamPE2.0560.0242.079
ssvFetchBigwig1.5570.0001.557
ssvFetchGRanges0.7170.0000.717
ssvFetchSignal1.4070.0041.411
ssvMakeMembTable-methods0.4700.0160.486
ssvOverlapIntervalSets0.2130.0040.217
ssvSignalBandedQuantiles4.6020.0284.509
ssvSignalClustering2.0430.0241.975
ssvSignalHeatmap.ClusterBars3.1200.0042.957
ssvSignalHeatmap3.6110.0403.437
ssvSignalLineplot2.2760.0042.275
ssvSignalLineplotAgg1.0020.0000.983
ssvSignalScatterplot0.8850.0080.848
viewGRangesWinSample_dt1.1790.0161.189
viewGRangesWinSummary_dt1.1700.0001.146
within_clust_sort1.4030.0081.349