Back to Multiple platform build/check report for BioC 3.19:   simplified   long
ABCDEFGH[I]JKLMNOPQRSTUVWXYZ

This page was generated on 2024-06-18 17:57 -0400 (Tue, 18 Jun 2024).

HostnameOSArch (*)R versionInstalled pkgs
nebbiolo1Linux (Ubuntu 22.04.3 LTS)x86_644.4.0 (2024-04-24) -- "Puppy Cup" 4758
palomino3Windows Server 2022 Datacenterx644.4.0 (2024-04-24 ucrt) -- "Puppy Cup" 4492
merida1macOS 12.7.4 Montereyx86_644.4.0 (2024-04-24) -- "Puppy Cup" 4464
kjohnson1macOS 13.6.6 Venturaarm644.4.0 (2024-04-24) -- "Puppy Cup" 4464
Click on any hostname to see more info about the system (e.g. compilers)      (*) as reported by 'uname -p', except on Windows and Mac OS X

Package 1050/2300HostnameOS / ArchINSTALLBUILDCHECKBUILD BIN
IntEREst 1.28.0  (landing page)
Ali Oghabian , Mikko Frilander
Snapshot Date: 2024-06-16 14:00 -0400 (Sun, 16 Jun 2024)
git_url: https://git.bioconductor.org/packages/IntEREst
git_branch: RELEASE_3_19
git_last_commit: 9b139fc
git_last_commit_date: 2024-04-30 10:56:44 -0400 (Tue, 30 Apr 2024)
nebbiolo1Linux (Ubuntu 22.04.3 LTS) / x86_64  OK    OK    OK  UNNEEDED, same version is already published
palomino3Windows Server 2022 Datacenter / x64  OK    OK    OK    OK  UNNEEDED, same version is already published
merida1macOS 12.7.4 Monterey / x86_64  OK    OK    OK    OK  UNNEEDED, same version is already published
kjohnson1macOS 13.6.6 Ventura / arm64  OK    OK    OK    OK  UNNEEDED, same version is already published


CHECK results for IntEREst on nebbiolo1

To the developers/maintainers of the IntEREst package:
- Allow up to 24 hours (and sometimes 48 hours) for your latest push to git@git.bioconductor.org:packages/IntEREst.git to reflect on this report. See Troubleshooting Build Report for more information.
- Use the following Renviron settings to reproduce errors and warnings.
- If 'R CMD check' started to fail recently on the Linux builder(s) over a missing dependency, add the missing dependency to 'Suggests:' in your DESCRIPTION file. See Renviron.bioc for more information.

raw results


Summary

Package: IntEREst
Version: 1.28.0
Command: /home/biocbuild/bbs-3.19-bioc/R/bin/R CMD check --install=check:IntEREst.install-out.txt --library=/home/biocbuild/bbs-3.19-bioc/R/site-library --timings IntEREst_1.28.0.tar.gz
StartedAt: 2024-06-17 00:21:30 -0400 (Mon, 17 Jun 2024)
EndedAt: 2024-06-17 00:28:16 -0400 (Mon, 17 Jun 2024)
EllapsedTime: 405.9 seconds
RetCode: 0
Status:   OK  
CheckDir: IntEREst.Rcheck
Warnings: 0

Command output

##############################################################################
##############################################################################
###
### Running command:
###
###   /home/biocbuild/bbs-3.19-bioc/R/bin/R CMD check --install=check:IntEREst.install-out.txt --library=/home/biocbuild/bbs-3.19-bioc/R/site-library --timings IntEREst_1.28.0.tar.gz
###
##############################################################################
##############################################################################


* using log directory ‘/home/biocbuild/bbs-3.19-bioc/meat/IntEREst.Rcheck’
* using R version 4.4.0 (2024-04-24)
* using platform: x86_64-pc-linux-gnu
* R was compiled by
    gcc (Ubuntu 11.4.0-1ubuntu1~22.04) 11.4.0
    GNU Fortran (Ubuntu 11.4.0-1ubuntu1~22.04) 11.4.0
* running under: Ubuntu 22.04.4 LTS
* using session charset: UTF-8
* checking for file ‘IntEREst/DESCRIPTION’ ... OK
* this is package ‘IntEREst’ version ‘1.28.0’
* checking package namespace information ... OK
* checking package dependencies ... NOTE
Depends: includes the non-default packages:
  'GenomicRanges', 'Rsamtools', 'SummarizedExperiment', 'edgeR',
  'S4Vectors', 'GenomicFiles'
Adding so many packages to the search path is excessive and importing
selectively is preferable.
* checking if this is a source package ... OK
* checking if there is a namespace ... OK
* checking for hidden files and directories ... OK
* checking for portable file names ... OK
* checking for sufficient/correct file permissions ... OK
* checking whether package ‘IntEREst’ can be installed ... OK
* checking installed package size ... OK
* checking package directory ... OK
* checking ‘build’ directory ... OK
* checking DESCRIPTION meta-information ... OK
* checking top-level files ... OK
* checking for left-over files ... OK
* checking index information ... OK
* checking package subdirectories ... OK
* checking code files for non-ASCII characters ... OK
* checking R files for syntax errors ... OK
* checking whether the package can be loaded ... OK
* checking whether the package can be loaded with stated dependencies ... OK
* checking whether the package can be unloaded cleanly ... OK
* checking whether the namespace can be loaded with stated dependencies ... OK
* checking whether the namespace can be unloaded cleanly ... OK
* checking loading without being on the library search path ... OK
* checking dependencies in R code ... OK
* checking S3 generic/method consistency ... OK
* checking replacement functions ... OK
* checking foreign function calls ... OK
* checking R code for possible problems ... NOTE
interestIntExAnalyseSingleStranded: no visible global function
  definition for ‘bamFlagAsBitMatrix’
Undefined global functions or variables:
  bamFlagAsBitMatrix
* checking Rd files ... NOTE
checkRd: (-1) interest.Rd:105: Lost braces; missing escapes or markup?
   105 | regions to a different region defined in {limitRanges}. It is useful to ignore 
       |                                          ^
checkRd: (-1) interest.sequential.Rd:103: Lost braces; missing escapes or markup?
   103 | regions to a different region defined in {limitRanges}. It is useful to ignore 
       |                                          ^
* checking Rd metadata ... OK
* checking Rd cross-references ... OK
* checking for missing documentation entries ... OK
* checking for code/documentation mismatches ... OK
* checking Rd \usage sections ... OK
* checking Rd contents ... OK
* checking for unstated dependencies in examples ... OK
* checking contents of ‘data’ directory ... OK
* checking data for non-ASCII characters ... OK
* checking LazyData ... OK
* checking data for ASCII and uncompressed saves ... OK
* checking files in ‘vignettes’ ... OK
* checking examples ... OK
Examples with CPU (user + system) or elapsed time > 5s
                 user system elapsed
DEXSeqIntEREst 20.703  0.316  21.019
* checking for unstated dependencies in vignettes ... OK
* checking package vignettes ... OK
* checking re-building of vignette outputs ... OK
* checking PDF version of manual ... OK
* DONE

Status: 3 NOTEs
See
  ‘/home/biocbuild/bbs-3.19-bioc/meat/IntEREst.Rcheck/00check.log’
for details.


Installation output

IntEREst.Rcheck/00install.out

##############################################################################
##############################################################################
###
### Running command:
###
###   /home/biocbuild/bbs-3.19-bioc/R/bin/R CMD INSTALL IntEREst
###
##############################################################################
##############################################################################


* installing to library ‘/home/biocbuild/bbs-3.19-bioc/R/site-library’
* installing *source* package ‘IntEREst’ ...
** using staged installation
** R
** data
*** moving datasets to lazyload DB
** inst
** byte-compile and prepare package for lazy loading
** help
*** installing help indices
** building package indices
** installing vignettes
** testing if installed package can be loaded from temporary location
** testing if installed package can be loaded from final location
** testing if installed package keeps a record of temporary installation path
* DONE (IntEREst)

Tests output


Example timings

IntEREst.Rcheck/IntEREst-Ex.timings

nameusersystemelapsed
DEXSeqIntEREst20.703 0.31621.019
addAnnotation0.0300.0010.029
annotateU121.8730.1111.985
applyOverlap0.1430.0000.143
attributes0.0170.0040.021
boxplot-method0.0690.0000.070
buildSsTypePwms0.0010.0000.000
counts-method0.0240.0000.023
deseqInterest3.7540.0083.763
exactTestInterest0.0840.0000.084
getRepeatTable0.0010.0000.000
glmInterest0.0990.0000.098
interest1.1490.0321.182
interest.sequential1.0650.0081.073
interestResult0.0170.0000.017
interestResultIntEx0.1460.0080.154
intexIndex0.0030.0000.003
lfc0.1790.0000.179
mergeInterestResult0.0570.0000.057
plot-method0.2710.0040.275
psi0.6210.0040.625
qlfInterest0.1060.0120.118
readInterestResults0.0270.0000.027
referencePrepare1.0170.0041.021
subInterestResult0.0270.0000.027
treatInterest0.0970.0000.097
u12Boxplot0.0480.0000.048
u12BoxplotNb0.0610.0000.061
u12DensityPlot0.1850.0120.197
u12Index0.0050.0000.005
u12NbIndex0.0390.0000.039
unionRefTr0.0120.0000.012
updateRowDataCol0.0360.0040.040