Back to Multiple platform build/check report for BioC 3.12
ABCDEFGHIJKLMNOPQRS[T]UVWXYZ

Multiple platform build/check report for BioC 3.12

All results for package transcriptR

This page was generated on 2021-04-14 12:08:32 -0400 (Wed, 14 Apr 2021).

Package 1887/1974HostnameOS / ArchINSTALLBUILDCHECKBUILD BIN
transcriptR 1.18.0  (landing page)
Armen R. Karapetyan
Snapshot Date: 2021-04-13 14:50:13 -0400 (Tue, 13 Apr 2021)
URL: https://git.bioconductor.org/packages/transcriptR
Branch: RELEASE_3_12
Last Commit: 96add55
Last Changed Date: 2020-10-27 11:10:00 -0400 (Tue, 27 Oct 2020)
malbec1Linux (Ubuntu 18.04.5 LTS) / x86_64  OK    OK    OK  UNNEEDED, same version exists in internal repository
tokay1Windows Server 2012 R2 Standard / x64  OK    OK    WARNINGS    OK  UNNEEDED, same version exists in internal repository
merida1macOS 10.14.6 Mojave / x86_64  OK    OK    OK    OK  UNNEEDED, same version exists in internal repository