Back to Multiple platform build/check report for BioC 3.15
A[B]CDEFGHIJKLMNOPQRSTUVWXYZ

This page was generated on 2022-10-19 13:19:11 -0400 (Wed, 19 Oct 2022).

HostnameOSArch (*)R versionInstalled pkgs
nebbiolo1Linux (Ubuntu 20.04.5 LTS)x86_644.2.1 (2022-06-23) -- "Funny-Looking Kid" 4386
palomino3Windows Server 2022 Datacenterx644.2.1 (2022-06-23 ucrt) -- "Funny-Looking Kid" 4138
merida1macOS 10.14.6 Mojavex86_644.2.1 (2022-06-23) -- "Funny-Looking Kid" 4205
Click on any hostname to see more info about the system (e.g. compilers)      (*) as reported by 'uname -p', except on Windows and Mac OS X

All results for package Biobase


To the developers/maintainers of the Biobase package:
- Please allow up to 24 hours (and sometimes 48 hours) for your latest push to git@git.bioconductor.org:packages/Biobase.git to
reflect on this report. See How and When does the builder pull? When will my changes propagate? for more information.
- Make sure to use the following settings in order to reproduce any error or warning you see on this page.

raw results

Package 153/2140HostnameOS / ArchINSTALLBUILDCHECKBUILD BIN
Biobase 2.56.0  (landing page)
Bioconductor Package Maintainer
Snapshot Date: 2022-10-18 13:55:19 -0400 (Tue, 18 Oct 2022)
git_url: https://git.bioconductor.org/packages/Biobase
git_branch: RELEASE_3_15
git_last_commit: 3b2dd91
git_last_commit_date: 2022-04-26 10:54:19 -0400 (Tue, 26 Apr 2022)
nebbiolo1Linux (Ubuntu 20.04.5 LTS) / x86_64  OK    OK    OK  UNNEEDED, same version is already published
palomino3Windows Server 2022 Datacenter / x64  OK    OK    OK    OK  UNNEEDED, same version is already published
merida1macOS 10.14.6 Mojave / x86_64  OK    OK    OK    OK  UNNEEDED, same version is already published

Results for Bioconductor software packages that depend directly on package Biobase

QUICK STATSOS / ArchINSTALLBUILDCHECKBUILD BIN
nebbiolo1Linux (Ubuntu 20.04.5 LTS) / x86_64
02461
014449
01187351
palomino3Windows Server 2022 Datacenter / x64
02456
014444
01080354
00444
merida1macOS 10.14.6 Mojave / x86_64
02460
014448
0886354
00448
Package 1/463HostnameOS / ArchINSTALLBUILDCHECKBUILD BIN
a4Base 1.44.0  (landing page)
Laure Cougnaud
git_last_commit: 9ae69e0
git_last_commit_date: 2022-04-26 11:07:32 -0400
nebbiolo1Linux (Ubuntu 20.04.5 LTS) / x86_64  OK    OK    OK  UNNEEDED, same version is already published
palomino3Windows Server 2022 Datacenter / x64  OK    OK    OK    OK  UNNEEDED, same version is already published
merida1macOS 10.14.6 Mojave / x86_64  OK    OK    OK    OK  UNNEEDED, same version is already published
Package 2/463HostnameOS / ArchINSTALLBUILDCHECKBUILD BIN
a4Classif 1.44.0  (landing page)
Laure Cougnaud
git_last_commit: df0fce7
git_last_commit_date: 2022-04-26 11:07:36 -0400
nebbiolo1Linux (Ubuntu 20.04.5 LTS) / x86_64  OK    OK    OK  UNNEEDED, same version is already published
palomino3Windows Server 2022 Datacenter / x64  OK    OK    OK    OK  UNNEEDED, same version is already published
merida1macOS 10.14.6 Mojave / x86_64  OK    OK    OK    OK  UNNEEDED, same version is already published
Package 3/463HostnameOS / ArchINSTALLBUILDCHECKBUILD BIN
a4Core 1.44.0  (landing page)
Laure Cougnaud
git_last_commit: 61a7f3a
git_last_commit_date: 2022-04-26 11:07:38 -0400
nebbiolo1Linux (Ubuntu 20.04.5 LTS) / x86_64  OK    OK    OK  UNNEEDED, same version is already published
palomino3Windows Server 2022 Datacenter / x64  OK    OK    OK    OK  UNNEEDED, same version is already published
merida1macOS 10.14.6 Mojave / x86_64  OK    OK    OK    OK  UNNEEDED, same version is already published
Package 4/463HostnameOS / ArchINSTALLBUILDCHECKBUILD BIN
a4Preproc 1.44.0  (landing page)
Laure Cougnaud
git_last_commit: 2523812
git_last_commit_date: 2022-04-26 11:07:34 -0400
nebbiolo1Linux (Ubuntu 20.04.5 LTS) / x86_64  OK    OK    OK  UNNEEDED, same version is already published
palomino3Windows Server 2022 Datacenter / x64  OK    OK    OK    OK  UNNEEDED, same version is already published
merida1macOS 10.14.6 Mojave / x86_64  OK    OK    OK    OK  UNNEEDED, same version is already published
Package 5/463HostnameOS / ArchINSTALLBUILDCHECKBUILD BIN
ABarray 1.64.0  (landing page)
Yongming Andrew Sun
git_last_commit: 4c608c5
git_last_commit_date: 2022-04-26 10:58:34 -0400
nebbiolo1Linux (Ubuntu 20.04.5 LTS) / x86_64  OK    OK    OK  UNNEEDED, same version is already published
palomino3Windows Server 2022 Datacenter / x64  OK    OK    OK    OK  UNNEEDED, same version is already published
merida1macOS 10.14.6 Mojave / x86_64  OK    OK    OK    OK  UNNEEDED, same version is already published
Package 6/463HostnameOS / ArchINSTALLBUILDCHECKBUILD BIN
ACE 1.14.0  (landing page)
Jos B Poell
git_last_commit: 5cf2d32
git_last_commit_date: 2022-04-26 11:50:06 -0400
nebbiolo1Linux (Ubuntu 20.04.5 LTS) / x86_64  OK    OK    OK  UNNEEDED, same version is already published
palomino3Windows Server 2022 Datacenter / x64  OK    OK    OK    OK  UNNEEDED, same version is already published
merida1macOS 10.14.6 Mojave / x86_64  OK    OK    OK    OK  UNNEEDED, same version is already published
Package 7/463HostnameOS / ArchINSTALLBUILDCHECKBUILD BIN
aCGH 1.74.0  (landing page)
Peter Dimitrov
git_last_commit: e7ba380
git_last_commit_date: 2022-04-26 10:56:01 -0400
nebbiolo1Linux (Ubuntu 20.04.5 LTS) / x86_64  OK    OK    OK  UNNEEDED, same version is already published
palomino3Windows Server 2022 Datacenter / x64  OK    OK    OK    OK  UNNEEDED, same version is already published
merida1macOS 10.14.6 Mojave / x86_64  OK    OK    OK    OK  UNNEEDED, same version is already published
Package 8/463HostnameOS / ArchINSTALLBUILDCHECKBUILD BIN
ACME 2.52.0  (landing page)
Sean Davis
git_last_commit: 14a97c7
git_last_commit_date: 2022-04-26 10:59:41 -0400
nebbiolo1Linux (Ubuntu 20.04.5 LTS) / x86_64  OK    OK    WARNINGS  UNNEEDED, same version is already published
palomino3Windows Server 2022 Datacenter / x64  OK    OK    WARNINGS    OK  UNNEEDED, same version is already published
merida1macOS 10.14.6 Mojave / x86_64  OK    OK    OK    OK  UNNEEDED, same version is already published
Package 9/463HostnameOS / ArchINSTALLBUILDCHECKBUILD BIN
adSplit 1.66.0  (landing page)
Claudio Lottaz
git_last_commit: 64580a6
git_last_commit_date: 2022-04-26 10:58:08 -0400
nebbiolo1Linux (Ubuntu 20.04.5 LTS) / x86_64  OK    OK    OK  UNNEEDED, same version is already published
palomino3Windows Server 2022 Datacenter / x64  OK    OK    OK    OK  UNNEEDED, same version is already published
merida1macOS 10.14.6 Mojave / x86_64  OK    OK    OK    OK  UNNEEDED, same version is already published
Package 10/463HostnameOS / ArchINSTALLBUILDCHECKBUILD BIN
affy 1.74.0  (landing page)
Rafael A. Irizarry
git_last_commit: 2266c4a
git_last_commit_date: 2022-04-26 10:54:42 -0400
nebbiolo1Linux (Ubuntu 20.04.5 LTS) / x86_64  OK    OK    WARNINGS  UNNEEDED, same version is already published
palomino3Windows Server 2022 Datacenter / x64  OK    OK    WARNINGS    OK  UNNEEDED, same version is already published
merida1macOS 10.14.6 Mojave / x86_64  OK    OK    WARNINGS    OK  UNNEEDED, same version is already published
Package 11/463HostnameOS / ArchINSTALLBUILDCHECKBUILD BIN
affycomp 1.72.0  (landing page)
Rafael A. Irizarry
git_last_commit: c52baea
git_last_commit_date: 2022-04-26 10:54:56 -0400
nebbiolo1Linux (Ubuntu 20.04.5 LTS) / x86_64  OK    OK    OK  UNNEEDED, same version is already published
palomino3Windows Server 2022 Datacenter / x64  OK    OK    OK    OK  UNNEEDED, same version is already published
merida1macOS 10.14.6 Mojave / x86_64  OK    OK    OK    OK  UNNEEDED, same version is already published
Package 12/463HostnameOS / ArchINSTALLBUILDCHECKBUILD BIN
affyContam 1.54.0  (landing page)
V. Carey
git_last_commit: c5208b4
git_last_commit_date: 2022-04-26 11:02:09 -0400
nebbiolo1Linux (Ubuntu 20.04.5 LTS) / x86_64  OK    OK    OK  UNNEEDED, same version is already published
palomino3Windows Server 2022 Datacenter / x64  OK    OK    OK    OK  UNNEEDED, same version is already published
merida1macOS 10.14.6 Mojave / x86_64  OK    OK    OK    OK  UNNEEDED, same version is already published
Package 13/463HostnameOS / ArchINSTALLBUILDCHECKBUILD BIN
affycoretools 1.68.1  (landing page)
James W. MacDonald
git_last_commit: 69546b1
git_last_commit_date: 2022-05-10 14:42:00 -0400
nebbiolo1Linux (Ubuntu 20.04.5 LTS) / x86_64  OK    OK    OK  UNNEEDED, same version is already published
palomino3Windows Server 2022 Datacenter / x64  OK    OK    OK    OK  UNNEEDED, same version is already published
merida1macOS 10.14.6 Mojave / x86_64  OK    OK    OK    OK  UNNEEDED, same version is already published
Package 14/463HostnameOS / ArchINSTALLBUILDCHECKBUILD BIN
affyILM 1.48.0  (landing page)
Myriam Kroll and Fabrice Berger
git_last_commit: 4603a4c
git_last_commit_date: 2022-04-26 11:05:06 -0400
nebbiolo1Linux (Ubuntu 20.04.5 LTS) / x86_64  OK    OK    OK  UNNEEDED, same version is already published
palomino3Windows Server 2022 Datacenter / x64  OK    OK    OK    OK  UNNEEDED, same version is already published
merida1macOS 10.14.6 Mojave / x86_64  OK    OK    OK    OK  UNNEEDED, same version is already published
Package 15/463HostnameOS / ArchINSTALLBUILDCHECKBUILD BIN
affyPLM 1.72.0  (landing page)
Ben Bolstad
git_last_commit: 394c0a8
git_last_commit_date: 2022-04-26 10:55:15 -0400
nebbiolo1Linux (Ubuntu 20.04.5 LTS) / x86_64  OK    OK    WARNINGS  UNNEEDED, same version is already published
palomino3Windows Server 2022 Datacenter / x64  OK    OK    ERROR    OK  
merida1macOS 10.14.6 Mojave / x86_64  OK    OK    OK    OK  UNNEEDED, same version is already published
Package 16/463HostnameOS / ArchINSTALLBUILDCHECKBUILD BIN
AGDEX 1.44.0  (landing page)
Cuilan lani Gao
git_last_commit: 9d3eb90
git_last_commit_date: 2022-04-26 11:09:03 -0400
nebbiolo1Linux (Ubuntu 20.04.5 LTS) / x86_64  OK    OK    OK  UNNEEDED, same version is already published
palomino3Windows Server 2022 Datacenter / x64  OK    OK    OK    OK  UNNEEDED, same version is already published
merida1macOS 10.14.6 Mojave / x86_64  OK    OK    OK    OK  UNNEEDED, same version is already published
Package 17/463HostnameOS / ArchINSTALLBUILDCHECKBUILD BIN
AgiMicroRna 2.46.0  (landing page)
Pedro Lopez-Romero
git_last_commit: 8c6d73e
git_last_commit_date: 2022-04-26 11:03:33 -0400
nebbiolo1Linux (Ubuntu 20.04.5 LTS) / x86_64  OK    OK    OK  UNNEEDED, same version is already published
palomino3Windows Server 2022 Datacenter / x64  OK    OK    OK    OK  UNNEEDED, same version is already published
merida1macOS 10.14.6 Mojave / x86_64  OK    OK    OK    OK  UNNEEDED, same version is already published
Package 18/463HostnameOS / ArchINSTALLBUILDCHECKBUILD BIN
AIMS 1.28.0  (landing page)
Eric R Paquet
git_last_commit: 84608df
git_last_commit_date: 2022-04-26 11:22:58 -0400
nebbiolo1Linux (Ubuntu 20.04.5 LTS) / x86_64  OK    OK    OK  UNNEEDED, same version is already published
palomino3Windows Server 2022 Datacenter / x64  OK    OK    OK    OK  UNNEEDED, same version is already published
merida1macOS 10.14.6 Mojave / x86_64  OK    OK    OK    OK  UNNEEDED, same version is already published
Package 19/463HostnameOS / ArchINSTALLBUILDCHECKBUILD BIN
altcdfenvs 2.58.0  (landing page)
Laurent Gautier
git_last_commit: 08255a7
git_last_commit_date: 2022-04-26 10:55:43 -0400
nebbiolo1Linux (Ubuntu 20.04.5 LTS) / x86_64  OK    OK    OK  UNNEEDED, same version is already published
palomino3Windows Server 2022 Datacenter / x64  OK    OK    OK    OK  UNNEEDED, same version is already published
merida1macOS 10.14.6 Mojave / x86_64  OK    OK    OK    OK  UNNEEDED, same version is already published
Package 20/463HostnameOS / ArchINSTALLBUILDCHECKBUILD BIN
ANF 1.18.0  (landing page)
Tianle Ma
git_last_commit: 865b023
git_last_commit_date: 2022-04-26 11:44:04 -0400
nebbiolo1Linux (Ubuntu 20.04.5 LTS) / x86_64  OK    OK    OK  UNNEEDED, same version is already published
palomino3Windows Server 2022 Datacenter / x64  OK    OK    OK    OK  UNNEEDED, same version is already published
merida1macOS 10.14.6 Mojave / x86_64  OK    OK    OK    OK  UNNEEDED, same version is already published
Package 21/463HostnameOS / ArchINSTALLBUILDCHECKBUILD BIN
annaffy 1.68.0  (landing page)
Colin A. Smith
git_last_commit: fa930c0
git_last_commit_date: 2022-04-26 10:55:04 -0400
nebbiolo1Linux (Ubuntu 20.04.5 LTS) / x86_64  OK    OK    WARNINGS  UNNEEDED, same version is already published
palomino3Windows Server 2022 Datacenter / x64  OK    OK    WARNINGS    OK  UNNEEDED, same version is already published
merida1macOS 10.14.6 Mojave / x86_64  OK    OK    WARNINGS    OK  UNNEEDED, same version is already published
Package 22/463HostnameOS / ArchINSTALLBUILDCHECKBUILD BIN
annmap 1.38.0  (landing page)
Chris Wirth
git_last_commit: 291788d
git_last_commit_date: 2022-04-26 11:11:12 -0400
nebbiolo1Linux (Ubuntu 20.04.5 LTS) / x86_64  OK    OK    WARNINGS  UNNEEDED, same version is already published
palomino3Windows Server 2022 Datacenter / x64... NOT SUPPORTED ...
merida1macOS 10.14.6 Mojave / x86_64  OK    OK    WARNINGS    OK  UNNEEDED, same version is already published
Package 23/463HostnameOS / ArchINSTALLBUILDCHECKBUILD BIN
annotate 1.74.0  (landing page)
Bioconductor Package Maintainer
git_last_commit: 200c717
git_last_commit_date: 2022-04-26 10:54:23 -0400
nebbiolo1Linux (Ubuntu 20.04.5 LTS) / x86_64  OK    OK    OK  UNNEEDED, same version is already published
palomino3Windows Server 2022 Datacenter / x64  OK    OK    OK    OK  UNNEEDED, same version is already published
merida1macOS 10.14.6 Mojave / x86_64  OK    OK    OK    OK  UNNEEDED, same version is already published
Package 24/463HostnameOS / ArchINSTALLBUILDCHECKBUILD BIN
AnnotationDbi 1.58.0  (landing page)
Bioconductor Package Maintainer
git_last_commit: 05fcf7a
git_last_commit_date: 2022-04-26 10:59:02 -0400
nebbiolo1Linux (Ubuntu 20.04.5 LTS) / x86_64  OK    OK    OK  UNNEEDED, same version is already published
palomino3Windows Server 2022 Datacenter / x64  OK    OK    OK    OK  UNNEEDED, same version is already published
merida1macOS 10.14.6 Mojave / x86_64  OK    OK    OK    OK  UNNEEDED, same version is already published
Package 25/463HostnameOS / ArchINSTALLBUILDCHECKBUILD BIN
AnnotationForge 1.38.1  (landing page)
Bioconductor Package Maintainer
git_last_commit: 2dcedf3
git_last_commit_date: 2022-08-10 16:48:13 -0400
nebbiolo1Linux (Ubuntu 20.04.5 LTS) / x86_64  OK    OK    OK  UNNEEDED, same version is already published
palomino3Windows Server 2022 Datacenter / x64  OK    OK    OK    OK  UNNEEDED, same version is already published
merida1macOS 10.14.6 Mojave / x86_64  OK    OK    OK    OK  UNNEEDED, same version is already published
Package 26/463HostnameOS / ArchINSTALLBUILDCHECKBUILD BIN
AnnotationHubData 1.26.1  (landing page)
Bioconductor Package Maintainer
git_last_commit: a04119c
git_last_commit_date: 2022-04-28 10:35:41 -0400
nebbiolo1Linux (Ubuntu 20.04.5 LTS) / x86_64  OK    OK    WARNINGS  UNNEEDED, same version is already published
palomino3Windows Server 2022 Datacenter / x64  OK    OK    WARNINGS    OK  UNNEEDED, same version is already published
merida1macOS 10.14.6 Mojave / x86_64  OK    OK    WARNINGS    OK  UNNEEDED, same version is already published
Package 27/463HostnameOS / ArchINSTALLBUILDCHECKBUILD BIN
annotationTools 1.70.0  (landing page)
Alexandre Kuhn
git_last_commit: 29fdba7
git_last_commit_date: 2022-04-26 10:59:28 -0400
nebbiolo1Linux (Ubuntu 20.04.5 LTS) / x86_64  OK    OK    OK  UNNEEDED, same version is already published
palomino3Windows Server 2022 Datacenter / x64  OK    OK    OK    OK  UNNEEDED, same version is already published
merida1macOS 10.14.6 Mojave / x86_64  OK    OK    OK    OK  UNNEEDED, same version is already published
Package 28/463HostnameOS / ArchINSTALLBUILDCHECKBUILD BIN
ArrayExpress 1.56.0  (landing page)
Suhaib Mohammed
git_last_commit: 56fb940
git_last_commit_date: 2022-04-26 11:01:58 -0400
nebbiolo1Linux (Ubuntu 20.04.5 LTS) / x86_64  OK    ERROR  skipped
palomino3Windows Server 2022 Datacenter / x64  OK    ERROR  skippedskipped
merida1macOS 10.14.6 Mojave / x86_64  OK    ERROR  skippedskipped
Package 29/463HostnameOS / ArchINSTALLBUILDCHECKBUILD BIN
ArrayExpressHTS 1.46.0  (landing page)
Angela Goncalves , Andrew Tikhonov
git_last_commit: 00e9ccc
git_last_commit_date: 2022-04-26 11:07:49 -0400
nebbiolo1Linux (Ubuntu 20.04.5 LTS) / x86_64  OK    OK    WARNINGS  UNNEEDED, same version is already published
palomino3Windows Server 2022 Datacenter / x64... NOT SUPPORTED ...
merida1macOS 10.14.6 Mojave / x86_64  OK    OK    WARNINGS    OK  UNNEEDED, same version is already published
Package 30/463HostnameOS / ArchINSTALLBUILDCHECKBUILD BIN
arrayMvout 1.54.0  (landing page)
V. Carey
git_last_commit: 74c2866
git_last_commit_date: 2022-04-26 11:02:11 -0400
nebbiolo1Linux (Ubuntu 20.04.5 LTS) / x86_64  OK    OK    OK  UNNEEDED, same version is already published
palomino3Windows Server 2022 Datacenter / x64  OK    OK    OK    OK  UNNEEDED, same version is already published
merida1macOS 10.14.6 Mojave / x86_64  OK    OK    OK    OK  UNNEEDED, same version is already published
Package 31/463HostnameOS / ArchINSTALLBUILDCHECKBUILD BIN
arrayQualityMetrics 3.52.0  (landing page)
Mike Smith
git_last_commit: f868c74
git_last_commit_date: 2022-04-26 11:00:12 -0400
nebbiolo1Linux (Ubuntu 20.04.5 LTS) / x86_64  OK    OK    OK  UNNEEDED, same version is already published
palomino3Windows Server 2022 Datacenter / x64  OK    OK    OK    OK  UNNEEDED, same version is already published
merida1macOS 10.14.6 Mojave / x86_64  OK    OK    OK    OK  UNNEEDED, same version is already published
Package 32/463HostnameOS / ArchINSTALLBUILDCHECKBUILD BIN
attract 1.48.0  (landing page)
Samuel Zimmerman
git_last_commit: 79fc65c
git_last_commit_date: 2022-04-26 11:05:09 -0400
nebbiolo1Linux (Ubuntu 20.04.5 LTS) / x86_64  OK    OK    OK  UNNEEDED, same version is already published
palomino3Windows Server 2022 Datacenter / x64  OK    OK    OK    OK  UNNEEDED, same version is already published
merida1macOS 10.14.6 Mojave / x86_64  OK    OK    OK    OK  UNNEEDED, same version is already published
Package 33/463HostnameOS / ArchINSTALLBUILDCHECKBUILD BIN
Autotuner 1.10.0  (landing page)
Craig McLean
git_last_commit: 2948ccc
git_last_commit_date: 2022-04-26 11:57:39 -0400
nebbiolo1Linux (Ubuntu 20.04.5 LTS) / x86_64  OK    ERROR  skipped
palomino3Windows Server 2022 Datacenter / x64  OK    ERROR  skippedskipped
merida1macOS 10.14.6 Mojave / x86_64  OK    ERROR  skippedskipped
Package 34/463HostnameOS / ArchINSTALLBUILDCHECKBUILD BIN
BAGS 2.36.0  (landing page)
Alejandro Quiroz-Zarate
git_last_commit: 69f606f
git_last_commit_date: 2022-04-26 11:10:08 -0400
nebbiolo1Linux (Ubuntu 20.04.5 LTS) / x86_64  OK    OK    OK  UNNEEDED, same version is already published
palomino3Windows Server 2022 Datacenter / x64  OK    OK    OK    OK  UNNEEDED, same version is already published
merida1macOS 10.14.6 Mojave / x86_64  OK    OK    OK    OK  UNNEEDED, same version is already published
Package 35/463HostnameOS / ArchINSTALLBUILDCHECKBUILD BIN
ballgown 2.28.0  (landing page)
Jack Fu
git_last_commit: bedd5b8
git_last_commit_date: 2022-04-26 11:20:42 -0400
nebbiolo1Linux (Ubuntu 20.04.5 LTS) / x86_64  OK    OK    OK  UNNEEDED, same version is already published
palomino3Windows Server 2022 Datacenter / x64  OK    OK    OK    OK  UNNEEDED, same version is already published
merida1macOS 10.14.6 Mojave / x86_64  OK    OK    OK    OK  UNNEEDED, same version is already published
Package 36/463HostnameOS / ArchINSTALLBUILDCHECKBUILD BIN
bandle 1.0.0  (landing page)
Oliver M. Crook
git_last_commit: a10b7c7
git_last_commit_date: 2022-04-26 12:22:40 -0400
nebbiolo1Linux (Ubuntu 20.04.5 LTS) / x86_64  OK    OK    OK  UNNEEDED, same version is already published
palomino3Windows Server 2022 Datacenter / x64  OK    OK    OK    OK  UNNEEDED, same version is already published
merida1macOS 10.14.6 Mojave / x86_64  OK    OK    OK    OK  UNNEEDED, same version is already published
Package 37/463HostnameOS / ArchINSTALLBUILDCHECKBUILD BIN
BASiCS 2.8.0  (landing page)
Alan O'Callaghan
git_last_commit: f891aab
git_last_commit_date: 2022-04-26 11:43:38 -0400
nebbiolo1Linux (Ubuntu 20.04.5 LTS) / x86_64  OK    OK    OK  UNNEEDED, same version is already published
palomino3Windows Server 2022 Datacenter / x64  OK    OK    OK    OK  UNNEEDED, same version is already published
merida1macOS 10.14.6 Mojave / x86_64  OK    OK    OK    OK  UNNEEDED, same version is already published
Package 38/463HostnameOS / ArchINSTALLBUILDCHECKBUILD BIN
BayesKnockdown 1.22.0  (landing page)
William Chad Young
git_last_commit: 1a523fc
git_last_commit_date: 2022-04-26 11:34:24 -0400
nebbiolo1Linux (Ubuntu 20.04.5 LTS) / x86_64  OK    OK    OK  UNNEEDED, same version is already published
palomino3Windows Server 2022 Datacenter / x64  OK    OK    OK    OK  UNNEEDED, same version is already published
merida1macOS 10.14.6 Mojave / x86_64  OK    OK    OK    OK  UNNEEDED, same version is already published
Package 39/463HostnameOS / ArchINSTALLBUILDCHECKBUILD BIN
beadarray 2.46.0  (landing page)
Mark Dunning
git_last_commit: 086626e
git_last_commit_date: 2022-04-26 10:58:03 -0400
nebbiolo1Linux (Ubuntu 20.04.5 LTS) / x86_64  OK    OK    OK  UNNEEDED, same version is already published
palomino3Windows Server 2022 Datacenter / x64  OK    OK    OK    OK  UNNEEDED, same version is already published
merida1macOS 10.14.6 Mojave / x86_64  OK    OK    OK    OK  UNNEEDED, same version is already published
Package 40/463HostnameOS / ArchINSTALLBUILDCHECKBUILD BIN
beadarraySNP 1.62.0  (landing page)
Jan Oosting
git_last_commit: 2284b70
git_last_commit_date: 2022-04-26 10:58:46 -0400
nebbiolo1Linux (Ubuntu 20.04.5 LTS) / x86_64  OK    OK    OK  UNNEEDED, same version is already published
palomino3Windows Server 2022 Datacenter / x64  OK    OK    OK    OK  UNNEEDED, same version is already published
merida1macOS 10.14.6 Mojave / x86_64  OK    OK    OK    OK  UNNEEDED, same version is already published
Package 41/463HostnameOS / ArchINSTALLBUILDCHECKBUILD BIN
BgeeDB 2.22.3  (landing page)
Julien Wollbrett , Julien Roux , Andrea Komljenovic , Frederic Bastian
git_last_commit: 374fb36
git_last_commit_date: 2022-06-28 08:36:23 -0400
nebbiolo1Linux (Ubuntu 20.04.5 LTS) / x86_64  OK    OK    OK  UNNEEDED, same version is already published
palomino3Windows Server 2022 Datacenter / x64  OK    OK    OK    OK  UNNEEDED, same version is already published
merida1macOS 10.14.6 Mojave / x86_64  OK    OK    OK    OK  UNNEEDED, same version is already published
Package 42/463HostnameOS / ArchINSTALLBUILDCHECKBUILD BIN
bgx 1.62.0  (landing page)
Ernest Turro
git_last_commit: b487de4
git_last_commit_date: 2022-04-26 10:59:53 -0400
nebbiolo1Linux (Ubuntu 20.04.5 LTS) / x86_64  OK    OK    OK  UNNEEDED, same version is already published
palomino3Windows Server 2022 Datacenter / x64  OK    OK    OK    OK  UNNEEDED, same version is already published
merida1macOS 10.14.6 Mojave / x86_64  OK    OK    WARNINGS    OK  UNNEEDED, same version is already published
Package 43/463HostnameOS / ArchINSTALLBUILDCHECKBUILD BIN
BicARE 1.54.0  (landing page)
Pierre Gestraud
git_last_commit: 47ce7e3
git_last_commit_date: 2022-04-26 11:02:14 -0400
nebbiolo1Linux (Ubuntu 20.04.5 LTS) / x86_64  OK    OK    OK  UNNEEDED, same version is already published
palomino3Windows Server 2022 Datacenter / x64  OK    OK    OK    OK  UNNEEDED, same version is already published
merida1macOS 10.14.6 Mojave / x86_64  OK    OK    OK    OK  UNNEEDED, same version is already published
Package 44/463HostnameOS / ArchINSTALLBUILDCHECKBUILD BIN
bigmelon 1.22.0  (landing page)
Tyler J. Gorrie-Stone
git_last_commit: 94e8b0f
git_last_commit_date: 2022-04-26 11:35:38 -0400
nebbiolo1Linux (Ubuntu 20.04.5 LTS) / x86_64  OK    OK    WARNINGS  UNNEEDED, same version is already published
palomino3Windows Server 2022 Datacenter / x64  OK    OK    WARNINGS    OK  UNNEEDED, same version is already published
merida1macOS 10.14.6 Mojave / x86_64  OK    OK    WARNINGS    OK  UNNEEDED, same version is already published
Package 45/463HostnameOS / ArchINSTALLBUILDCHECKBUILD BIN
biobroom 1.28.0  (landing page)
John D. Storey and Andrew J. Bass
git_last_commit: 1511b5d
git_last_commit_date: 2022-04-26 11:28:04 -0400
nebbiolo1Linux (Ubuntu 20.04.5 LTS) / x86_64  OK    OK    WARNINGS  UNNEEDED, same version is already published
palomino3Windows Server 2022 Datacenter / x64  OK    OK    WARNINGS    OK  UNNEEDED, same version is already published
merida1macOS 10.14.6 Mojave / x86_64  OK    OK    WARNINGS    OK  UNNEEDED, same version is already published
Package 46/463HostnameOS / ArchINSTALLBUILDCHECKBUILD BIN
bioCancer 1.24.01  (landing page)
Karim Mezhoud
git_last_commit: a748d9b
git_last_commit_date: 2022-04-26 16:55:33 -0400
nebbiolo1Linux (Ubuntu 20.04.5 LTS) / x86_64  OK    OK    OK  UNNEEDED, same version is already published
palomino3Windows Server 2022 Datacenter / x64  OK    OK    OK    OK  UNNEEDED, same version is already published
merida1macOS 10.14.6 Mojave / x86_64  OK    OK    OK    OK  UNNEEDED, same version is already published
Package 47/463HostnameOS / ArchINSTALLBUILDCHECKBUILD BIN
biocViews 1.64.1  (landing page)
Bioconductor Package Maintainer
git_last_commit: 1075b4d
git_last_commit_date: 2022-07-18 15:58:17 -0400
nebbiolo1Linux (Ubuntu 20.04.5 LTS) / x86_64  OK    OK    OK  UNNEEDED, same version is already published
palomino3Windows Server 2022 Datacenter / x64  OK    OK    OK    OK  UNNEEDED, same version is already published
merida1macOS 10.14.6 Mojave / x86_64  OK    OK    OK    OK  UNNEEDED, same version is already published
Package 48/463HostnameOS / ArchINSTALLBUILDCHECKBUILD BIN
bioDist 1.68.0  (landing page)
Bioconductor Package Maintainer
git_last_commit: 51ae6c2
git_last_commit_date: 2022-04-26 10:56:35 -0400
nebbiolo1Linux (Ubuntu 20.04.5 LTS) / x86_64  OK    OK    OK  UNNEEDED, same version is already published
palomino3Windows Server 2022 Datacenter / x64  OK    OK    OK    OK  UNNEEDED, same version is already published
merida1macOS 10.14.6 Mojave / x86_64  OK    OK    OK    OK  UNNEEDED, same version is already published
Package 49/463HostnameOS / ArchINSTALLBUILDCHECKBUILD BIN
BioMVCClass 1.64.0  (landing page)
Elizabeth Whalen
git_last_commit: d1ec821
git_last_commit_date: 2022-04-26 10:58:42 -0400
nebbiolo1Linux (Ubuntu 20.04.5 LTS) / x86_64  OK    OK    OK  UNNEEDED, same version is already published
palomino3Windows Server 2022 Datacenter / x64  OK    OK    OK    OK  UNNEEDED, same version is already published
merida1macOS 10.14.6 Mojave / x86_64  OK    OK    OK    OK  UNNEEDED, same version is already published
Package 50/463HostnameOS / ArchINSTALLBUILDCHECKBUILD BIN
BioNet 1.56.0  (landing page)
Marcus Dittrich
git_last_commit: a9a9190
git_last_commit_date: 2022-04-26 11:05:29 -0400
nebbiolo1Linux (Ubuntu 20.04.5 LTS) / x86_64  OK    OK    OK  UNNEEDED, same version is already published
palomino3Windows Server 2022 Datacenter / x64  OK    OK    OK    OK  UNNEEDED, same version is already published
merida1macOS 10.14.6 Mojave / x86_64  OK    OK    OK    OK  UNNEEDED, same version is already published
Package 51/463HostnameOS / ArchINSTALLBUILDCHECKBUILD BIN
BioQC 1.24.0  (landing page)
Jitao David Zhang
git_last_commit: ca8b2f2
git_last_commit_date: 2022-04-26 11:28:28 -0400
nebbiolo1Linux (Ubuntu 20.04.5 LTS) / x86_64  OK    OK    OK  UNNEEDED, same version is already published
palomino3Windows Server 2022 Datacenter / x64  OK    OK    OK    OK  UNNEEDED, same version is already published
merida1macOS 10.14.6 Mojave / x86_64  OK    OK    OK    OK  UNNEEDED, same version is already published
Package 52/463HostnameOS / ArchINSTALLBUILDCHECKBUILD BIN
biosigner 1.24.2  (landing page)
Etienne A. Thevenot
git_last_commit: 8f8c386
git_last_commit_date: 2022-06-22 17:09:59 -0400
nebbiolo1Linux (Ubuntu 20.04.5 LTS) / x86_64  OK    OK    OK  UNNEEDED, same version is already published
palomino3Windows Server 2022 Datacenter / x64  OK    OK    OK    OK  UNNEEDED, same version is already published
merida1macOS 10.14.6 Mojave / x86_64  OK    OK    OK    OK  UNNEEDED, same version is already published
Package 53/463HostnameOS / ArchINSTALLBUILDCHECKBUILD BIN
biscuiteer 1.10.0  (landing page)
Jacob Morrison
git_last_commit: 4e21745
git_last_commit_date: 2022-04-26 12:00:38 -0400
nebbiolo1Linux (Ubuntu 20.04.5 LTS) / x86_64  OK    OK    WARNINGS  UNNEEDED, same version is already published
palomino3Windows Server 2022 Datacenter / x64  OK    OK    WARNINGS    OK  UNNEEDED, same version is already published
merida1macOS 10.14.6 Mojave / x86_64  OK    OK    WARNINGS    OK  UNNEEDED, same version is already published
Package 54/463HostnameOS / ArchINSTALLBUILDCHECKBUILD BIN
BiSeq 1.36.0  (landing page)
Katja Hebestreit
git_last_commit: b5cd494
git_last_commit_date: 2022-04-26 11:14:44 -0400
nebbiolo1Linux (Ubuntu 20.04.5 LTS) / x86_64  OK    OK    OK  UNNEEDED, same version is already published
palomino3Windows Server 2022 Datacenter / x64  OK    OK    OK    OK  UNNEEDED, same version is already published
merida1macOS 10.14.6 Mojave / x86_64  OK    OK    OK    OK  UNNEEDED, same version is already published
Package 55/463HostnameOS / ArchINSTALLBUILDCHECKBUILD BIN
blima 1.30.0  (landing page)
Vojtěch Kulvait
git_last_commit: 4841dee
git_last_commit_date: 2022-04-26 11:19:50 -0400
nebbiolo1Linux (Ubuntu 20.04.5 LTS) / x86_64  OK    OK    WARNINGS  UNNEEDED, same version is already published
palomino3Windows Server 2022 Datacenter / x64  OK    OK    WARNINGS    OK  UNNEEDED, same version is already published
merida1macOS 10.14.6 Mojave / x86_64  OK    OK    WARNINGS    OK  UNNEEDED, same version is already published
Package 56/463HostnameOS / ArchINSTALLBUILDCHECKBUILD BIN
BLMA 1.20.0  (landing page)
Hung Nguyen
git_last_commit: ff6c3fd
git_last_commit_date: 2022-04-26 11:40:33 -0400
nebbiolo1Linux (Ubuntu 20.04.5 LTS) / x86_64  OK    OK    OK  UNNEEDED, same version is already published
palomino3Windows Server 2022 Datacenter / x64  OK    OK    OK    OK  UNNEEDED, same version is already published
merida1macOS 10.14.6 Mojave / x86_64  OK    OK    OK    OK  UNNEEDED, same version is already published
Package 57/463HostnameOS / ArchINSTALLBUILDCHECKBUILD BIN
bnem 1.4.0  (landing page)
Martin Pirkl
git_last_commit: 140e9fb
git_last_commit_date: 2022-04-26 12:11:22 -0400
nebbiolo1Linux (Ubuntu 20.04.5 LTS) / x86_64  OK    OK    OK  UNNEEDED, same version is already published
palomino3Windows Server 2022 Datacenter / x64  OK    OK    OK    OK  UNNEEDED, same version is already published
merida1macOS 10.14.6 Mojave / x86_64  OK    OK    OK    OK  UNNEEDED, same version is already published
Package 58/463HostnameOS / ArchINSTALLBUILDCHECKBUILD BIN
borealis 1.0.1  (landing page)
Garrett Jenkinson
git_last_commit: c9ce514
git_last_commit_date: 2022-05-24 20:18:17 -0400
nebbiolo1Linux (Ubuntu 20.04.5 LTS) / x86_64  OK    OK    OK  UNNEEDED, same version is already published
palomino3Windows Server 2022 Datacenter / x64  OK    OK    OK    OK  UNNEEDED, same version is already published
merida1macOS 10.14.6 Mojave / x86_64  OK    OK    OK    OK  UNNEEDED, same version is already published
Package 59/463HostnameOS / ArchINSTALLBUILDCHECKBUILD BIN
bsseq 1.32.0  (landing page)
Kasper Daniel Hansen
git_last_commit: a0c1eac
git_last_commit_date: 2022-04-26 11:11:30 -0400
nebbiolo1Linux (Ubuntu 20.04.5 LTS) / x86_64  OK    OK    OK  UNNEEDED, same version is already published
palomino3Windows Server 2022 Datacenter / x64  OK    OK    OK    OK  UNNEEDED, same version is already published
merida1macOS 10.14.6 Mojave / x86_64  OK    OK    OK    OK  UNNEEDED, same version is already published
Package 60/463HostnameOS / ArchINSTALLBUILDCHECKBUILD BIN
BubbleTree 2.26.0  (landing page)
Todd Creasy , Wei Zhu
git_last_commit: e421c4f
git_last_commit_date: 2022-04-26 11:23:48 -0400
nebbiolo1Linux (Ubuntu 20.04.5 LTS) / x86_64  OK    OK    OK  UNNEEDED, same version is already published
palomino3Windows Server 2022 Datacenter / x64  OK    OK    OK    OK  UNNEEDED, same version is already published
merida1macOS 10.14.6 Mojave / x86_64  OK    OK    OK    OK  UNNEEDED, same version is already published
Package 61/463HostnameOS / ArchINSTALLBUILDCHECKBUILD BIN
CAFE 1.32.0  (landing page)
Sander Bollen
git_last_commit: 907bc46
git_last_commit_date: 2022-04-26 11:18:08 -0400
nebbiolo1Linux (Ubuntu 20.04.5 LTS) / x86_64  OK    OK    WARNINGS  UNNEEDED, same version is already published
palomino3Windows Server 2022 Datacenter / x64  OK    OK    WARNINGS    OK  UNNEEDED, same version is already published
merida1macOS 10.14.6 Mojave / x86_64  OK    OK    WARNINGS    OK  UNNEEDED, same version is already published
Package 62/463HostnameOS / ArchINSTALLBUILDCHECKBUILD BIN
CAMERA 1.52.0  (landing page)
Steffen Neumann
git_last_commit: 63642b8
git_last_commit_date: 2022-04-26 11:02:39 -0400
nebbiolo1Linux (Ubuntu 20.04.5 LTS) / x86_64  OK    OK    OK  UNNEEDED, same version is already published
palomino3Windows Server 2022 Datacenter / x64  OK    OK    OK    OK  UNNEEDED, same version is already published
merida1macOS 10.14.6 Mojave / x86_64  OK    OK    OK    OK  UNNEEDED, same version is already published
Package 63/463HostnameOS / ArchINSTALLBUILDCHECKBUILD BIN
canceR 1.30.01  (landing page)
Karim Mezhoud
git_last_commit: 68d3ad1
git_last_commit_date: 2022-04-27 03:31:16 -0400
nebbiolo1Linux (Ubuntu 20.04.5 LTS) / x86_64  OK    OK    OK  UNNEEDED, same version is already published
palomino3Windows Server 2022 Datacenter / x64  OK    OK    OK    OK  UNNEEDED, same version is already published
merida1macOS 10.14.6 Mojave / x86_64  OK    OK    OK    OK  UNNEEDED, same version is already published
Package 64/463HostnameOS / ArchINSTALLBUILDCHECKBUILD BIN
cancerclass 1.40.0  (landing page)
Daniel Kosztyla
git_last_commit: b99f5b6
git_last_commit_date: 2022-04-26 11:11:03 -0400
nebbiolo1Linux (Ubuntu 20.04.5 LTS) / x86_64  OK    OK    OK  UNNEEDED, same version is already published
palomino3Windows Server 2022 Datacenter / x64  OK    OK    OK    OK  UNNEEDED, same version is already published
merida1macOS 10.14.6 Mojave / x86_64  OK    OK    WARNINGS    OK  UNNEEDED, same version is already published
Package 65/463HostnameOS / ArchINSTALLBUILDCHECKBUILD BIN
Cardinal 2.14.0  (landing page)
Kylie A. Bemis
git_last_commit: 1c8f02e
git_last_commit_date: 2022-04-26 11:23:41 -0400
nebbiolo1Linux (Ubuntu 20.04.5 LTS) / x86_64  OK    OK    OK  UNNEEDED, same version is already published
palomino3Windows Server 2022 Datacenter / x64  OK    OK    OK    OK  UNNEEDED, same version is already published
merida1macOS 10.14.6 Mojave / x86_64  OK    OK    OK    OK  UNNEEDED, same version is already published
Package 66/463HostnameOS / ArchINSTALLBUILDCHECKBUILD BIN
casper 2.30.0  (landing page)
David Rossell
git_last_commit: 140c9ad
git_last_commit_date: 2022-04-26 11:13:19 -0400
nebbiolo1Linux (Ubuntu 20.04.5 LTS) / x86_64  OK    OK    WARNINGS  UNNEEDED, same version is already published
palomino3Windows Server 2022 Datacenter / x64  OK    OK    WARNINGS    OK  UNNEEDED, same version is already published
merida1macOS 10.14.6 Mojave / x86_64  OK    OK    WARNINGS    OK  UNNEEDED, same version is already published
Package 67/463HostnameOS / ArchINSTALLBUILDCHECKBUILD BIN
Category 2.62.0  (landing page)
Bioconductor Package Maintainer
git_last_commit: 0fe801c
git_last_commit_date: 2022-04-26 10:57:10 -0400
nebbiolo1Linux (Ubuntu 20.04.5 LTS) / x86_64  OK    OK    OK  UNNEEDED, same version is already published
palomino3Windows Server 2022 Datacenter / x64  OK    OK    OK    OK  UNNEEDED, same version is already published
merida1macOS 10.14.6 Mojave / x86_64  OK    OK    OK    OK  UNNEEDED, same version is already published
Package 68/463HostnameOS / ArchINSTALLBUILDCHECKBUILD BIN
categoryCompare 1.40.0  (landing page)
Robert M. Flight
git_last_commit: b657a93
git_last_commit_date: 2022-04-26 11:10:58 -0400
nebbiolo1Linux (Ubuntu 20.04.5 LTS) / x86_64  OK    OK    OK  UNNEEDED, same version is already published
palomino3Windows Server 2022 Datacenter / x64  OK    OK    OK    OK  UNNEEDED, same version is already published
merida1macOS 10.14.6 Mojave / x86_64  OK    OK    OK    OK  UNNEEDED, same version is already published
Package 69/463HostnameOS / ArchINSTALLBUILDCHECKBUILD BIN
CCPROMISE 1.22.0  (landing page)
Xueyuan Cao
git_last_commit: 9358ff9
git_last_commit_date: 2022-04-26 11:37:23 -0400
nebbiolo1Linux (Ubuntu 20.04.5 LTS) / x86_64  OK    OK    WARNINGS  UNNEEDED, same version is already published
palomino3Windows Server 2022 Datacenter / x64  OK    OK    WARNINGS    OK  UNNEEDED, same version is already published
merida1macOS 10.14.6 Mojave / x86_64  OK    OK    WARNINGS    OK  UNNEEDED, same version is already published
Package 70/463HostnameOS / ArchINSTALLBUILDCHECKBUILD BIN
cellHTS2 2.60.0  (landing page)
Joseph Barry
git_last_commit: 32edd2a
git_last_commit_date: 2022-04-26 10:59:59 -0400
nebbiolo1Linux (Ubuntu 20.04.5 LTS) / x86_64  OK    OK    OK  UNNEEDED, same version is already published
palomino3Windows Server 2022 Datacenter / x64  OK    OK    OK    OK  UNNEEDED, same version is already published
merida1macOS 10.14.6 Mojave / x86_64  OK    OK    OK    OK  UNNEEDED, same version is already published
Package 71/463HostnameOS / ArchINSTALLBUILDCHECKBUILD BIN
CellScore 1.16.0  (landing page)
Nancy Mah
git_last_commit: 03f83cd
git_last_commit_date: 2022-04-26 11:47:18 -0400
nebbiolo1Linux (Ubuntu 20.04.5 LTS) / x86_64  OK    OK    OK  UNNEEDED, same version is already published
palomino3Windows Server 2022 Datacenter / x64  OK    OK    OK    OK  UNNEEDED, same version is already published
merida1macOS 10.14.6 Mojave / x86_64  OK    OK    OK    OK  UNNEEDED, same version is already published
Package 72/463HostnameOS / ArchINSTALLBUILDCHECKBUILD BIN
CellTrails 1.14.0  (landing page)
Daniel Ellwanger
git_last_commit: 3ad6bc4
git_last_commit_date: 2022-04-26 11:49:46 -0400
nebbiolo1Linux (Ubuntu 20.04.5 LTS) / x86_64  OK    OK    OK  UNNEEDED, same version is already published
palomino3Windows Server 2022 Datacenter / x64  OK    OK    OK    OK  UNNEEDED, same version is already published
merida1macOS 10.14.6 Mojave / x86_64  OK    OK    OK    OK  UNNEEDED, same version is already published
Package 73/463HostnameOS / ArchINSTALLBUILDCHECKBUILD BIN
CGHbase 1.56.0  (landing page)
Mark van de Wiel
git_last_commit: a5a82a3
git_last_commit_date: 2022-04-26 11:01:17 -0400
nebbiolo1Linux (Ubuntu 20.04.5 LTS) / x86_64  OK    OK    OK  UNNEEDED, same version is already published
palomino3Windows Server 2022 Datacenter / x64  OK    OK    OK    OK  UNNEEDED, same version is already published
merida1macOS 10.14.6 Mojave / x86_64  OK    OK    OK    OK  UNNEEDED, same version is already published
Package 74/463HostnameOS / ArchINSTALLBUILDCHECKBUILD BIN
CGHcall 2.58.0  (landing page)
Mark van de Wiel
git_last_commit: 483edc7
git_last_commit_date: 2022-04-26 11:00:15 -0400
nebbiolo1Linux (Ubuntu 20.04.5 LTS) / x86_64  OK    OK    WARNINGS  UNNEEDED, same version is already published
palomino3Windows Server 2022 Datacenter / x64  OK    OK    WARNINGS    OK  UNNEEDED, same version is already published
merida1macOS 10.14.6 Mojave / x86_64  OK    OK    WARNINGS    OK  UNNEEDED, same version is already published
Package 75/463HostnameOS / ArchINSTALLBUILDCHECKBUILD BIN
CGHnormaliter 1.50.0  (landing page)
Bart P.P. van Houte
git_last_commit: 39abab6
git_last_commit_date: 2022-04-26 11:03:40 -0400
nebbiolo1Linux (Ubuntu 20.04.5 LTS) / x86_64  OK    OK    OK  UNNEEDED, same version is already published
palomino3Windows Server 2022 Datacenter / x64  OK    OK    OK    OK  UNNEEDED, same version is already published
merida1macOS 10.14.6 Mojave / x86_64  OK    OK    OK    OK  UNNEEDED, same version is already published
Package 76/463HostnameOS / ArchINSTALLBUILDCHECKBUILD BIN
CGHregions 1.54.0  (landing page)
Sjoerd Vosse
git_last_commit: ee2fb77
git_last_commit_date: 2022-04-26 11:01:19 -0400
nebbiolo1Linux (Ubuntu 20.04.5 LTS) / x86_64  OK    OK    OK  UNNEEDED, same version is already published
palomino3Windows Server 2022 Datacenter / x64  OK    OK    OK    OK  UNNEEDED, same version is already published
merida1macOS 10.14.6 Mojave / x86_64  OK    OK    OK    OK  UNNEEDED, same version is already published
Package 77/463HostnameOS / ArchINSTALLBUILDCHECKBUILD BIN
ChIPQC 1.32.2  (landing page)
Tom Carroll , Rory Stark
git_last_commit: 6f49921
git_last_commit_date: 2022-08-08 12:36:30 -0400
nebbiolo1Linux (Ubuntu 20.04.5 LTS) / x86_64  OK    OK    WARNINGS  UNNEEDED, same version is already published
palomino3Windows Server 2022 Datacenter / x64  OK    OK    WARNINGS    OK  UNNEEDED, same version is already published
merida1macOS 10.14.6 Mojave / x86_64  OK    OK    WARNINGS    OK  UNNEEDED, same version is already published
Package 78/463HostnameOS / ArchINSTALLBUILDCHECKBUILD BIN
ChIPXpress 1.40.0  (landing page)
George Wu
git_last_commit: b47eccb
git_last_commit_date: 2022-04-26 11:11:43 -0400
nebbiolo1Linux (Ubuntu 20.04.5 LTS) / x86_64  OK    OK    OK  UNNEEDED, same version is already published
palomino3Windows Server 2022 Datacenter / x64... NOT SUPPORTED ...
merida1macOS 10.14.6 Mojave / x86_64  OK    OK    OK    OK  UNNEEDED, same version is already published
Package 79/463HostnameOS / ArchINSTALLBUILDCHECKBUILD BIN
ChromHeatMap 1.50.0  (landing page)
Tim F. Rayner
git_last_commit: c63800c
git_last_commit_date: 2022-04-26 11:03:46 -0400
nebbiolo1Linux (Ubuntu 20.04.5 LTS) / x86_64  OK    OK    OK  UNNEEDED, same version is already published
palomino3Windows Server 2022 Datacenter / x64  OK    OK    OK    OK  UNNEEDED, same version is already published
merida1macOS 10.14.6 Mojave / x86_64  OK    OK    OK    OK  UNNEEDED, same version is already published
Package 80/463HostnameOS / ArchINSTALLBUILDCHECKBUILD BIN
chromswitch 1.18.0  (landing page)
Selin Jessa
git_last_commit: 38d1fce
git_last_commit_date: 2022-04-26 11:45:10 -0400
nebbiolo1Linux (Ubuntu 20.04.5 LTS) / x86_64  OK    OK    OK  UNNEEDED, same version is already published
palomino3Windows Server 2022 Datacenter / x64  OK    OK    OK    OK  UNNEEDED, same version is already published
merida1macOS 10.14.6 Mojave / x86_64  OK    OK    OK    OK  UNNEEDED, same version is already published
Package 81/463HostnameOS / ArchINSTALLBUILDCHECKBUILD BIN
cicero 1.14.0  (landing page)
Hannah Pliner
git_last_commit: 40708f7
git_last_commit_date: 2022-04-26 11:51:19 -0400
nebbiolo1Linux (Ubuntu 20.04.5 LTS) / x86_64  OK    OK    OK  UNNEEDED, same version is already published
palomino3Windows Server 2022 Datacenter / x64  OK    OK    OK    OK  UNNEEDED, same version is already published
merida1macOS 10.14.6 Mojave / x86_64  OK    OK    OK    OK  UNNEEDED, same version is already published
Package 82/463HostnameOS / ArchINSTALLBUILDCHECKBUILD BIN
clippda 1.46.0  (landing page)
Stephen Nyangoma
git_last_commit: deadf01
git_last_commit_date: 2022-04-26 11:03:31 -0400
nebbiolo1Linux (Ubuntu 20.04.5 LTS) / x86_64  OK    OK    WARNINGS  UNNEEDED, same version is already published
palomino3Windows Server 2022 Datacenter / x64  OK    OK    WARNINGS    OK  UNNEEDED, same version is already published
merida1macOS 10.14.6 Mojave / x86_64  OK    OK    WARNINGS    OK  UNNEEDED, same version is already published
Package 83/463HostnameOS / ArchINSTALLBUILDCHECKBUILD BIN
clipper 1.36.1  (landing page)
Paolo Martini
git_last_commit: d326ac8
git_last_commit_date: 2022-09-21 02:36:59 -0400
nebbiolo1Linux (Ubuntu 20.04.5 LTS) / x86_64  OK    OK    OK  UNNEEDED, same version is already published
palomino3Windows Server 2022 Datacenter / x64  OK    OK    OK    OK  UNNEEDED, same version is already published
merida1macOS 10.14.6 Mojave / x86_64  OK    OK    OK    OK  UNNEEDED, same version is already published
Package 84/463HostnameOS / ArchINSTALLBUILDCHECKBUILD BIN
CluMSID 1.12.0  (landing page)
Tobias Depke
git_last_commit: d40d5dd
git_last_commit_date: 2022-04-26 11:52:39 -0400
nebbiolo1Linux (Ubuntu 20.04.5 LTS) / x86_64  OK    OK    OK  UNNEEDED, same version is already published
palomino3Windows Server 2022 Datacenter / x64  OK    OK    OK    OK  UNNEEDED, same version is already published
merida1macOS 10.14.6 Mojave / x86_64  OK    OK    OK    OK  UNNEEDED, same version is already published
Package 85/463HostnameOS / ArchINSTALLBUILDCHECKBUILD BIN
clusterStab 1.68.0  (landing page)
James W. MacDonald
git_last_commit: 8cb667b
git_last_commit_date: 2022-04-26 10:57:17 -0400
nebbiolo1Linux (Ubuntu 20.04.5 LTS) / x86_64  OK    OK    OK  UNNEEDED, same version is already published
palomino3Windows Server 2022 Datacenter / x64  OK    OK    OK    OK  UNNEEDED, same version is already published
merida1macOS 10.14.6 Mojave / x86_64  OK    OK    OK    OK  UNNEEDED, same version is already published
Package 86/463HostnameOS / ArchINSTALLBUILDCHECKBUILD BIN
CMA 1.54.0  (landing page)
Roman Hornung
git_last_commit: 0745710
git_last_commit_date: 2022-04-26 11:01:22 -0400
nebbiolo1Linux (Ubuntu 20.04.5 LTS) / x86_64  OK    OK    OK  UNNEEDED, same version is already published
palomino3Windows Server 2022 Datacenter / x64  OK    OK    OK    OK  UNNEEDED, same version is already published
merida1macOS 10.14.6 Mojave / x86_64  OK    OK    OK    OK  UNNEEDED, same version is already published
Package 87/463HostnameOS / ArchINSTALLBUILDCHECKBUILD BIN
cn.farms 1.44.0  (landing page)
Andreas Mitterecker
git_last_commit: b002089
git_last_commit_date: 2022-04-26 11:07:19 -0400
nebbiolo1Linux (Ubuntu 20.04.5 LTS) / x86_64  OK    OK    OK  UNNEEDED, same version is already published
palomino3Windows Server 2022 Datacenter / x64  OK    OK    OK    OK  UNNEEDED, same version is already published
merida1macOS 10.14.6 Mojave / x86_64  OK    OK    OK    OK  UNNEEDED, same version is already published
Package 88/463HostnameOS / ArchINSTALLBUILDCHECKBUILD BIN
cn.mops 1.42.0  (landing page)
Gundula Povysil
git_last_commit: 64e5afb
git_last_commit_date: 2022-04-26 11:09:44 -0400
nebbiolo1Linux (Ubuntu 20.04.5 LTS) / x86_64  OK    OK    OK  UNNEEDED, same version is already published
palomino3Windows Server 2022 Datacenter / x64  OK    OK    OK    OK  UNNEEDED, same version is already published
merida1macOS 10.14.6 Mojave / x86_64  OK    OK    OK    OK  UNNEEDED, same version is already published
Package 89/463HostnameOS / ArchINSTALLBUILDCHECKBUILD BIN
COCOA 2.10.0  (landing page)
John Lawson
git_last_commit: feb68cd
git_last_commit_date: 2022-04-26 11:51:50 -0400
nebbiolo1Linux (Ubuntu 20.04.5 LTS) / x86_64  OK    OK    OK  UNNEEDED, same version is already published
palomino3Windows Server 2022 Datacenter / x64  OK    OK    OK    OK  UNNEEDED, same version is already published
merida1macOS 10.14.6 Mojave / x86_64  OK    OK    OK    OK  UNNEEDED, same version is already published
Package 90/463HostnameOS / ArchINSTALLBUILDCHECKBUILD BIN
codelink 1.64.0  (landing page)
Diego Diez
git_last_commit: 36f9cc7
git_last_commit_date: 2022-04-26 10:57:54 -0400
nebbiolo1Linux (Ubuntu 20.04.5 LTS) / x86_64  OK    OK    OK  UNNEEDED, same version is already published
palomino3Windows Server 2022 Datacenter / x64  OK    OK    OK    OK  UNNEEDED, same version is already published
merida1macOS 10.14.6 Mojave / x86_64  OK    OK    OK    OK  UNNEEDED, same version is already published
Package 91/463HostnameOS / ArchINSTALLBUILDCHECKBUILD BIN
coexnet 1.18.0  (landing page)
Juan David Henao
git_last_commit: 6b1c1b3
git_last_commit_date: 2022-04-26 11:41:26 -0400
nebbiolo1Linux (Ubuntu 20.04.5 LTS) / x86_64  OK    OK    ERROR  
palomino3Windows Server 2022 Datacenter / x64  OK    OK    ERROR    OK  
merida1macOS 10.14.6 Mojave / x86_64  OK    OK    ERROR    OK  
Package 92/463HostnameOS / ArchINSTALLBUILDCHECKBUILD BIN
cogena 1.30.0  (landing page)
Zhilong Jia
git_last_commit: ab507f7
git_last_commit_date: 2022-04-26 11:24:52 -0400
nebbiolo1Linux (Ubuntu 20.04.5 LTS) / x86_64  OK    OK    WARNINGS  UNNEEDED, same version is already published
palomino3Windows Server 2022 Datacenter / x64  OK    OK    WARNINGS    OK  UNNEEDED, same version is already published
merida1macOS 10.14.6 Mojave / x86_64  OK    OK    WARNINGS    OK  UNNEEDED, same version is already published
Package 93/463HostnameOS / ArchINSTALLBUILDCHECKBUILD BIN
combi 1.8.0  (landing page)
Stijn Hawinkel
git_last_commit: 5360215
git_last_commit_date: 2022-04-26 12:03:34 -0400
nebbiolo1Linux (Ubuntu 20.04.5 LTS) / x86_64  OK    OK    OK  UNNEEDED, same version is already published
palomino3Windows Server 2022 Datacenter / x64  OK    OK    OK    OK  UNNEEDED, same version is already published
merida1macOS 10.14.6 Mojave / x86_64  OK    OK    OK    OK  UNNEEDED, same version is already published
Package 94/463HostnameOS / ArchINSTALLBUILDCHECKBUILD BIN
CompoundDb 1.0.2  (landing page)
Johannes Rainer
git_last_commit: 5961080
git_last_commit_date: 2022-09-01 01:49:40 -0400
nebbiolo1Linux (Ubuntu 20.04.5 LTS) / x86_64  OK    OK    OK  UNNEEDED, same version is already published
palomino3Windows Server 2022 Datacenter / x64  OK    OK    OK    OK  UNNEEDED, same version is already published
merida1macOS 10.14.6 Mojave / x86_64  OK    OK    OK    OK  UNNEEDED, same version is already published
Package 95/463HostnameOS / ArchINSTALLBUILDCHECKBUILD BIN
conclus 1.4.0  (landing page)
Ilyess Rachedi
git_last_commit: 396fe44
git_last_commit_date: 2022-04-26 12:14:35 -0400
nebbiolo1Linux (Ubuntu 20.04.5 LTS) / x86_64  OK    OK    ERROR  
palomino3Windows Server 2022 Datacenter / x64  OK    OK    ERROR    OK  
merida1macOS 10.14.6 Mojave / x86_64  OK    OK    ERROR    OK  
Package 96/463HostnameOS / ArchINSTALLBUILDCHECKBUILD BIN
ConsensusClusterPlus 1.60.0  (landing page)
Matt Wilkerson
git_last_commit: f12f54c
git_last_commit_date: 2022-04-26 11:04:10 -0400
nebbiolo1Linux (Ubuntu 20.04.5 LTS) / x86_64  OK    OK    OK  UNNEEDED, same version is already published
palomino3Windows Server 2022 Datacenter / x64  OK    OK    OK    OK  UNNEEDED, same version is already published
merida1macOS 10.14.6 Mojave / x86_64  OK    OK    OK    OK  UNNEEDED, same version is already published
Package 97/463HostnameOS / ArchINSTALLBUILDCHECKBUILD BIN
consensusDE 1.14.0  (landing page)
Ashley J. Waardenberg
git_last_commit: a3c3766
git_last_commit_date: 2022-04-26 11:51:54 -0400
nebbiolo1Linux (Ubuntu 20.04.5 LTS) / x86_64  OK    OK    OK  UNNEEDED, same version is already published
palomino3Windows Server 2022 Datacenter / x64  OK    OK    OK    OK  UNNEEDED, same version is already published
merida1macOS 10.14.6 Mojave / x86_64  OK    OK    OK    OK  UNNEEDED, same version is already published
Package 98/463HostnameOS / ArchINSTALLBUILDCHECKBUILD BIN
consensusOV 1.18.0  (landing page)
Benjamin Haibe-Kains
git_last_commit: 8310506
git_last_commit_date: 2022-04-26 11:41:51 -0400
nebbiolo1Linux (Ubuntu 20.04.5 LTS) / x86_64  OK    OK    OK  UNNEEDED, same version is already published
palomino3Windows Server 2022 Datacenter / x64  OK    OK    OK    OK  UNNEEDED, same version is already published
merida1macOS 10.14.6 Mojave / x86_64  OK    OK    OK    OK  UNNEEDED, same version is already published
Package 99/463HostnameOS / ArchINSTALLBUILDCHECKBUILD BIN
convert 1.72.0  (landing page)
Yee Hwa (Jean) Yang
git_last_commit: 516168a
git_last_commit_date: 2022-04-26 10:55:55 -0400
nebbiolo1Linux (Ubuntu 20.04.5 LTS) / x86_64  OK    OK    OK  UNNEEDED, same version is already published
palomino3Windows Server 2022 Datacenter / x64  OK    OK    OK    OK  UNNEEDED, same version is already published
merida1macOS 10.14.6 Mojave / x86_64  OK    OK    OK    OK  UNNEEDED, same version is already published
Package 100/463HostnameOS / ArchINSTALLBUILDCHECKBUILD BIN
copa 1.64.0  (landing page)
James W. MacDonald
git_last_commit: f777e54
git_last_commit_date: 2022-04-26 10:58:10 -0400
nebbiolo1Linux (Ubuntu 20.04.5 LTS) / x86_64  OK    OK    OK  UNNEEDED, same version is already published
palomino3Windows Server 2022 Datacenter / x64  OK    OK    OK    OK  UNNEEDED, same version is already published
merida1macOS 10.14.6 Mojave / x86_64  OK    OK    OK    OK  UNNEEDED, same version is already published
Package 101/463HostnameOS / ArchINSTALLBUILDCHECKBUILD BIN
coRdon 1.14.0  (landing page)
Anamaria Elek
git_last_commit: b4c5d77
git_last_commit_date: 2022-04-26 11:50:16 -0400
nebbiolo1Linux (Ubuntu 20.04.5 LTS) / x86_64  OK    OK    OK  UNNEEDED, same version is already published
palomino3Windows Server 2022 Datacenter / x64  OK    OK    OK    OK  UNNEEDED, same version is already published
merida1macOS 10.14.6 Mojave / x86_64  OK    OK    OK    OK  UNNEEDED, same version is already published
Package 102/463HostnameOS / ArchINSTALLBUILDCHECKBUILD BIN
CoreGx 2.0.2  (landing page)
Benjamin Haibe-Kains
git_last_commit: 4bceca0
git_last_commit_date: 2022-05-20 15:47:01 -0400
nebbiolo1Linux (Ubuntu 20.04.5 LTS) / x86_64  OK    OK    OK  UNNEEDED, same version is already published
palomino3Windows Server 2022 Datacenter / x64  OK    OK    OK    OK  UNNEEDED, same version is already published
merida1macOS 10.14.6 Mojave / x86_64  OK    OK    OK    OK  UNNEEDED, same version is already published
Package 103/463HostnameOS / ArchINSTALLBUILDCHECKBUILD BIN
covEB 1.22.0  (landing page)
C. Pacini
git_last_commit: 7059a3f
git_last_commit_date: 2022-04-26 11:32:48 -0400
nebbiolo1Linux (Ubuntu 20.04.5 LTS) / x86_64  OK    OK    OK  UNNEEDED, same version is already published
palomino3Windows Server 2022 Datacenter / x64  OK    OK    OK    OK  UNNEEDED, same version is already published
merida1macOS 10.14.6 Mojave / x86_64  OK    OK    OK    OK  UNNEEDED, same version is already published
Package 104/463HostnameOS / ArchINSTALLBUILDCHECKBUILD BIN
covRNA 1.22.0  (landing page)
Lara Urban
git_last_commit: 23d1e0e
git_last_commit_date: 2022-04-26 11:32:28 -0400
nebbiolo1Linux (Ubuntu 20.04.5 LTS) / x86_64  OK    OK    OK  UNNEEDED, same version is already published
palomino3Windows Server 2022 Datacenter / x64  OK    OK    OK    OK  UNNEEDED, same version is already published
merida1macOS 10.14.6 Mojave / x86_64  OK    OK    OK    OK  UNNEEDED, same version is already published
Package 105/463HostnameOS / ArchINSTALLBUILDCHECKBUILD BIN
crlmm 1.54.0  (landing page)
Benilton S Carvalho
git_last_commit: 1eefa13
git_last_commit_date: 2022-04-26 11:02:46 -0400
nebbiolo1Linux (Ubuntu 20.04.5 LTS) / x86_64  OK    OK    OK  UNNEEDED, same version is already published
palomino3Windows Server 2022 Datacenter / x64  OK    OK    OK    OK  UNNEEDED, same version is already published
merida1macOS 10.14.6 Mojave / x86_64  OK    OK    OK    OK  UNNEEDED, same version is already published
Package 106/463HostnameOS / ArchINSTALLBUILDCHECKBUILD BIN
crossmeta 1.22.1  (landing page)
Alex Pickering
git_last_commit: fb95000
git_last_commit_date: 2022-05-24 16:16:30 -0400
nebbiolo1Linux (Ubuntu 20.04.5 LTS) / x86_64  OK    OK    OK  UNNEEDED, same version is already published
palomino3Windows Server 2022 Datacenter / x64  OK    OK    OK    OK  UNNEEDED, same version is already published
merida1macOS 10.14.6 Mojave / x86_64  OK    OK    OK    OK  UNNEEDED, same version is already published
Package 107/463HostnameOS / ArchINSTALLBUILDCHECKBUILD BIN
ctgGEM 1.8.0  (landing page)
USD Biomedical Engineering
git_last_commit: a774e18
git_last_commit_date: 2022-04-26 12:02:42 -0400
nebbiolo1Linux (Ubuntu 20.04.5 LTS) / x86_64  OK    ERROR  skipped
palomino3Windows Server 2022 Datacenter / x64  OK    ERROR  skippedskipped
merida1macOS 10.14.6 Mojave / x86_64  OK    ERROR  skippedskipped
Package 108/463HostnameOS / ArchINSTALLBUILDCHECKBUILD BIN
cummeRbund 2.38.0  (landing page)
Loyal A. Goff
git_last_commit: 4e6044b
git_last_commit_date: 2022-04-26 11:09:10 -0400
nebbiolo1Linux (Ubuntu 20.04.5 LTS) / x86_64  OK    OK    WARNINGS  UNNEEDED, same version is already published
palomino3Windows Server 2022 Datacenter / x64  OK    OK    WARNINGS    OK  UNNEEDED, same version is already published
merida1macOS 10.14.6 Mojave / x86_64  OK    OK    WARNINGS    OK  UNNEEDED, same version is already published
Package 109/463HostnameOS / ArchINSTALLBUILDCHECKBUILD BIN
cyanoFilter 1.4.0  (landing page)
Oluwafemi Olusoji
git_last_commit: 79606e9
git_last_commit_date: 2022-04-26 12:14:32 -0400
nebbiolo1Linux (Ubuntu 20.04.5 LTS) / x86_64  OK    OK    OK  UNNEEDED, same version is already published
palomino3Windows Server 2022 Datacenter / x64  OK    OK    OK    OK  UNNEEDED, same version is already published
merida1macOS 10.14.6 Mojave / x86_64  OK    OK    OK    OK  UNNEEDED, same version is already published
Package 110/463HostnameOS / ArchINSTALLBUILDCHECKBUILD BIN
cycle 1.50.0  (landing page)
Matthias Futschik
git_last_commit: a6cf07e
git_last_commit_date: 2022-04-26 11:03:42 -0400
nebbiolo1Linux (Ubuntu 20.04.5 LTS) / x86_64  OK    OK    OK  UNNEEDED, same version is already published
palomino3Windows Server 2022 Datacenter / x64  OK    OK    OK    OK  UNNEEDED, same version is already published
merida1macOS 10.14.6 Mojave / x86_64  OK    OK    OK    OK  UNNEEDED, same version is already published
Package 111/463HostnameOS / ArchINSTALLBUILDCHECKBUILD BIN
cydar 1.20.0  (landing page)
Aaron Lun
git_last_commit: e330d5f
git_last_commit_date: 2022-04-26 11:39:46 -0400
nebbiolo1Linux (Ubuntu 20.04.5 LTS) / x86_64  OK    OK    OK  UNNEEDED, same version is already published
palomino3Windows Server 2022 Datacenter / x64  OK    OK    OK    OK  UNNEEDED, same version is already published
merida1macOS 10.14.6 Mojave / x86_64  OK    OK    OK    OK  UNNEEDED, same version is already published
Package 112/463HostnameOS / ArchINSTALLBUILDCHECKBUILD BIN
CytoML 2.8.1  (landing page)
Mike Jiang
git_last_commit: f9127bf
git_last_commit_date: 2022-08-21 19:17:26 -0400
nebbiolo1Linux (Ubuntu 20.04.5 LTS) / x86_64  OK    OK    WARNINGS  UNNEEDED, same version is already published
palomino3Windows Server 2022 Datacenter / x64  OK    OK    WARNINGS    OK  UNNEEDED, same version is already published
merida1macOS 10.14.6 Mojave / x86_64  OK    OK    WARNINGS    OK  UNNEEDED, same version is already published
Package 113/463HostnameOS / ArchINSTALLBUILDCHECKBUILD BIN
CytoTree 1.6.0  (landing page)
Yuting Dai
git_last_commit: 796abd0
git_last_commit_date: 2022-04-26 12:06:26 -0400
nebbiolo1Linux (Ubuntu 20.04.5 LTS) / x86_64  OK    OK    OK  UNNEEDED, same version is already published
palomino3Windows Server 2022 Datacenter / x64  OK    OK    OK    OK  NO, package depends on 'FlowSOM' which is not available
merida1macOS 10.14.6 Mojave / x86_64  OK    OK    OK    OK  UNNEEDED, same version is already published
Package 114/463HostnameOS / ArchINSTALLBUILDCHECKBUILD BIN
DAPAR 1.28.5  (landing page)
Samuel Wieczorek
git_last_commit: d484403
git_last_commit_date: 2022-07-14 00:42:40 -0400
nebbiolo1Linux (Ubuntu 20.04.5 LTS) / x86_64  OK    OK    OK  UNNEEDED, same version is already published
palomino3Windows Server 2022 Datacenter / x64  OK    OK    OK    OK  UNNEEDED, same version is already published
merida1macOS 10.14.6 Mojave / x86_64  OK    OK    OK    OK  UNNEEDED, same version is already published
Package 115/463HostnameOS / ArchINSTALLBUILDCHECKBUILD BIN
ddCt 1.52.0  (landing page)
Jitao David Zhang
git_last_commit: 29db550
git_last_commit_date: 2022-04-26 11:03:19 -0400
nebbiolo1Linux (Ubuntu 20.04.5 LTS) / x86_64  OK    OK    OK  UNNEEDED, same version is already published
palomino3Windows Server 2022 Datacenter / x64  OK    OK    OK    OK  UNNEEDED, same version is already published
merida1macOS 10.14.6 Mojave / x86_64  OK    OK    OK    OK  UNNEEDED, same version is already published
Package 116/463HostnameOS / ArchINSTALLBUILDCHECKBUILD BIN
debCAM 1.14.0  (landing page)
Lulu Chen
git_last_commit: 5eabb9a
git_last_commit_date: 2022-04-26 11:59:10 -0400
nebbiolo1Linux (Ubuntu 20.04.5 LTS) / x86_64  OK    OK    OK  UNNEEDED, same version is already published
palomino3Windows Server 2022 Datacenter / x64  OK    OK    OK    OK  UNNEEDED, same version is already published
merida1macOS 10.14.6 Mojave / x86_64  OK    OK    OK    OK  UNNEEDED, same version is already published
Package 117/463HostnameOS / ArchINSTALLBUILDCHECKBUILD BIN
deco 1.12.0  (landing page)
Francisco Jose Campos Laborie
git_last_commit: f398a46
git_last_commit_date: 2022-04-26 11:52:35 -0400
nebbiolo1Linux (Ubuntu 20.04.5 LTS) / x86_64  OK    OK    OK  UNNEEDED, same version is already published
palomino3Windows Server 2022 Datacenter / x64  OK    OK    OK    OK  UNNEEDED, same version is already published
merida1macOS 10.14.6 Mojave / x86_64  OK    OK    OK    OK  UNNEEDED, same version is already published
Package 118/463HostnameOS / ArchINSTALLBUILDCHECKBUILD BIN
DEGreport 1.32.0  (landing page)
Lorena Pantano
git_last_commit: 34bf061
git_last_commit_date: 2022-04-26 11:20:09 -0400
nebbiolo1Linux (Ubuntu 20.04.5 LTS) / x86_64  OK    OK    OK  UNNEEDED, same version is already published
palomino3Windows Server 2022 Datacenter / x64  OK    OK    OK    OK  UNNEEDED, same version is already published
merida1macOS 10.14.6 Mojave / x86_64  OK    OK    OK    OK  UNNEEDED, same version is already published
Package 119/463HostnameOS / ArchINSTALLBUILDCHECKBUILD BIN
DESeq2 1.36.0  (landing page)
Michael Love
git_last_commit: 2800b78
git_last_commit_date: 2022-04-26 11:13:44 -0400
nebbiolo1Linux (Ubuntu 20.04.5 LTS) / x86_64  OK    OK    OK  UNNEEDED, same version is already published
palomino3Windows Server 2022 Datacenter / x64  OK    OK    OK    OK  UNNEEDED, same version is already published
merida1macOS 10.14.6 Mojave / x86_64  OK    OK    OK    OK  UNNEEDED, same version is already published
Package 120/463HostnameOS / ArchINSTALLBUILDCHECKBUILD BIN
destiny 3.10.0  (landing page)
Philipp Angerer
git_last_commit: b2ed76b
git_last_commit_date: 2022-04-26 12:20:57 -0400
nebbiolo1Linux (Ubuntu 20.04.5 LTS) / x86_64  OK    OK    OK  UNNEEDED, same version is already published
palomino3Windows Server 2022 Datacenter / x64  OK    OK    OK    OK  UNNEEDED, same version is already published
merida1macOS 10.14.6 Mojave / x86_64  OK    OK    OK    OK  UNNEEDED, same version is already published
Package 121/463HostnameOS / ArchINSTALLBUILDCHECKBUILD BIN
DExMA 1.4.5  (landing page)
Juan Antonio Villatoro-García
git_last_commit: ca72cd4
git_last_commit_date: 2022-10-07 07:33:54 -0400
nebbiolo1Linux (Ubuntu 20.04.5 LTS) / x86_64  OK    OK    OK  UNNEEDED, same version is already published
palomino3Windows Server 2022 Datacenter / x64  OK    OK    OK    OK  UNNEEDED, same version is already published
merida1macOS 10.14.6 Mojave / x86_64  OK    OK    OK    OK  UNNEEDED, same version is already published
Package 122/463HostnameOS / ArchINSTALLBUILDCHECKBUILD BIN
DEXSeq 1.42.0  (landing page)
Alejandro Reyes
git_last_commit: d91de62
git_last_commit_date: 2022-04-26 11:08:07 -0400
nebbiolo1Linux (Ubuntu 20.04.5 LTS) / x86_64  OK    OK    OK  UNNEEDED, same version is already published
palomino3Windows Server 2022 Datacenter / x64  OK    OK    OK    OK  UNNEEDED, same version is already published
merida1macOS 10.14.6 Mojave / x86_64  OK    OK    OK    OK  UNNEEDED, same version is already published
Package 123/463HostnameOS / ArchINSTALLBUILDCHECKBUILD BIN
DFP 1.54.0  (landing page)
Rodrigo Alvarez-Glez
git_last_commit: 725d74a
git_last_commit_date: 2022-04-26 11:01:42 -0400
nebbiolo1Linux (Ubuntu 20.04.5 LTS) / x86_64  OK    OK    OK  UNNEEDED, same version is already published
palomino3Windows Server 2022 Datacenter / x64  OK    OK    OK    OK  UNNEEDED, same version is already published
merida1macOS 10.14.6 Mojave / x86_64  OK    OK    OK    OK  UNNEEDED, same version is already published
Package 124/463HostnameOS / ArchINSTALLBUILDCHECKBUILD BIN
diffloop 1.24.0  (landing page)
Caleb Lareau
git_last_commit: d5d5f0f
git_last_commit_date: 2022-04-26 11:32:08 -0400
nebbiolo1Linux (Ubuntu 20.04.5 LTS) / x86_64  OK    OK    WARNINGS  UNNEEDED, same version is already published
palomino3Windows Server 2022 Datacenter / x64  OK    OK    WARNINGS    OK  UNNEEDED, same version is already published
merida1macOS 10.14.6 Mojave / x86_64  OK    OK    WARNINGS    OK  UNNEEDED, same version is already published
Package 125/463HostnameOS / ArchINSTALLBUILDCHECKBUILD BIN
diggit 1.28.0  (landing page)
Mariano J Alvarez
git_last_commit: 8a14032
git_last_commit_date: 2022-04-26 11:24:07 -0400
nebbiolo1Linux (Ubuntu 20.04.5 LTS) / x86_64  OK    OK    WARNINGS  UNNEEDED, same version is already published
palomino3Windows Server 2022 Datacenter / x64  OK    OK    WARNINGS    OK  UNNEEDED, same version is already published
merida1macOS 10.14.6 Mojave / x86_64  OK    OK    WARNINGS    OK  UNNEEDED, same version is already published
Package 126/463HostnameOS / ArchINSTALLBUILDCHECKBUILD BIN
discordant 1.20.0  (landing page)
McGrath Max
git_last_commit: 875ef90
git_last_commit_date: 2022-04-26 11:38:45 -0400
nebbiolo1Linux (Ubuntu 20.04.5 LTS) / x86_64  OK    OK    OK  UNNEEDED, same version is already published
palomino3Windows Server 2022 Datacenter / x64  OK    OK    OK    OK  UNNEEDED, same version is already published
merida1macOS 10.14.6 Mojave / x86_64  OK    OK    OK    OK  UNNEEDED, same version is already published
Package 127/463HostnameOS / ArchINSTALLBUILDCHECKBUILD BIN
doppelgangR 1.24.0  (landing page)
Levi Waldron
git_last_commit: 4f87528
git_last_commit_date: 2022-04-26 11:30:01 -0400
nebbiolo1Linux (Ubuntu 20.04.5 LTS) / x86_64  OK    OK    OK  UNNEEDED, same version is already published
palomino3Windows Server 2022 Datacenter / x64  OK    OK    OK    OK  UNNEEDED, same version is already published
merida1macOS 10.14.6 Mojave / x86_64  OK    OK    OK    OK  UNNEEDED, same version is already published
Package 128/463HostnameOS / ArchINSTALLBUILDCHECKBUILD BIN
DSS 2.44.0  (landing page)
Hao Wu , Hao Feng
git_last_commit: b09a9f3
git_last_commit_date: 2022-10-03 14:03:56 -0400
nebbiolo1Linux (Ubuntu 20.04.5 LTS) / x86_64  OK    OK    WARNINGS  UNNEEDED, same version is already published
palomino3Windows Server 2022 Datacenter / x64  OK    OK    WARNINGS    OK  UNNEEDED, same version is already published
merida1macOS 10.14.6 Mojave / x86_64  OK    OK    WARNINGS    OK  UNNEEDED, same version is already published
Package 129/463HostnameOS / ArchINSTALLBUILDCHECKBUILD BIN
dyebias 1.56.0  (landing page)
Philip Lijnzaad
git_last_commit: 70cb35f
git_last_commit_date: 2022-04-26 11:02:48 -0400
nebbiolo1Linux (Ubuntu 20.04.5 LTS) / x86_64  OK    OK    OK  UNNEEDED, same version is already published
palomino3Windows Server 2022 Datacenter / x64  OK    OK    OK    OK  UNNEEDED, same version is already published
merida1macOS 10.14.6 Mojave / x86_64  OK    OK    OK    OK  UNNEEDED, same version is already published
Package 130/463HostnameOS / ArchINSTALLBUILDCHECKBUILD BIN
easyRNASeq 2.32.0  (landing page)
Nicolas Delhomme
git_last_commit: 83a6ed5
git_last_commit_date: 2022-04-26 11:10:04 -0400
nebbiolo1Linux (Ubuntu 20.04.5 LTS) / x86_64  OK    OK    OK  UNNEEDED, same version is already published
palomino3Windows Server 2022 Datacenter / x64  OK    OK    OK    OK  UNNEEDED, same version is already published
merida1macOS 10.14.6 Mojave / x86_64  OK    OK    OK    OK  UNNEEDED, same version is already published
Package 131/463HostnameOS / ArchINSTALLBUILDCHECKBUILD BIN
EBarrays 2.60.0  (landing page)
Ming Yuan
git_last_commit: b175805
git_last_commit_date: 2022-04-26 10:55:39 -0400
nebbiolo1Linux (Ubuntu 20.04.5 LTS) / x86_64  OK    OK    OK  UNNEEDED, same version is already published
palomino3Windows Server 2022 Datacenter / x64  OK    OK    OK    OK  UNNEEDED, same version is already published
merida1macOS 10.14.6 Mojave / x86_64  OK    OK    OK    OK  UNNEEDED, same version is already published
Package 132/463HostnameOS / ArchINSTALLBUILDCHECKBUILD BIN
ecolitk 1.68.0  (landing page)
Laurent Gautier
git_last_commit: a7d75d2
git_last_commit_date: 2022-04-26 10:55:21 -0400
nebbiolo1Linux (Ubuntu 20.04.5 LTS) / x86_64  OK    OK    WARNINGS  UNNEEDED, same version is already published
palomino3Windows Server 2022 Datacenter / x64  OK    OK    WARNINGS    OK  UNNEEDED, same version is already published
merida1macOS 10.14.6 Mojave / x86_64  OK    OK    WARNINGS    OK  UNNEEDED, same version is already published
Package 133/463HostnameOS / ArchINSTALLBUILDCHECKBUILD BIN
EDASeq 2.30.0  (landing page)
Davide Risso
git_last_commit: 9a5dd9d
git_last_commit_date: 2022-04-26 11:08:56 -0400
nebbiolo1Linux (Ubuntu 20.04.5 LTS) / x86_64  OK    OK    OK  UNNEEDED, same version is already published
palomino3Windows Server 2022 Datacenter / x64  OK    OK    OK    OK  UNNEEDED, same version is already published
merida1macOS 10.14.6 Mojave / x86_64  OK    OK    OK    OK  UNNEEDED, same version is already published
Package 134/463HostnameOS / ArchINSTALLBUILDCHECKBUILD BIN
edge 2.28.1  (landing page)
John D. Storey , Andrew J. Bass
git_last_commit: 4b4a5f1
git_last_commit_date: 2022-09-10 18:44:35 -0400
nebbiolo1Linux (Ubuntu 20.04.5 LTS) / x86_64  OK    OK    WARNINGS  UNNEEDED, same version is already published
palomino3Windows Server 2022 Datacenter / x64  OK    OK    WARNINGS    OK  UNNEEDED, same version is already published
merida1macOS 10.14.6 Mojave / x86_64  OK    OK    WARNINGS    OK  UNNEEDED, same version is already published
Package 135/463HostnameOS / ArchINSTALLBUILDCHECKBUILD BIN
EGAD 1.24.0  (landing page)
Sara Ballouz
git_last_commit: b578eb3
git_last_commit_date: 2022-04-26 11:32:21 -0400
nebbiolo1Linux (Ubuntu 20.04.5 LTS) / x86_64  OK    OK    WARNINGS  UNNEEDED, same version is already published
palomino3Windows Server 2022 Datacenter / x64  OK    OK    WARNINGS    OK  UNNEEDED, same version is already published
merida1macOS 10.14.6 Mojave / x86_64  OK    OK    WARNINGS    OK  UNNEEDED, same version is already published
Package 136/463HostnameOS / ArchINSTALLBUILDCHECKBUILD BIN
EGSEA 1.24.0  (landing page)
Monther Alhamdoosh
git_last_commit: 07e0135
git_last_commit_date: 2022-04-26 11:32:13 -0400
nebbiolo1Linux (Ubuntu 20.04.5 LTS) / x86_64  OK    OK    WARNINGS  UNNEEDED, same version is already published
palomino3Windows Server 2022 Datacenter / x64  OK    OK    WARNINGS    OK  UNNEEDED, same version is already published
merida1macOS 10.14.6 Mojave / x86_64  OK    OK    WARNINGS    OK  UNNEEDED, same version is already published
Package 137/463HostnameOS / ArchINSTALLBUILDCHECKBUILD BIN
ENmix 1.32.0  (landing page)
Zongli Xu
git_last_commit: 7abd1c3
git_last_commit_date: 2022-04-26 11:25:08 -0400
nebbiolo1Linux (Ubuntu 20.04.5 LTS) / x86_64  OK    OK    OK  UNNEEDED, same version is already published
palomino3Windows Server 2022 Datacenter / x64  OK    OK    OK    OK  UNNEEDED, same version is already published
merida1macOS 10.14.6 Mojave / x86_64  OK    OK    OK    OK  UNNEEDED, same version is already published
Package 138/463HostnameOS / ArchINSTALLBUILDCHECKBUILD BIN
ensembldb 2.20.2  (landing page)
Johannes Rainer
git_last_commit: ac1fb83
git_last_commit_date: 2022-06-16 06:12:24 -0400
nebbiolo1Linux (Ubuntu 20.04.5 LTS) / x86_64  OK    OK    OK  UNNEEDED, same version is already published
palomino3Windows Server 2022 Datacenter / x64  OK    OK    OK    OK  UNNEEDED, same version is already published
merida1macOS 10.14.6 Mojave / x86_64  OK    OK    OK    OK  UNNEEDED, same version is already published
Package 139/463HostnameOS / ArchINSTALLBUILDCHECKBUILD BIN
epigenomix 1.36.0  (landing page)
Hans-Ulrich Klein
git_last_commit: ce6e102
git_last_commit_date: 2022-04-26 11:13:53 -0400
nebbiolo1Linux (Ubuntu 20.04.5 LTS) / x86_64  OK    OK    OK  UNNEEDED, same version is already published
palomino3Windows Server 2022 Datacenter / x64  OK    OK    OK    OK  UNNEEDED, same version is already published
merida1macOS 10.14.6 Mojave / x86_64  OK    OK    OK    OK  UNNEEDED, same version is already published
Package 140/463HostnameOS / ArchINSTALLBUILDCHECKBUILD BIN
epivizrData 1.24.0  (landing page)
Hector Corrada Bravo
git_last_commit: 8a48f19
git_last_commit_date: 2022-04-26 11:32:06 -0400
nebbiolo1Linux (Ubuntu 20.04.5 LTS) / x86_64  OK    OK    WARNINGS  UNNEEDED, same version is already published
palomino3Windows Server 2022 Datacenter / x64  OK    OK    WARNINGS    OK  UNNEEDED, same version is already published
merida1macOS 10.14.6 Mojave / x86_64  OK    OK    WARNINGS    OK  UNNEEDED, same version is already published
Package 141/463HostnameOS / ArchINSTALLBUILDCHECKBUILD BIN
erma 1.12.0  (landing page)
VJ Carey
git_last_commit: 0e226dd
git_last_commit_date: 2022-04-26 11:25:55 -0400
nebbiolo1Linux (Ubuntu 20.04.5 LTS) / x86_64  OK    OK    OK  UNNEEDED, same version is already published
palomino3Windows Server 2022 Datacenter / x64  OK    OK    OK    OK  UNNEEDED, same version is already published
merida1macOS 10.14.6 Mojave / x86_64  OK    OK    OK    OK  UNNEEDED, same version is already published
Package 142/463HostnameOS / ArchINSTALLBUILDCHECKBUILD BIN
esetVis 1.22.0  (landing page)
Laure Cougnaud
git_last_commit: bed956e
git_last_commit_date: 2022-04-26 11:33:01 -0400
nebbiolo1Linux (Ubuntu 20.04.5 LTS) / x86_64  OK    OK    OK  UNNEEDED, same version is already published
palomino3Windows Server 2022 Datacenter / x64  OK    OK    OK    OK  UNNEEDED, same version is already published
merida1macOS 10.14.6 Mojave / x86_64  OK    OK    OK    OK  UNNEEDED, same version is already published
Package 143/463HostnameOS / ArchINSTALLBUILDCHECKBUILD BIN
ExiMiR 2.38.0  (landing page)
Sylvain Gubian
git_last_commit: 0581159
git_last_commit_date: 2022-04-26 11:06:50 -0400
nebbiolo1Linux (Ubuntu 20.04.5 LTS) / x86_64  OK    OK    OK  UNNEEDED, same version is already published
palomino3Windows Server 2022 Datacenter / x64  OK    OK    OK    OK  UNNEEDED, same version is already published
merida1macOS 10.14.6 Mojave / x86_64  OK    OK    OK    OK  UNNEEDED, same version is already published
Package 144/463HostnameOS / ArchINSTALLBUILDCHECKBUILD BIN
ExpressionAtlas 1.24.0  (landing page)
Pedro Madrigal
git_last_commit: 1fd2126
git_last_commit_date: 2022-04-26 11:29:29 -0400
nebbiolo1Linux (Ubuntu 20.04.5 LTS) / x86_64  OK    OK    ERROR  
palomino3Windows Server 2022 Datacenter / x64  OK    OK    ERROR    OK  
merida1macOS 10.14.6 Mojave / x86_64  OK    OK    ERROR    OK  
Package 145/463HostnameOS / ArchINSTALLBUILDCHECKBUILD BIN
fabia 2.42.0  (landing page)
Andreas Mitterecker
git_last_commit: 316294c
git_last_commit_date: 2022-04-26 11:05:13 -0400
nebbiolo1Linux (Ubuntu 20.04.5 LTS) / x86_64  OK    OK    OK  UNNEEDED, same version is already published
palomino3Windows Server 2022 Datacenter / x64  OK    OK    OK    OK  UNNEEDED, same version is already published
merida1macOS 10.14.6 Mojave / x86_64  OK    OK    OK    OK  UNNEEDED, same version is already published
Package 146/463HostnameOS / ArchINSTALLBUILDCHECKBUILD BIN
factDesign 1.72.0  (landing page)
Denise Scholtens
git_last_commit: 78e4c3a
git_last_commit_date: 2022-04-26 10:55:13 -0400
nebbiolo1Linux (Ubuntu 20.04.5 LTS) / x86_64  OK    OK    OK  UNNEEDED, same version is already published
palomino3Windows Server 2022 Datacenter / x64  OK    OK    OK    OK  UNNEEDED, same version is already published
merida1macOS 10.14.6 Mojave / x86_64  OK    OK    OK    OK  UNNEEDED, same version is already published
Package 147/463HostnameOS / ArchINSTALLBUILDCHECKBUILD BIN
farms 1.48.0  (landing page)
Djork-Arne Clevert
git_last_commit: fb571c9
git_last_commit_date: 2022-04-26 11:05:39 -0400
nebbiolo1Linux (Ubuntu 20.04.5 LTS) / x86_64  OK    OK    OK  UNNEEDED, same version is already published
palomino3Windows Server 2022 Datacenter / x64  OK    OK    OK    OK  UNNEEDED, same version is already published
merida1macOS 10.14.6 Mojave / x86_64  OK    OK    OK    OK  UNNEEDED, same version is already published
Package 148/463HostnameOS / ArchINSTALLBUILDCHECKBUILD BIN
fastseg 1.42.0  (landing page)
Guenter Klambauer
git_last_commit: bac5ad5
git_last_commit_date: 2022-04-26 11:09:47 -0400
nebbiolo1Linux (Ubuntu 20.04.5 LTS) / x86_64  OK    OK    WARNINGS  UNNEEDED, same version is already published
palomino3Windows Server 2022 Datacenter / x64  OK    OK    WARNINGS    OK  UNNEEDED, same version is already published
merida1macOS 10.14.6 Mojave / x86_64  OK    OK    WARNINGS    OK  UNNEEDED, same version is already published
Package 149/463HostnameOS / ArchINSTALLBUILDCHECKBUILD BIN
ffpe 1.40.0  (landing page)
Levi Waldron
git_last_commit: 647a8ff
git_last_commit_date: 2022-04-26 11:10:29 -0400
nebbiolo1Linux (Ubuntu 20.04.5 LTS) / x86_64  OK    OK    OK  UNNEEDED, same version is already published
palomino3Windows Server 2022 Datacenter / x64  OK    OK    OK    OK  UNNEEDED, same version is already published
merida1macOS 10.14.6 Mojave / x86_64  OK    OK    OK    OK  UNNEEDED, same version is already published
Package 150/463HostnameOS / ArchINSTALLBUILDCHECKBUILD BIN
flowBeads 1.34.0  (landing page)
Nikolas Pontikos
git_last_commit: 7f16b1e
git_last_commit_date: 2022-04-26 11:15:07 -0400
nebbiolo1Linux (Ubuntu 20.04.5 LTS) / x86_64  OK    OK    WARNINGS  UNNEEDED, same version is already published
palomino3Windows Server 2022 Datacenter / x64  OK    OK    WARNINGS    OK  UNNEEDED, same version is already published
merida1macOS 10.14.6 Mojave / x86_64  OK    OK    WARNINGS    OK  UNNEEDED, same version is already published
Package 151/463HostnameOS / ArchINSTALLBUILDCHECKBUILD BIN
flowClust 3.34.0  (landing page)
Greg Finak , Mike Jiang
git_last_commit: 60d0cb9
git_last_commit_date: 2022-04-26 11:00:59 -0400
nebbiolo1Linux (Ubuntu 20.04.5 LTS) / x86_64  OK    OK    WARNINGS  UNNEEDED, same version is already published
palomino3Windows Server 2022 Datacenter / x64  OK    OK    WARNINGS    OK  UNNEEDED, same version is already published
merida1macOS 10.14.6 Mojave / x86_64  OK    OK    WARNINGS    OK  UNNEEDED, same version is already published
Package 152/463HostnameOS / ArchINSTALLBUILDCHECKBUILD BIN
flowCore 2.8.0  (landing page)
Mike Jiang
git_last_commit: 586541d
git_last_commit_date: 2022-04-26 10:58:57 -0400
nebbiolo1Linux (Ubuntu 20.04.5 LTS) / x86_64  OK    OK    OK  UNNEEDED, same version is already published
palomino3Windows Server 2022 Datacenter / x64  OK    OK    OK    OK  UNNEEDED, same version is already published
merida1macOS 10.14.6 Mojave / x86_64  OK    OK    OK    OK  UNNEEDED, same version is already published
Package 153/463HostnameOS / ArchINSTALLBUILDCHECKBUILD BIN
flowFP 1.54.0  (landing page)
Herb Holyst
git_last_commit: c0366f3
git_last_commit_date: 2022-04-26 11:03:12 -0400
nebbiolo1Linux (Ubuntu 20.04.5 LTS) / x86_64  OK    OK    OK  UNNEEDED, same version is already published
palomino3Windows Server 2022 Datacenter / x64  OK    OK    OK    OK  UNNEEDED, same version is already published
merida1macOS 10.14.6 Mojave / x86_64  OK    OK    OK    OK  UNNEEDED, same version is already published
Package 154/463HostnameOS / ArchINSTALLBUILDCHECKBUILD BIN
flowMatch 1.32.0  (landing page)
Ariful Azad
git_last_commit: 66af1b9
git_last_commit_date: 2022-04-26 11:17:11 -0400
nebbiolo1Linux (Ubuntu 20.04.5 LTS) / x86_64  OK    OK    OK  UNNEEDED, same version is already published
palomino3Windows Server 2022 Datacenter / x64  OK    OK    OK    OK  UNNEEDED, same version is already published
merida1macOS 10.14.6 Mojave / x86_64  OK    OK    OK    OK  UNNEEDED, same version is already published
Package 155/463HostnameOS / ArchINSTALLBUILDCHECKBUILD BIN
flowMeans 1.56.0  (landing page)
Nima Aghaeepour
git_last_commit: a4f03a7
git_last_commit_date: 2022-04-26 11:04:45 -0400
nebbiolo1Linux (Ubuntu 20.04.5 LTS) / x86_64  OK    OK    OK  UNNEEDED, same version is already published
palomino3Windows Server 2022 Datacenter / x64  OK    OK    OK    OK  UNNEEDED, same version is already published
merida1macOS 10.14.6 Mojave / x86_64  OK    OK    OK    OK  UNNEEDED, same version is already published
Package 156/463HostnameOS / ArchINSTALLBUILDCHECKBUILD BIN
flowSpecs 1.10.0  (landing page)
Jakob Theorell
git_last_commit: e734c25
git_last_commit_date: 2022-04-26 11:59:20 -0400
nebbiolo1Linux (Ubuntu 20.04.5 LTS) / x86_64  OK    OK    OK  UNNEEDED, same version is already published
palomino3Windows Server 2022 Datacenter / x64  OK    OK    OK    OK  UNNEEDED, same version is already published
merida1macOS 10.14.6 Mojave / x86_64  OK    OK    OK    OK  UNNEEDED, same version is already published
Package 157/463HostnameOS / ArchINSTALLBUILDCHECKBUILD BIN
flowStats 4.8.2  (landing page)
Greg Finak , Mike Jiang
git_last_commit: 4ebb765
git_last_commit_date: 2022-07-05 12:47:56 -0400
nebbiolo1Linux (Ubuntu 20.04.5 LTS) / x86_64  OK    OK    WARNINGS  UNNEEDED, same version is already published
palomino3Windows Server 2022 Datacenter / x64  OK    OK    WARNINGS    OK  UNNEEDED, same version is already published
merida1macOS 10.14.6 Mojave / x86_64  OK    OK    WARNINGS    OK  UNNEEDED, same version is already published
Package 158/463HostnameOS / ArchINSTALLBUILDCHECKBUILD BIN
flowUtils 1.60.0  (landing page)
Josef Spidlen
git_last_commit: e7e3612
git_last_commit_date: 2022-04-26 10:58:59 -0400
nebbiolo1Linux (Ubuntu 20.04.5 LTS) / x86_64  OK    ERROR  skipped
palomino3Windows Server 2022 Datacenter / x64  OK    ERROR  skippedskipped
merida1macOS 10.14.6 Mojave / x86_64  OK    ERROR  skippedskipped
Package 159/463HostnameOS / ArchINSTALLBUILDCHECKBUILD BIN
flowViz 1.60.2  (landing page)
Mike Jiang
git_last_commit: a508720
git_last_commit_date: 2022-06-30 21:17:21 -0400
nebbiolo1Linux (Ubuntu 20.04.5 LTS) / x86_64  OK    OK    OK  UNNEEDED, same version is already published
palomino3Windows Server 2022 Datacenter / x64  OK    OK    OK    OK  UNNEEDED, same version is already published
merida1macOS 10.14.6 Mojave / x86_64  OK    OK    OK    OK  UNNEEDED, same version is already published
Package 160/463HostnameOS / ArchINSTALLBUILDCHECKBUILD BIN
flowWorkspace 4.8.0  (landing page)
Greg Finak , Mike Jiang
git_last_commit: 8cb4b97
git_last_commit_date: 2022-04-26 11:07:52 -0400
nebbiolo1Linux (Ubuntu 20.04.5 LTS) / x86_64  OK    OK    WARNINGS  UNNEEDED, same version is already published
palomino3Windows Server 2022 Datacenter / x64  OK    OK    WARNINGS    OK  UNNEEDED, same version is already published
merida1macOS 10.14.6 Mojave / x86_64  OK    OK    WARNINGS    OK  UNNEEDED, same version is already published
Package 161/463HostnameOS / ArchINSTALLBUILDCHECKBUILD BIN
FRASER 1.8.1  (landing page)
Christian Mertes
git_last_commit: 8cf91e1
git_last_commit_date: 2022-06-28 17:38:57 -0400
nebbiolo1Linux (Ubuntu 20.04.5 LTS) / x86_64  OK    OK    OK  UNNEEDED, same version is already published
palomino3Windows Server 2022 Datacenter / x64  OK    OK    OK    OK  UNNEEDED, same version is already published
merida1macOS 10.14.6 Mojave / x86_64  OK    OK    OK    OK  UNNEEDED, same version is already published
Package 162/463HostnameOS / ArchINSTALLBUILDCHECKBUILD BIN
frma 1.48.0  (landing page)
Matthew N. McCall
git_last_commit: 3c39bcf
git_last_commit_date: 2022-04-26 11:04:03 -0400
nebbiolo1Linux (Ubuntu 20.04.5 LTS) / x86_64  OK    OK    OK  UNNEEDED, same version is already published
palomino3Windows Server 2022 Datacenter / x64  OK    OK    OK    OK  UNNEEDED, same version is already published
merida1macOS 10.14.6 Mojave / x86_64  OK    OK    OK    OK  UNNEEDED, same version is already published
Package 163/463HostnameOS / ArchINSTALLBUILDCHECKBUILD BIN
frmaTools 1.48.0  (landing page)
Matthew N. McCall
git_last_commit: 73b9299
git_last_commit_date: 2022-04-26 11:04:05 -0400
nebbiolo1Linux (Ubuntu 20.04.5 LTS) / x86_64  OK    OK    OK  UNNEEDED, same version is already published
palomino3Windows Server 2022 Datacenter / x64  OK    OK    OK    OK  UNNEEDED, same version is already published
merida1macOS 10.14.6 Mojave / x86_64  OK    OK    OK    OK  UNNEEDED, same version is already published
Package 164/463HostnameOS / ArchINSTALLBUILDCHECKBUILD BIN
gaga 2.42.0  (landing page)
David Rossell
git_last_commit: 322fbfd
git_last_commit_date: 2022-04-26 11:00:37 -0400
nebbiolo1Linux (Ubuntu 20.04.5 LTS) / x86_64  OK    OK    OK  UNNEEDED, same version is already published
palomino3Windows Server 2022 Datacenter / x64  OK    OK    OK    OK  UNNEEDED, same version is already published
merida1macOS 10.14.6 Mojave / x86_64  OK    OK    WARNINGS    OK  UNNEEDED, same version is already published
Package 165/463HostnameOS / ArchINSTALLBUILDCHECKBUILD BIN
GAPGOM 1.12.0  (landing page)
Rezvan Ehsani
git_last_commit: 5cbf252
git_last_commit_date: 2022-04-26 11:52:58 -0400
nebbiolo1Linux (Ubuntu 20.04.5 LTS) / x86_64  OK    ERROR  skipped
palomino3Windows Server 2022 Datacenter / x64  OK    ERROR  skippedskipped
merida1macOS 10.14.6 Mojave / x86_64  OK    ERROR  skippedskipped
Package 166/463HostnameOS / ArchINSTALLBUILDCHECKBUILD BIN
gCrisprTools 2.2.2  (landing page)
Russell Bainer
git_last_commit: 1a65682
git_last_commit_date: 2022-10-10 14:54:08 -0400
nebbiolo1Linux (Ubuntu 20.04.5 LTS) / x86_64  OK    OK    ERROR  
palomino3Windows Server 2022 Datacenter / x64  OK    OK    ERROR    OK  
merida1macOS 10.14.6 Mojave / x86_64  OK    OK    ERROR    OK  
Package 167/463HostnameOS / ArchINSTALLBUILDCHECKBUILD BIN
gcrma 2.68.0  (landing page)
Z. Wu
git_last_commit: c14063f
git_last_commit_date: 2022-04-26 10:55:00 -0400
nebbiolo1Linux (Ubuntu 20.04.5 LTS) / x86_64  OK    OK    OK  UNNEEDED, same version is already published
palomino3Windows Server 2022 Datacenter / x64  OK    OK    OK    OK  UNNEEDED, same version is already published
merida1macOS 10.14.6 Mojave / x86_64  OK    OK    OK    OK  UNNEEDED, same version is already published
Package 168/463HostnameOS / ArchINSTALLBUILDCHECKBUILD BIN
GCSscore 1.10.0  (landing page)
Guy M. Harris
git_last_commit: 113e771
git_last_commit_date: 2022-04-26 12:00:58 -0400
nebbiolo1Linux (Ubuntu 20.04.5 LTS) / x86_64  OK    OK    OK  UNNEEDED, same version is already published
palomino3Windows Server 2022 Datacenter / x64  OK    OK    OK    OK  UNNEEDED, same version is already published
merida1macOS 10.14.6 Mojave / x86_64  OK    OK    OK    OK  UNNEEDED, same version is already published
Package 169/463HostnameOS / ArchINSTALLBUILDCHECKBUILD BIN
genbankr 1.24.0  (landing page)
Gabriel Becker
git_last_commit: e4d05e1
git_last_commit_date: 2022-04-26 11:31:47 -0400
nebbiolo1Linux (Ubuntu 20.04.5 LTS) / x86_64  OK    OK    OK  UNNEEDED, same version is already published
palomino3Windows Server 2022 Datacenter / x64  OK    OK    OK    OK  UNNEEDED, same version is already published
merida1macOS 10.14.6 Mojave / x86_64  OK    OK    OK    OK  UNNEEDED, same version is already published
Package 170/463HostnameOS / ArchINSTALLBUILDCHECKBUILD BIN
geneClassifiers 1.20.0  (landing page)
R Kuiper
git_last_commit: b002dde
git_last_commit_date: 2022-04-26 11:38:53 -0400
nebbiolo1Linux (Ubuntu 20.04.5 LTS) / x86_64  OK    OK    OK  UNNEEDED, same version is already published
palomino3Windows Server 2022 Datacenter / x64  OK    OK    OK    OK  UNNEEDED, same version is already published
merida1macOS 10.14.6 Mojave / x86_64  OK    OK    OK    OK  UNNEEDED, same version is already published
Package 171/463HostnameOS / ArchINSTALLBUILDCHECKBUILD BIN
GeneExpressionSignature 1.42.0  (landing page)
Yang Cao
git_last_commit: 83ce388
git_last_commit_date: 2022-04-26 11:08:42 -0400
nebbiolo1Linux (Ubuntu 20.04.5 LTS) / x86_64  OK    OK    OK  UNNEEDED, same version is already published
palomino3Windows Server 2022 Datacenter / x64  OK    OK    OK    OK  UNNEEDED, same version is already published
merida1macOS 10.14.6 Mojave / x86_64  OK    OK    OK    OK  UNNEEDED, same version is already published
Package 172/463HostnameOS / ArchINSTALLBUILDCHECKBUILD BIN
genefilter 1.78.0  (landing page)
Bioconductor Package Maintainer
git_last_commit: 2f57438
git_last_commit_date: 2022-04-26 10:54:25 -0400
nebbiolo1Linux (Ubuntu 20.04.5 LTS) / x86_64  OK    OK    WARNINGS  UNNEEDED, same version is already published
palomino3Windows Server 2022 Datacenter / x64  OK    OK    WARNINGS    OK  UNNEEDED, same version is already published
merida1macOS 10.14.6 Mojave / x86_64  OK    OK    OK    OK  UNNEEDED, same version is already published
Package 173/463HostnameOS / ArchINSTALLBUILDCHECKBUILD BIN
GeneMeta 1.68.0  (landing page)
Bioconductor Package Maintainer
git_last_commit: 4213c02
git_last_commit_date: 2022-04-26 10:57:12 -0400
nebbiolo1Linux (Ubuntu 20.04.5 LTS) / x86_64  OK    OK    OK  UNNEEDED, same version is already published
palomino3Windows Server 2022 Datacenter / x64  OK    OK    OK    OK  UNNEEDED, same version is already published
merida1macOS 10.14.6 Mojave / x86_64  OK    OK    OK    OK  UNNEEDED, same version is already published
Package 174/463HostnameOS / ArchINSTALLBUILDCHECKBUILD BIN
geneplotter 1.74.0  (landing page)
Bioconductor Package Maintainer
git_last_commit: ca81956
git_last_commit_date: 2022-04-26 10:54:28 -0400
nebbiolo1Linux (Ubuntu 20.04.5 LTS) / x86_64  OK    OK    OK  UNNEEDED, same version is already published
palomino3Windows Server 2022 Datacenter / x64  OK    OK    OK    OK  UNNEEDED, same version is already published
merida1macOS 10.14.6 Mojave / x86_64  OK    OK    OK    OK  UNNEEDED, same version is already published
Package 175/463HostnameOS / ArchINSTALLBUILDCHECKBUILD BIN
geneRecommender 1.68.0  (landing page)
Greg Hather
git_last_commit: 430dcc5
git_last_commit_date: 2022-04-26 10:57:02 -0400
nebbiolo1Linux (Ubuntu 20.04.5 LTS) / x86_64  OK    OK    OK  UNNEEDED, same version is already published
palomino3Windows Server 2022 Datacenter / x64  OK    OK    OK    OK  UNNEEDED, same version is already published
merida1macOS 10.14.6 Mojave / x86_64  OK    OK    OK    OK  UNNEEDED, same version is already published
Package 176/463HostnameOS / ArchINSTALLBUILDCHECKBUILD BIN
GeneRegionScan 1.52.0  (landing page)
Lasse Folkersen
git_last_commit: 9fc2a3f
git_last_commit_date: 2022-04-26 11:02:53 -0400
nebbiolo1Linux (Ubuntu 20.04.5 LTS) / x86_64  OK    OK    OK  UNNEEDED, same version is already published
palomino3Windows Server 2022 Datacenter / x64  OK    OK    OK    OK  UNNEEDED, same version is already published
merida1macOS 10.14.6 Mojave / x86_64  OK    OK    OK    OK  UNNEEDED, same version is already published
Package 177/463HostnameOS / ArchINSTALLBUILDCHECKBUILD BIN
GeneSelectMMD 2.40.0  (landing page)
Weiliang Qiu
git_last_commit: 0adb1bb
git_last_commit_date: 2022-04-26 11:02:44 -0400
nebbiolo1Linux (Ubuntu 20.04.5 LTS) / x86_64  OK    OK    WARNINGS  UNNEEDED, same version is already published
palomino3Windows Server 2022 Datacenter / x64  OK    OK    OK    OK  UNNEEDED, same version is already published
merida1macOS 10.14.6 Mojave / x86_64  OK    OK    WARNINGS    OK  UNNEEDED, same version is already published
Package 178/463HostnameOS / ArchINSTALLBUILDCHECKBUILD BIN
GENESIS 2.26.0  (landing page)
Stephanie M. Gogarten
git_last_commit: 1cffe35
git_last_commit_date: 2022-04-26 11:24:18 -0400
nebbiolo1Linux (Ubuntu 20.04.5 LTS) / x86_64  OK    OK    OK  UNNEEDED, same version is already published
palomino3Windows Server 2022 Datacenter / x64  OK    OK    OK    OK  UNNEEDED, same version is already published
merida1macOS 10.14.6 Mojave / x86_64  OK    OK    OK    OK  UNNEEDED, same version is already published
Package 179/463HostnameOS / ArchINSTALLBUILDCHECKBUILD BIN
geNetClassifier 1.36.0  (landing page)
Sara Aibar
git_last_commit: b5b4a80
git_last_commit_date: 2022-04-26 11:14:23 -0400
nebbiolo1Linux (Ubuntu 20.04.5 LTS) / x86_64  OK    OK    OK  UNNEEDED, same version is already published
palomino3Windows Server 2022 Datacenter / x64  OK    OK    OK    OK  UNNEEDED, same version is already published
merida1macOS 10.14.6 Mojave / x86_64  OK    OK    OK    OK  UNNEEDED, same version is already published
Package 180/463HostnameOS / ArchINSTALLBUILDCHECKBUILD BIN
GenomicFeatures 1.48.4  (landing page)
Bioconductor Package Maintainer
git_last_commit: 06e37dc
git_last_commit_date: 2022-09-19 10:06:15 -0400
nebbiolo1Linux (Ubuntu 20.04.5 LTS) / x86_64  OK    OK    OK  UNNEEDED, same version is already published
palomino3Windows Server 2022 Datacenter / x64  OK    OK    OK    OK  UNNEEDED, same version is already published
merida1macOS 10.14.6 Mojave / x86_64  OK    OK    OK    OK  UNNEEDED, same version is already published
Package 181/463HostnameOS / ArchINSTALLBUILDCHECKBUILD BIN
GenomicInteractions 1.30.0  (landing page)
Liz Ing-Simmons
git_last_commit: cc79eb1
git_last_commit_date: 2022-04-26 11:21:41 -0400
nebbiolo1Linux (Ubuntu 20.04.5 LTS) / x86_64  OK    OK    OK  UNNEEDED, same version is already published
palomino3Windows Server 2022 Datacenter / x64  OK    OK    OK    OK  UNNEEDED, same version is already published
merida1macOS 10.14.6 Mojave / x86_64  OK    OK    OK    OK  UNNEEDED, same version is already published
Package 182/463HostnameOS / ArchINSTALLBUILDCHECKBUILD BIN
GenomicScores 2.8.2  (landing page)
Robert Castelo
git_last_commit: 4c823c4
git_last_commit_date: 2022-06-15 12:58:40 -0400
nebbiolo1Linux (Ubuntu 20.04.5 LTS) / x86_64  OK    OK    OK  UNNEEDED, same version is already published
palomino3Windows Server 2022 Datacenter / x64  OK    OK    OK    OK  UNNEEDED, same version is already published
merida1macOS 10.14.6 Mojave / x86_64  OK    OK    OK    OK  UNNEEDED, same version is already published
Package 183/463HostnameOS / ArchINSTALLBUILDCHECKBUILD BIN
GenomicSuperSignature 1.4.0  (landing page)
Sehyun Oh
git_last_commit: 56c08bb
git_last_commit_date: 2022-04-26 12:16:25 -0400
nebbiolo1Linux (Ubuntu 20.04.5 LTS) / x86_64  OK    OK    WARNINGS  UNNEEDED, same version is already published
palomino3Windows Server 2022 Datacenter / x64  OK    OK    WARNINGS    OK  UNNEEDED, same version is already published
merida1macOS 10.14.6 Mojave / x86_64  OK    OK    WARNINGS    OK  UNNEEDED, same version is already published
Package 184/463HostnameOS / ArchINSTALLBUILDCHECKBUILD BIN
GeoDiff 1.2.0  (landing page)
Nicole Ortogero
git_last_commit: 1197c97
git_last_commit_date: 2022-04-26 12:19:40 -0400
nebbiolo1Linux (Ubuntu 20.04.5 LTS) / x86_64  OK    OK    OK  UNNEEDED, same version is already published
palomino3Windows Server 2022 Datacenter / x64  OK    OK    OK    OK  UNNEEDED, same version is already published
merida1macOS 10.14.6 Mojave / x86_64  OK    OK    OK    OK  UNNEEDED, same version is already published
Package 185/463HostnameOS / ArchINSTALLBUILDCHECKBUILD BIN
GEOexplorer 1.2.0  (landing page)
Guy Hunt
git_last_commit: 3158786
git_last_commit_date: 2022-04-26 12:17:33 -0400
nebbiolo1Linux (Ubuntu 20.04.5 LTS) / x86_64  OK    OK    OK  UNNEEDED, same version is already published
palomino3Windows Server 2022 Datacenter / x64  OK    OK    OK    OK  UNNEEDED, same version is already published
merida1macOS 10.14.6 Mojave / x86_64  OK    OK    OK    OK  UNNEEDED, same version is already published
Package 186/463HostnameOS / ArchINSTALLBUILDCHECKBUILD BIN
GeomxTools 3.0.1  (landing page)
Nicole Ortogero
git_last_commit: 2c91b92
git_last_commit_date: 2022-04-28 18:10:23 -0400
nebbiolo1Linux (Ubuntu 20.04.5 LTS) / x86_64  OK    OK    OK  UNNEEDED, same version is already published
palomino3Windows Server 2022 Datacenter / x64  OK    OK    OK    OK  UNNEEDED, same version is already published
merida1macOS 10.14.6 Mojave / x86_64  OK    OK    OK    OK  UNNEEDED, same version is already published
Package 187/463HostnameOS / ArchINSTALLBUILDCHECKBUILD BIN
GEOquery 2.64.2  (landing page)
Sean Davis
git_last_commit: e9b7f07
git_last_commit_date: 2022-05-14 21:54:35 -0400
nebbiolo1Linux (Ubuntu 20.04.5 LTS) / x86_64  OK    OK    OK  UNNEEDED, same version is already published
palomino3Windows Server 2022 Datacenter / x64  OK    OK    OK    OK  UNNEEDED, same version is already published
merida1macOS 10.14.6 Mojave / x86_64  OK    OK    OK    OK  UNNEEDED, same version is already published
Package 188/463HostnameOS / ArchINSTALLBUILDCHECKBUILD BIN
GEOsubmission 1.48.0  (landing page)
Alexandre Kuhn
git_last_commit: 2aea084
git_last_commit_date: 2022-04-26 11:04:52 -0400
nebbiolo1Linux (Ubuntu 20.04.5 LTS) / x86_64  OK    OK    OK  UNNEEDED, same version is already published
palomino3Windows Server 2022 Datacenter / x64  OK    OK    OK    OK  UNNEEDED, same version is already published
merida1macOS 10.14.6 Mojave / x86_64  OK    OK    OK    OK  UNNEEDED, same version is already published
Package 189/463HostnameOS / ArchINSTALLBUILDCHECKBUILD BIN
gep2pep 1.16.0  (landing page)
Francesco Napolitano
git_last_commit: 9661693
git_last_commit_date: 2022-04-26 11:45:30 -0400
nebbiolo1Linux (Ubuntu 20.04.5 LTS) / x86_64  OK    OK    OK  UNNEEDED, same version is already published
palomino3Windows Server 2022 Datacenter / x64  OK    OK    OK    OK  UNNEEDED, same version is already published
merida1macOS 10.14.6 Mojave / x86_64  OK    OK    OK    OK  UNNEEDED, same version is already published
Package 190/463HostnameOS / ArchINSTALLBUILDCHECKBUILD BIN
gespeR 1.28.0  (landing page)
Fabian Schmich
git_last_commit: 89151b6
git_last_commit_date: 2022-04-26 11:23:21 -0400
nebbiolo1Linux (Ubuntu 20.04.5 LTS) / x86_64  OK    OK    WARNINGS  UNNEEDED, same version is already published
palomino3Windows Server 2022 Datacenter / x64  OK    OK    WARNINGS    OK  UNNEEDED, same version is already published
merida1macOS 10.14.6 Mojave / x86_64  OK    OK    WARNINGS    OK  UNNEEDED, same version is already published
Package 191/463HostnameOS / ArchINSTALLBUILDCHECKBUILD BIN
ggbio 1.44.1  (landing page)
Michael Lawrence
git_last_commit: 0301d94
git_last_commit_date: 2022-06-22 15:18:55 -0400
nebbiolo1Linux (Ubuntu 20.04.5 LTS) / x86_64  OK    OK    WARNINGS  UNNEEDED, same version is already published
palomino3Windows Server 2022 Datacenter / x64  OK    OK    WARNINGS    OK  UNNEEDED, same version is already published
merida1macOS 10.14.6 Mojave / x86_64  OK    OK    WARNINGS    OK  UNNEEDED, same version is already published
Package 192/463HostnameOS / ArchINSTALLBUILDCHECKBUILD BIN
girafe 1.48.0  (landing page)
J. Toedling
git_last_commit: b0d0e09
git_last_commit_date: 2022-04-26 11:04:31 -0400
nebbiolo1Linux (Ubuntu 20.04.5 LTS) / x86_64  OK    OK    OK  UNNEEDED, same version is already published
palomino3Windows Server 2022 Datacenter / x64  OK    OK    OK    OK  UNNEEDED, same version is already published
merida1macOS 10.14.6 Mojave / x86_64  OK    OK    OK    OK  UNNEEDED, same version is already published
Package 193/463HostnameOS / ArchINSTALLBUILDCHECKBUILD BIN
GISPA 1.20.0  (landing page)
Bhakti Dwivedi
git_last_commit: 6f47f82
git_last_commit_date: 2022-04-26 11:39:23 -0400
nebbiolo1Linux (Ubuntu 20.04.5 LTS) / x86_64  OK    OK    OK  UNNEEDED, same version is already published
palomino3Windows Server 2022 Datacenter / x64  OK    OK    OK    OK  UNNEEDED, same version is already published
merida1macOS 10.14.6 Mojave / x86_64  OK    OK    OK    OK  UNNEEDED, same version is already published
Package 194/463HostnameOS / ArchINSTALLBUILDCHECKBUILD BIN
GlobalAncova 4.14.0  (landing page)
Manuela Hummel
git_last_commit: 6f60d8c
git_last_commit_date: 2022-04-26 10:57:33 -0400
nebbiolo1Linux (Ubuntu 20.04.5 LTS) / x86_64  OK    OK    OK  UNNEEDED, same version is already published
palomino3Windows Server 2022 Datacenter / x64  OK    OK    OK    OK  UNNEEDED, same version is already published
merida1macOS 10.14.6 Mojave / x86_64  OK    OK    OK    OK  UNNEEDED, same version is already published
Package 195/463HostnameOS / ArchINSTALLBUILDCHECKBUILD BIN
globaltest 5.50.0  (landing page)
Jelle Goeman
git_last_commit: 08612a0
git_last_commit_date: 2022-04-26 10:56:07 -0400
nebbiolo1Linux (Ubuntu 20.04.5 LTS) / x86_64  OK    OK    OK  UNNEEDED, same version is already published
palomino3Windows Server 2022 Datacenter / x64  OK    OK    OK    OK  UNNEEDED, same version is already published
merida1macOS 10.14.6 Mojave / x86_64  OK    OK    OK    OK  UNNEEDED, same version is already published
Package 196/463HostnameOS / ArchINSTALLBUILDCHECKBUILD BIN
gmapR 1.38.0  (landing page)
Michael Lawrence
git_last_commit: f762532
git_last_commit_date: 2022-04-26 11:11:32 -0400
nebbiolo1Linux (Ubuntu 20.04.5 LTS) / x86_64  OK    OK    WARNINGS  UNNEEDED, same version is already published
palomino3Windows Server 2022 Datacenter / x64... NOT SUPPORTED ...
merida1macOS 10.14.6 Mojave / x86_64  OK    OK    WARNINGS    OK  UNNEEDED, same version is already published
Package 197/463HostnameOS / ArchINSTALLBUILDCHECKBUILD BIN
GOexpress 1.30.0  (landing page)
Kevin Rue-Albrecht
git_last_commit: 999b938
git_last_commit_date: 2022-04-26 11:21:34 -0400
nebbiolo1Linux (Ubuntu 20.04.5 LTS) / x86_64  OK    OK    OK  UNNEEDED, same version is already published
palomino3Windows Server 2022 Datacenter / x64  OK    OK    OK    OK  UNNEEDED, same version is already published
merida1macOS 10.14.6 Mojave / x86_64  OK    OK    OK    OK  UNNEEDED, same version is already published
Package 198/463HostnameOS / ArchINSTALLBUILDCHECKBUILD BIN
goProfiles 1.58.0  (landing page)
Alex Sanchez
git_last_commit: 2ee94e4
git_last_commit_date: 2022-04-26 11:01:10 -0400
nebbiolo1Linux (Ubuntu 20.04.5 LTS) / x86_64  OK    OK    OK  UNNEEDED, same version is already published
palomino3Windows Server 2022 Datacenter / x64  OK    OK    OK    OK  UNNEEDED, same version is already published
merida1macOS 10.14.6 Mojave / x86_64  OK    OK    OK    OK  UNNEEDED, same version is already published
Package 199/463HostnameOS / ArchINSTALLBUILDCHECKBUILD BIN
GOstats 2.62.0  (landing page)
Bioconductor Package Maintainer
git_last_commit: 217db03
git_last_commit_date: 2022-04-26 10:55:59 -0400
nebbiolo1Linux (Ubuntu 20.04.5 LTS) / x86_64  OK    OK    OK  UNNEEDED, same version is already published
palomino3Windows Server 2022 Datacenter / x64  OK    OK    OK    OK  UNNEEDED, same version is already published
merida1macOS 10.14.6 Mojave / x86_64  OK    OK    OK    OK  UNNEEDED, same version is already published
Package 200/463HostnameOS / ArchINSTALLBUILDCHECKBUILD BIN
GSEABase 1.58.0  (landing page)
Bioconductor Package Maintainer
git_last_commit: 7de0444
git_last_commit_date: 2022-04-26 10:59:57 -0400
nebbiolo1Linux (Ubuntu 20.04.5 LTS) / x86_64  OK    OK    OK  UNNEEDED, same version is already published
palomino3Windows Server 2022 Datacenter / x64  OK    OK    OK    OK  UNNEEDED, same version is already published
merida1macOS 10.14.6 Mojave / x86_64  OK    OK    OK    OK  UNNEEDED, same version is already published
Package 201/463HostnameOS / ArchINSTALLBUILDCHECKBUILD BIN
GSEABenchmarkeR 1.16.0  (landing page)
Ludwig Geistlinger
git_last_commit: 657ddbb
git_last_commit_date: 2022-04-26 11:48:07 -0400
nebbiolo1Linux (Ubuntu 20.04.5 LTS) / x86_64  OK    OK    OK  UNNEEDED, same version is already published
palomino3Windows Server 2022 Datacenter / x64  OK    OK    OK    OK  UNNEEDED, same version is already published
merida1macOS 10.14.6 Mojave / x86_64  OK    OK    OK    OK  UNNEEDED, same version is already published
Package 202/463HostnameOS / ArchINSTALLBUILDCHECKBUILD BIN
GSEAlm 1.56.0  (landing page)
Assaf Oron
git_last_commit: d910956
git_last_commit_date: 2022-04-26 11:00:56 -0400
nebbiolo1Linux (Ubuntu 20.04.5 LTS) / x86_64  OK    OK    OK  UNNEEDED, same version is already published
palomino3Windows Server 2022 Datacenter / x64  OK    OK    OK    OK  UNNEEDED, same version is already published
merida1macOS 10.14.6 Mojave / x86_64  OK    OK    OK    OK  UNNEEDED, same version is already published
Package 203/463HostnameOS / ArchINSTALLBUILDCHECKBUILD BIN
GSRI 2.44.0  (landing page)
Julian Gehring
git_last_commit: 9e0589f
git_last_commit_date: 2022-04-26 11:04:55 -0400
nebbiolo1Linux (Ubuntu 20.04.5 LTS) / x86_64  OK    OK    OK  UNNEEDED, same version is already published
palomino3Windows Server 2022 Datacenter / x64  OK    OK    OK    OK  UNNEEDED, same version is already published
merida1macOS 10.14.6 Mojave / x86_64  OK    OK    OK    OK  UNNEEDED, same version is already published
Package 204/463HostnameOS / ArchINSTALLBUILDCHECKBUILD BIN
GSVA 1.44.5  (landing page)
Robert Castelo
git_last_commit: bd55a3a
git_last_commit_date: 2022-09-20 14:24:51 -0400
nebbiolo1Linux (Ubuntu 20.04.5 LTS) / x86_64  OK    OK    OK  UNNEEDED, same version is already published
palomino3Windows Server 2022 Datacenter / x64  OK    OK    OK    OK  UNNEEDED, same version is already published
merida1macOS 10.14.6 Mojave / x86_64  OK    OK    OK    OK  UNNEEDED, same version is already published
Package 205/463HostnameOS / ArchINSTALLBUILDCHECKBUILD BIN
Gviz 1.40.1  (landing page)
Robert Ivanek
git_last_commit: d218437
git_last_commit_date: 2022-05-03 13:45:39 -0400
nebbiolo1Linux (Ubuntu 20.04.5 LTS) / x86_64  OK    OK    ERROR  
palomino3Windows Server 2022 Datacenter / x64  OK    OK    OK    OK  UNNEEDED, same version is already published
merida1macOS 10.14.6 Mojave / x86_64  OK    OK    OK    OK