Back to Multiple platform build/check report for BioC 3.15
ABCDE[F]GHIJKLMNOPQRSTUVWXYZ

This page was generated on 2022-05-25 12:04:28 -0400 (Wed, 25 May 2022).

HostnameOSArch (*)R versionInstalled pkgs
nebbiolo1Linux (Ubuntu 20.04.4 LTS)x86_644.2.0 (2022-04-22) -- "Vigorous Calisthenics" 4380
palomino3Windows Server 2022 Datacenterx644.2.0 (2022-04-22 ucrt) -- "Vigorous Calisthenics" 4155
merida1macOS 10.14.6 Mojavex86_644.2.0 (2022-04-22) -- "Vigorous Calisthenics" 4221
Click on any hostname to see more info about the system (e.g. compilers)      (*) as reported by 'uname -p', except on Windows and Mac OS X

All results for package flowViz


To the developers/maintainers of the flowViz package:
- Please allow up to 24 hours (and sometimes 48 hours) for your latest push to git@git.bioconductor.org:packages/flowViz.git to
reflect on this report. See How and When does the builder pull? When will my changes propagate? for more information.
- Make sure to use the following settings in order to reproduce any error or warning you see on this page.

raw results

Package 697/2140HostnameOS / ArchINSTALLBUILDCHECKBUILD BIN
flowViz 1.60.0  (landing page)
Mike Jiang , Jake Wagner
Snapshot Date: 2022-05-24 13:55:11 -0400 (Tue, 24 May 2022)
git_url: https://git.bioconductor.org/packages/flowViz
git_branch: RELEASE_3_15
git_last_commit: a287812
git_last_commit_date: 2022-04-26 10:59:00 -0400 (Tue, 26 Apr 2022)
nebbiolo1Linux (Ubuntu 20.04.4 LTS) / x86_64  OK    OK    OK  UNNEEDED, same version is already published
palomino3Windows Server 2022 Datacenter / x64  OK    OK    OK    OK  UNNEEDED, same version is already published
merida1macOS 10.14.6 Mojave / x86_64  OK    OK    OK    OK  UNNEEDED, same version is already published

Results for Bioconductor software packages that depend directly on package flowViz

QUICK STATSOS / ArchINSTALLBUILDCHECKBUILD BIN
nebbiolo1Linux (Ubuntu 20.04.4 LTS) / x86_64
006
015
0014
palomino3Windows Server 2022 Datacenter / x64
006
015
0014
005
merida1macOS 10.14.6 Mojave / x86_64
006
015
0014
005
Package 1/6HostnameOS / ArchINSTALLBUILDCHECKBUILD BIN
flowDensity 1.30.0  (landing page)
Mehrnoush Malek
git_last_commit: eaee0fd
git_last_commit_date: 2022-04-26 11:20:17 -0400
nebbiolo1Linux (Ubuntu 20.04.4 LTS) / x86_64  OK    OK    WARNINGS  UNNEEDED, same version is already published
palomino3Windows Server 2022 Datacenter / x64  OK    OK    WARNINGS    OK  UNNEEDED, same version is already published
merida1macOS 10.14.6 Mojave / x86_64  OK    OK    WARNINGS    OK  UNNEEDED, same version is already published
Package 2/6HostnameOS / ArchINSTALLBUILDCHECKBUILD BIN
flowFP 1.54.0  (landing page)
Herb Holyst
git_last_commit: c0366f3
git_last_commit_date: 2022-04-26 11:03:12 -0400
nebbiolo1Linux (Ubuntu 20.04.4 LTS) / x86_64  OK    OK    OK  UNNEEDED, same version is already published
palomino3Windows Server 2022 Datacenter / x64  OK    OK    OK    OK  UNNEEDED, same version is already published
merida1macOS 10.14.6 Mojave / x86_64  OK    OK    OK    OK  UNNEEDED, same version is already published
Package 3/6HostnameOS / ArchINSTALLBUILDCHECKBUILD BIN
flowStats 4.8.0  (landing page)
Greg Finak , Mike Jiang , Jake Wagner
git_last_commit: aa6d4ca
git_last_commit_date: 2022-04-26 11:02:55 -0400
nebbiolo1Linux (Ubuntu 20.04.4 LTS) / x86_64  OK    ERROR  skipped
palomino3Windows Server 2022 Datacenter / x64  OK    ERROR  skippedskipped
merida1macOS 10.14.6 Mojave / x86_64  OK    ERROR  skippedskipped
Package 4/6HostnameOS / ArchINSTALLBUILDCHECKBUILD BIN
flowTrans 1.48.0  (landing page)
Greg Finak
git_last_commit: 1b84f91
git_last_commit_date: 2022-04-26 11:04:58 -0400
nebbiolo1Linux (Ubuntu 20.04.4 LTS) / x86_64  OK    OK    OK  UNNEEDED, same version is already published
palomino3Windows Server 2022 Datacenter / x64  OK    OK    OK    OK  UNNEEDED, same version is already published
merida1macOS 10.14.6 Mojave / x86_64  OK    OK    OK    OK  UNNEEDED, same version is already published
Package 5/6HostnameOS / ArchINSTALLBUILDCHECKBUILD BIN
flowVS 1.28.0  (landing page)
Ariful Azad
git_last_commit: 8cb6b20
git_last_commit_date: 2022-04-26 12:15:05 -0400
nebbiolo1Linux (Ubuntu 20.04.4 LTS) / x86_64  OK    OK    OK  UNNEEDED, same version is already published
palomino3Windows Server 2022 Datacenter / x64  OK    OK    OK    OK  UNNEEDED, same version is already published
merida1macOS 10.14.6 Mojave / x86_64  OK    OK    OK    OK  UNNEEDED, same version is already published
Package 6/6HostnameOS / ArchINSTALLBUILDCHECKBUILD BIN
openCyto 2.8.0  (landing page)
Mike Jiang ,Jake Wagner
git_last_commit: 120a7c5
git_last_commit_date: 2022-04-26 11:16:45 -0400
nebbiolo1Linux (Ubuntu 20.04.4 LTS) / x86_64  OK    OK    OK  UNNEEDED, same version is already published
palomino3Windows Server 2022 Datacenter / x64  OK    OK    OK    OK  UNNEEDED, same version is already published
merida1macOS 10.14.6 Mojave / x86_64  OK    OK    OK    OK  UNNEEDED, same version is already published