Back to Multiple platform build/check report for BioC 3.15
ABCDEFGHIJKLMN[O]PQRSTUVWXYZ

This page was generated on 2022-05-13 12:46:58 -0400 (Fri, 13 May 2022).

HostnameOSArch (*)R versionInstalled pkgs
nebbiolo1Linux (Ubuntu 20.04.4 LTS)x86_644.2.0 (2022-04-22) -- "Vigorous Calisthenics" 4344
palomino3Windows Server 2022 Datacenterx644.2.0 (2022-04-22 ucrt) -- "Vigorous Calisthenics" 4151
merida1macOS 10.14.6 Mojavex86_644.2.0 (2022-04-22) -- "Vigorous Calisthenics" 4183
Click on any hostname to see more info about the system (e.g. compilers)      (*) as reported by 'uname -p', except on Windows and Mac OS X

BUILD results for openCyto on palomino3


To the developers/maintainers of the openCyto package:
- Please allow up to 24 hours (and sometimes 48 hours) for your latest push to git@git.bioconductor.org:packages/openCyto.git to
reflect on this report. See How and When does the builder pull? When will my changes propagate? for more information.
- Make sure to use the following settings in order to reproduce any error or warning you see on this page.

raw results

Package 1375/2140HostnameOS / ArchINSTALLBUILDCHECKBUILD BIN
openCyto 2.8.0  (landing page)
Mike Jiang ,Jake Wagner
Snapshot Date: 2022-05-12 13:55:13 -0400 (Thu, 12 May 2022)
git_url: https://git.bioconductor.org/packages/openCyto
git_branch: RELEASE_3_15
git_last_commit: 120a7c5
git_last_commit_date: 2022-04-26 11:16:45 -0400 (Tue, 26 Apr 2022)
nebbiolo1Linux (Ubuntu 20.04.4 LTS) / x86_64  OK    OK    OK  UNNEEDED, same version is already published
palomino3Windows Server 2022 Datacenter / x64  OK    OK    OK    OK  UNNEEDED, same version is already published
merida1macOS 10.14.6 Mojave / x86_64  OK    OK    OK    OK  UNNEEDED, same version is already published

Summary

Package: openCyto
Version: 2.8.0
Command: chmod a+r openCyto -R && F:\biocbuild\bbs-3.15-bioc\R\bin\R.exe CMD build --keep-empty-dirs --no-resave-data openCyto
StartedAt: 2022-05-12 20:06:06 -0400 (Thu, 12 May 2022)
EndedAt: 2022-05-12 20:15:34 -0400 (Thu, 12 May 2022)
EllapsedTime: 567.9 seconds
RetCode: 0
Status:   OK  
PackageFile: openCyto_2.8.0.tar.gz
PackageFileSize: 1.031 MiB

Command output

##############################################################################
##############################################################################
###
### Running command:
###
###   chmod a+r openCyto -R && F:\biocbuild\bbs-3.15-bioc\R\bin\R.exe CMD build --keep-empty-dirs --no-resave-data openCyto
###
##############################################################################
##############################################################################


* checking for file 'openCyto/DESCRIPTION' ... OK
* preparing 'openCyto':
* checking DESCRIPTION meta-information ... OK
* cleaning src
* installing the package to build vignettes
* creating vignettes ... OK
* cleaning src
* checking for LF line-endings in source and make files and shell scripts
* checking for empty or unneeded directories
  NB: this package now depends on R (>= 3.5.0)
  WARNING: Added dependency on R >= 3.5.0 because serialized objects in
  serialize/load version 3 cannot be read in older versions of R.
  File(s) containing such objects:
    'openCyto/tests/testthat/expectResults.rds'
* building 'openCyto_2.8.0.tar.gz'