Back to Multiple platform build/check report for BioC 3.15
AB[C]DEFGHIJKLMNOPQRSTUVWXYZ

This page was generated on 2022-05-27 12:07:46 -0400 (Fri, 27 May 2022).

HostnameOSArch (*)R versionInstalled pkgs
nebbiolo1Linux (Ubuntu 20.04.4 LTS)x86_644.2.0 (2022-04-22) -- "Vigorous Calisthenics" 4380
palomino3Windows Server 2022 Datacenterx644.2.0 (2022-04-22 ucrt) -- "Vigorous Calisthenics" 4156
merida1macOS 10.14.6 Mojavex86_644.2.0 (2022-04-22) -- "Vigorous Calisthenics" 4221
Click on any hostname to see more info about the system (e.g. compilers)      (*) as reported by 'uname -p', except on Windows and Mac OS X

CHECK results for CellTrails on merida1


To the developers/maintainers of the CellTrails package:
- Please allow up to 24 hours (and sometimes 48 hours) for your latest push to git@git.bioconductor.org:packages/CellTrails.git to
reflect on this report. See How and When does the builder pull? When will my changes propagate? for more information.
- Make sure to use the following settings in order to reproduce any error or warning you see on this page.

raw results

Package 282/2140HostnameOS / ArchINSTALLBUILDCHECKBUILD BIN
CellTrails 1.14.0  (landing page)
Daniel Ellwanger
Snapshot Date: 2022-05-26 13:55:15 -0400 (Thu, 26 May 2022)
git_url: https://git.bioconductor.org/packages/CellTrails
git_branch: RELEASE_3_15
git_last_commit: 3ad6bc4
git_last_commit_date: 2022-04-26 11:49:46 -0400 (Tue, 26 Apr 2022)
nebbiolo1Linux (Ubuntu 20.04.4 LTS) / x86_64  OK    OK    OK  UNNEEDED, same version is already published
palomino3Windows Server 2022 Datacenter / x64  OK    OK    OK    OK  UNNEEDED, same version is already published
merida1macOS 10.14.6 Mojave / x86_64  OK    OK    OK    OK  UNNEEDED, same version is already published

Summary

Package: CellTrails
Version: 1.14.0
Command: /Library/Frameworks/R.framework/Resources/bin/R CMD check --install=check:CellTrails.install-out.txt --library=/Library/Frameworks/R.framework/Resources/library --no-vignettes --timings CellTrails_1.14.0.tar.gz
StartedAt: 2022-05-27 00:11:09 -0400 (Fri, 27 May 2022)
EndedAt: 2022-05-27 00:18:20 -0400 (Fri, 27 May 2022)
EllapsedTime: 430.2 seconds
RetCode: 0
Status:   OK  
CheckDir: CellTrails.Rcheck
Warnings: 0

Command output

##############################################################################
##############################################################################
###
### Running command:
###
###   /Library/Frameworks/R.framework/Resources/bin/R CMD check --install=check:CellTrails.install-out.txt --library=/Library/Frameworks/R.framework/Resources/library --no-vignettes --timings CellTrails_1.14.0.tar.gz
###
##############################################################################
##############################################################################


* using log directory ‘/Users/biocbuild/bbs-3.15-bioc/meat/CellTrails.Rcheck’
* using R version 4.2.0 (2022-04-22)
* using platform: x86_64-apple-darwin17.0 (64-bit)
* using session charset: UTF-8
* using option ‘--no-vignettes’
* checking for file ‘CellTrails/DESCRIPTION’ ... OK
* checking extension type ... Package
* this is package ‘CellTrails’ version ‘1.14.0’
* package encoding: UTF-8
* checking package namespace information ... OK
* checking package dependencies ... OK
* checking if this is a source package ... OK
* checking if there is a namespace ... OK
* checking for hidden files and directories ... OK
* checking for portable file names ... OK
* checking for sufficient/correct file permissions ... OK
* checking whether package ‘CellTrails’ can be installed ... OK
* checking installed package size ... OK
* checking package directory ... OK
* checking ‘build’ directory ... OK
* checking DESCRIPTION meta-information ... OK
* checking top-level files ... OK
* checking for left-over files ... OK
* checking index information ... OK
* checking package subdirectories ... OK
* checking R files for non-ASCII characters ... OK
* checking R files for syntax errors ... OK
* checking whether the package can be loaded ... OK
* checking whether the package can be loaded with stated dependencies ... OK
* checking whether the package can be unloaded cleanly ... OK
* checking whether the namespace can be loaded with stated dependencies ... OK
* checking whether the namespace can be unloaded cleanly ... OK
* checking dependencies in R code ... OK
* checking S3 generic/method consistency ... OK
* checking replacement functions ... OK
* checking foreign function calls ... OK
* checking R code for possible problems ... OK
* checking Rd files ... OK
* checking Rd metadata ... OK
* checking Rd cross-references ... OK
* checking for missing documentation entries ... OK
* checking for code/documentation mismatches ... OK
* checking Rd \usage sections ... OK
* checking Rd contents ... OK
* checking for unstated dependencies in examples ... OK
* checking contents of ‘data’ directory ... OK
* checking data for non-ASCII characters ... OK
* checking data for ASCII and uncompressed saves ... OK
* checking sizes of PDF files under ‘inst/doc’ ... OK
* checking files in ‘vignettes’ ... OK
* checking examples ... OK
Examples with CPU (user + system) or elapsed time > 5s
                        user system elapsed
plotMap                9.421  0.354   9.793
filterTrajFeaturesByFF 5.105  0.199   5.313
* checking for unstated dependencies in ‘tests’ ... OK
* checking tests ...
  Running ‘runTests.R’
 OK
* checking for unstated dependencies in vignettes ... OK
* checking package vignettes in ‘inst/doc’ ... OK
* checking running R code from vignettes ... SKIPPED
* checking re-building of vignette outputs ... SKIPPED
* checking PDF version of manual ... OK
* DONE

Status: OK


Installation output

CellTrails.Rcheck/00install.out

##############################################################################
##############################################################################
###
### Running command:
###
###   /Library/Frameworks/R.framework/Resources/bin/R CMD INSTALL CellTrails
###
##############################################################################
##############################################################################


* installing to library ‘/Library/Frameworks/R.framework/Versions/4.2/Resources/library’
* installing *source* package ‘CellTrails’ ...
** using staged installation
** R
** data
** inst
** byte-compile and prepare package for lazy loading
** help
*** installing help indices
** building package indices
** installing vignettes
** testing if installed package can be loaded from temporary location
** testing if installed package can be loaded from final location
** testing if installed package keeps a record of temporary installation path
* DONE (CellTrails)

Tests output

CellTrails.Rcheck/tests/runTests.Rout


R version 4.2.0 (2022-04-22) -- "Vigorous Calisthenics"
Copyright (C) 2022 The R Foundation for Statistical Computing
Platform: x86_64-apple-darwin17.0 (64-bit)

R is free software and comes with ABSOLUTELY NO WARRANTY.
You are welcome to redistribute it under certain conditions.
Type 'license()' or 'licence()' for distribution details.

R is a collaborative project with many contributors.
Type 'contributors()' for more information and
'citation()' on how to cite R or R packages in publications.

Type 'demo()' for some demos, 'help()' for on-line help, or
'help.start()' for an HTML browser interface to help.
Type 'q()' to quit R.

> BiocGenerics:::testPackage("CellTrails")

Attaching package: 'MatrixGenerics'

The following objects are masked from 'package:matrixStats':

    colAlls, colAnyNAs, colAnys, colAvgsPerRowSet, colCollapse,
    colCounts, colCummaxs, colCummins, colCumprods, colCumsums,
    colDiffs, colIQRDiffs, colIQRs, colLogSumExps, colMadDiffs,
    colMads, colMaxs, colMeans2, colMedians, colMins, colOrderStats,
    colProds, colQuantiles, colRanges, colRanks, colSdDiffs, colSds,
    colSums2, colTabulates, colVarDiffs, colVars, colWeightedMads,
    colWeightedMeans, colWeightedMedians, colWeightedSds,
    colWeightedVars, rowAlls, rowAnyNAs, rowAnys, rowAvgsPerColSet,
    rowCollapse, rowCounts, rowCummaxs, rowCummins, rowCumprods,
    rowCumsums, rowDiffs, rowIQRDiffs, rowIQRs, rowLogSumExps,
    rowMadDiffs, rowMads, rowMaxs, rowMeans2, rowMedians, rowMins,
    rowOrderStats, rowProds, rowQuantiles, rowRanges, rowRanks,
    rowSdDiffs, rowSds, rowSums2, rowTabulates, rowVarDiffs, rowVars,
    rowWeightedMads, rowWeightedMeans, rowWeightedMedians,
    rowWeightedSds, rowWeightedVars


Attaching package: 'BiocGenerics'

The following objects are masked from 'package:stats':

    IQR, mad, sd, var, xtabs

The following objects are masked from 'package:base':

    Filter, Find, Map, Position, Reduce, anyDuplicated, append,
    as.data.frame, basename, cbind, colnames, dirname, do.call,
    duplicated, eval, evalq, get, grep, grepl, intersect, is.unsorted,
    lapply, mapply, match, mget, order, paste, pmax, pmax.int, pmin,
    pmin.int, rank, rbind, rownames, sapply, setdiff, sort, table,
    tapply, union, unique, unsplit, which.max, which.min


Attaching package: 'S4Vectors'

The following objects are masked from 'package:base':

    I, expand.grid, unname

Welcome to Bioconductor

    Vignettes contain introductory material; view with
    'browseVignettes()'. To cite Bioconductor, see
    'citation("Biobase")', and for packages 'citation("pkgname")'.


Attaching package: 'Biobase'

The following object is masked from 'package:MatrixGenerics':

    rowMedians

The following objects are masked from 'package:matrixStats':

    anyMissing, rowMedians

Computing adjacency matrix ...
Computing spectral embedding ...
Calculating approximation of CellTrails manifold for 2D visualization...
Used tSNE perplexity: 30
Initialized 20 clusters with a minimum size of 1 sample(s) each.
Performing post-hoc test ...
Found 5 states.
Calculating layout of state trajectory graph component 1...
Computing adjacency matrix ...
Computing spectral embedding ...
Calculating approximation of CellTrails manifold for 2D visualization...
Used tSNE perplexity: 30
Initialized 20 clusters with a minimum size of 1 sample(s) each.
Performing post-hoc test ...
Found 5 states.
Calculating layout of state trajectory graph component 1...
Calculating layout of state trajectory graph component 2...
Calculating layout of state trajectory graph component 3...
Calculating layout of state trajectory graph component 4...
Calculating layout of state trajectory graph component 5...
Calculating layout of state trajectory graph component 1...
Computing adjacency matrix ...
Computing spectral embedding ...
Computing adjacency matrix ...
Computing spectral embedding ...
Calculating approximation of CellTrails manifold for 2D visualization...
Used tSNE perplexity: 30
Computing adjacency matrix ...
Computing spectral embedding ...
Calculating approximation of CellTrails manifold for 2D visualization...
Used tSNE perplexity: 30
Initialized 20 clusters with a minimum size of 1 sample(s) each.
Performing post-hoc test ...
Found 1 states.
Initialized 20 clusters with a minimum size of 1 sample(s) each.
Performing post-hoc test ...
Found 1 states.
Initialized 0 clusters with a minimum size of 1000 sample(s) each.
Initialized 20 clusters with a minimum size of 1 sample(s) each.
Performing post-hoc test ...
Found 20 states.
Initialized 20 clusters with a minimum size of 1 sample(s) each.
Performing post-hoc test ...
Found 1 states.
Initialized 20 clusters with a minimum size of 1 sample(s) each.
Performing post-hoc test ...
Found 19 states.
Initialized 20 clusters with a minimum size of 1 sample(s) each.
Performing post-hoc test ...
Found 5 states.
Initialized 20 clusters with a minimum size of 1 sample(s) each.
Performing post-hoc test ...
Found 5 states.
Computing adjacency matrix ...
Computing spectral embedding ...
Calculating approximation of CellTrails manifold for 2D visualization...
Used tSNE perplexity: 30
Initialized 20 clusters with a minimum size of 1 sample(s) each.
Performing post-hoc test ...
Found 5 states.
Calculating layout of state trajectory graph component 1...
Computing adjacency matrix ...
Computing spectral embedding ...
Calculating approximation of CellTrails manifold for 2D visualization...
Used tSNE perplexity: 30
Initialized 20 clusters with a minimum size of 1 sample(s) each.
Performing post-hoc test ...
Found 5 states.
Calculating layout of state trajectory graph component 1...
Computing adjacency matrix ...
Computing spectral embedding ...
Calculating approximation of CellTrails manifold for 2D visualization...
Used tSNE perplexity: 30
Initialized 20 clusters with a minimum size of 1 sample(s) each.
Performing post-hoc test ...
Found 5 states.
Calculating layout of state trajectory graph component 1...
Calculating 2D approximation of CellTrails manifold...
Calculating layout of state trajectory graph component 1...
Calculating layout of state trajectory graph component 2...
Calculating layout of state trajectory graph ...
Computing adjacency matrix ...
Computing spectral embedding ...
Calculating approximation of CellTrails manifold for 2D visualization...
Used tSNE perplexity: 30
Initialized 20 clusters with a minimum size of 1 sample(s) each.
Performing post-hoc test ...
Found 5 states.
Calculating layout of state trajectory graph component 1...


RUNIT TEST PROTOCOL -- Fri May 27 00:18:08 2022 
*********************************************** 
Number of test functions: 18 
Number of errors: 0 
Number of failures: 0 

 
1 Test Suite : 
CellTrails RUnit Tests - 18 test functions, 0 errors, 0 failures
Number of test functions: 18 
Number of errors: 0 
Number of failures: 0 
There were 11 warnings (use warnings() to see them)
> 
> proc.time()
   user  system elapsed 
 70.605   1.189  71.872 

Example timings

CellTrails.Rcheck/CellTrails-Ex.timings

nameusersystemelapsed
addTrail0.7780.0080.786
connectStates0.1900.0050.194
contrastTrailExpr0.4290.0090.438
embedSamples0.5510.0400.592
enrichment.test0.0060.0010.006
featureNames-SingleCellExperiment-method0.0160.0030.019
filterTrajFeaturesByCOV4.3630.1234.491
filterTrajFeaturesByDL1.5560.0371.595
filterTrajFeaturesByFF5.1050.1995.313
findSpectrum1.0540.0251.083
findStates1.8860.0581.948
fitDynamic0.2090.0050.214
fitTrajectory0.5600.0060.568
landmarks0.0100.0020.013
latentSpace-set0.6530.0050.660
latentSpace0.1190.0030.123
manifold2D-set0.8480.0040.853
manifold2D0.0680.0040.072
pca0.4440.0130.459
phenoNames0.0100.0020.013
plotDynamic1.3490.0071.359
plotManifold1.6080.0081.617
plotMap9.4210.3549.793
plotStateExpression0.8720.0190.894
plotStateSize0.2450.0120.258
plotStateTrajectory1.6650.0251.692
plotTrail0.4110.0050.416
plotTrajectoryFit0.5090.0060.516
read.ygraphml0.0070.0020.009
removeTrail0.0660.0030.069
sampleNames-SingleCellExperiment-method0.0170.0030.020
selectTrajectory0.0140.0020.017
showTrajInfo0.4300.0030.434
simulate_exprs0.0020.0000.002
stateTrajLayout-set0.3020.0030.305
states-set0.0740.0030.077
states0.0100.0020.012
trailNames-set0.0370.0030.041
trailNames0.0050.0020.007
trails0.0270.0030.030
trajComponents0.0050.0020.007
trajFeatureNames-set0.0420.0030.045
trajFeatureNames0.0200.0030.023
trajLayout-set1.1080.0151.124
trajLayout0.0160.0030.019
trajResiduals0.0090.0030.011
trajSampleNames0.0210.0030.023
userLandmarks-set0.9950.0141.012
userLandmarks0.1850.0090.193
write.ygraphml0.0060.0030.009