Back to Multiple platform build/check report for BioC 3.15
AB[C]DEFGHIJKLMNOPQRSTUVWXYZ

This page was generated on 2022-05-27 12:05:12 -0400 (Fri, 27 May 2022).

HostnameOSArch (*)R versionInstalled pkgs
nebbiolo1Linux (Ubuntu 20.04.4 LTS)x86_644.2.0 (2022-04-22) -- "Vigorous Calisthenics" 4380
palomino3Windows Server 2022 Datacenterx644.2.0 (2022-04-22 ucrt) -- "Vigorous Calisthenics" 4156
merida1macOS 10.14.6 Mojavex86_644.2.0 (2022-04-22) -- "Vigorous Calisthenics" 4221
Click on any hostname to see more info about the system (e.g. compilers)      (*) as reported by 'uname -p', except on Windows and Mac OS X

CHECK results for cydar on nebbiolo1


To the developers/maintainers of the cydar package:
- Please allow up to 24 hours (and sometimes 48 hours) for your latest push to git@git.bioconductor.org:packages/cydar.git to
reflect on this report. See How and When does the builder pull? When will my changes propagate? for more information.
- Make sure to use the following settings in order to reproduce any error or warning you see on this page.

raw results

Package 454/2140HostnameOS / ArchINSTALLBUILDCHECKBUILD BIN
cydar 1.20.0  (landing page)
Aaron Lun
Snapshot Date: 2022-05-26 13:55:15 -0400 (Thu, 26 May 2022)
git_url: https://git.bioconductor.org/packages/cydar
git_branch: RELEASE_3_15
git_last_commit: e330d5f
git_last_commit_date: 2022-04-26 11:39:46 -0400 (Tue, 26 Apr 2022)
nebbiolo1Linux (Ubuntu 20.04.4 LTS) / x86_64  OK    OK    OK  UNNEEDED, same version is already published
palomino3Windows Server 2022 Datacenter / x64  OK    OK    OK    OK  UNNEEDED, same version is already published
merida1macOS 10.14.6 Mojave / x86_64  OK    OK    OK    OK  UNNEEDED, same version is already published

Summary

Package: cydar
Version: 1.20.0
Command: /home/biocbuild/bbs-3.15-bioc/R/bin/R CMD check --install=check:cydar.install-out.txt --library=/home/biocbuild/bbs-3.15-bioc/R/library --no-vignettes --timings cydar_1.20.0.tar.gz
StartedAt: 2022-05-26 19:09:53 -0400 (Thu, 26 May 2022)
EndedAt: 2022-05-26 19:13:41 -0400 (Thu, 26 May 2022)
EllapsedTime: 228.1 seconds
RetCode: 0
Status:   OK  
CheckDir: cydar.Rcheck
Warnings: 0

Command output

##############################################################################
##############################################################################
###
### Running command:
###
###   /home/biocbuild/bbs-3.15-bioc/R/bin/R CMD check --install=check:cydar.install-out.txt --library=/home/biocbuild/bbs-3.15-bioc/R/library --no-vignettes --timings cydar_1.20.0.tar.gz
###
##############################################################################
##############################################################################


* using log directory ‘/home/biocbuild/bbs-3.15-bioc/meat/cydar.Rcheck’
* using R version 4.2.0 (2022-04-22)
* using platform: x86_64-pc-linux-gnu (64-bit)
* using session charset: UTF-8
* using option ‘--no-vignettes’
* checking for file ‘cydar/DESCRIPTION’ ... OK
* this is package ‘cydar’ version ‘1.20.0’
* checking package namespace information ... OK
* checking package dependencies ... OK
* checking if this is a source package ... OK
* checking if there is a namespace ... OK
* checking for hidden files and directories ... OK
* checking for portable file names ... OK
* checking for sufficient/correct file permissions ... OK
* checking whether package ‘cydar’ can be installed ... OK
* checking installed package size ... OK
* checking package directory ... OK
* checking ‘build’ directory ... OK
* checking DESCRIPTION meta-information ... OK
* checking top-level files ... OK
* checking for left-over files ... OK
* checking index information ... OK
* checking package subdirectories ... OK
* checking R files for non-ASCII characters ... OK
* checking R files for syntax errors ... OK
* checking whether the package can be loaded ... OK
* checking whether the package can be loaded with stated dependencies ... OK
* checking whether the package can be unloaded cleanly ... OK
* checking whether the namespace can be loaded with stated dependencies ... OK
* checking whether the namespace can be unloaded cleanly ... OK
* checking dependencies in R code ... OK
* checking S3 generic/method consistency ... OK
* checking replacement functions ... OK
* checking foreign function calls ... OK
* checking R code for possible problems ... OK
* checking Rd files ... OK
* checking Rd metadata ... OK
* checking Rd cross-references ... OK
* checking for missing documentation entries ... OK
* checking for code/documentation mismatches ... OK
* checking Rd \usage sections ... OK
* checking Rd contents ... OK
* checking for unstated dependencies in examples ... OK
* checking line endings in C/C++/Fortran sources/headers ... OK
* checking compiled code ... NOTE
Note: information on .o files is not available
* checking files in ‘vignettes’ ... OK
* checking examples ... OK
* checking for unstated dependencies in ‘tests’ ... OK
* checking tests ...
  Running ‘testthat.R’
 OK
* checking for unstated dependencies in vignettes ... OK
* checking package vignettes in ‘inst/doc’ ... OK
* checking running R code from vignettes ... SKIPPED
* checking re-building of vignette outputs ... SKIPPED
* checking PDF version of manual ... OK
* DONE

Status: 1 NOTE
See
  ‘/home/biocbuild/bbs-3.15-bioc/meat/cydar.Rcheck/00check.log’
for details.



Installation output

cydar.Rcheck/00install.out

##############################################################################
##############################################################################
###
### Running command:
###
###   /home/biocbuild/bbs-3.15-bioc/R/bin/R CMD INSTALL cydar
###
##############################################################################
##############################################################################


* installing to library ‘/home/biocbuild/bbs-3.15-bioc/R/library’
* installing *source* package ‘cydar’ ...
** using staged installation
** libs
g++ -std=gnu++11 -I"/home/biocbuild/bbs-3.15-bioc/R/include" -DNDEBUG  -I'/home/biocbuild/bbs-3.15-bioc/R/library/Rcpp/include' -I/usr/local/include   -fpic  -g -O2  -Wall -c RcppExports.cpp -o RcppExports.o
g++ -std=gnu++11 -I"/home/biocbuild/bbs-3.15-bioc/R/include" -DNDEBUG  -I'/home/biocbuild/bbs-3.15-bioc/R/library/Rcpp/include' -I/usr/local/include   -fpic  -g -O2  -Wall -c compute_density.cpp -o compute_density.o
compute_density.cpp: In function ‘Rcpp::NumericVector compute_density(Rcpp::List, double)’:
compute_density.cpp:7:23: warning: comparison of integer expressions of different signedness: ‘size_t’ {aka ‘long unsigned int’} and ‘R_xlen_t’ {aka ‘long int’} [-Wsign-compare]
    7 |     for (size_t i=0; i<distances.size(); ++i) {
      |                      ~^~~~~~~~~~~~~~~~~
g++ -std=gnu++11 -I"/home/biocbuild/bbs-3.15-bioc/R/include" -DNDEBUG  -I'/home/biocbuild/bbs-3.15-bioc/R/library/Rcpp/include' -I/usr/local/include   -fpic  -g -O2  -Wall -c count_cells.cpp -o count_cells.o
g++ -std=gnu++11 -I"/home/biocbuild/bbs-3.15-bioc/R/include" -DNDEBUG  -I'/home/biocbuild/bbs-3.15-bioc/R/library/Rcpp/include' -I/usr/local/include   -fpic  -g -O2  -Wall -c drop_redundant.cpp -o drop_redundant.o
g++ -std=gnu++11 -I"/home/biocbuild/bbs-3.15-bioc/R/include" -DNDEBUG  -I'/home/biocbuild/bbs-3.15-bioc/R/library/Rcpp/include' -I/usr/local/include   -fpic  -g -O2  -Wall -c median_int_by_sample.cpp -o median_int_by_sample.o
median_int_by_sample.cpp: In function ‘Rcpp::List median_int_by_sample(Rcpp::NumericMatrix, Rcpp::List, Rcpp::NumericVector, int)’:
median_int_by_sample.cpp:22:25: warning: comparison of integer expressions of different signedness: ‘R_xlen_t’ {aka ‘long int’} and ‘const size_t’ {aka ‘const long unsigned int’} [-Wsign-compare]
   22 |     if (sample_id.size()!=ncells) {
      |         ~~~~~~~~~~~~~~~~^~~~~~~~
median_int_by_sample.cpp:42:39: warning: comparison of integer expressions of different signedness: ‘int’ and ‘const size_t’ {aka ‘const long unsigned int’} [-Wsign-compare]
   42 |             if (curdex <= 0 || curdex > ncells) {
      |                                ~~~~~~~^~~~~~~~
g++ -std=gnu++11 -I"/home/biocbuild/bbs-3.15-bioc/R/include" -DNDEBUG  -I'/home/biocbuild/bbs-3.15-bioc/R/library/Rcpp/include' -I/usr/local/include   -fpic  -g -O2  -Wall -c weighted_median_int.cpp -o weighted_median_int.o
weighted_median_int.cpp: In function ‘SEXPREC* weighted_median_int(Rcpp::NumericMatrix, Rcpp::List, Rcpp::NumericVector, Rcpp::NumericVector)’:
weighted_median_int.cpp:16:25: warning: comparison of integer expressions of different signedness: ‘R_xlen_t’ {aka ‘long int’} and ‘const size_t’ {aka ‘const long unsigned int’} [-Wsign-compare]
   16 |     if (sample_id.size()!=ncells) {
      |         ~~~~~~~~~~~~~~~~^~~~~~~~
weighted_median_int.cpp:42:35: warning: comparison of integer expressions of different signedness: ‘size_t’ {aka ‘long unsigned int’} and ‘R_xlen_t’ {aka ‘long int’} [-Wsign-compare]
   42 |             for (size_t icx=0; icx<curass.size(); ++icx) {
      |                                ~~~^~~~~~~~~~~~~~
g++ -std=gnu++11 -shared -L/home/biocbuild/bbs-3.15-bioc/R/lib -L/usr/local/lib -o cydar.so RcppExports.o compute_density.o count_cells.o drop_redundant.o median_int_by_sample.o weighted_median_int.o -L/home/biocbuild/bbs-3.15-bioc/R/lib -lR
installing to /home/biocbuild/bbs-3.15-bioc/R/library/00LOCK-cydar/00new/cydar/libs
** R
** inst
** byte-compile and prepare package for lazy loading
** help
*** installing help indices
** building package indices
** installing vignettes
** testing if installed package can be loaded from temporary location
** checking absolute paths in shared objects and dynamic libraries
** testing if installed package can be loaded from final location
** testing if installed package keeps a record of temporary installation path
* DONE (cydar)

Tests output

cydar.Rcheck/tests/testthat.Rout


R version 4.2.0 (2022-04-22) -- "Vigorous Calisthenics"
Copyright (C) 2022 The R Foundation for Statistical Computing
Platform: x86_64-pc-linux-gnu (64-bit)

R is free software and comes with ABSOLUTELY NO WARRANTY.
You are welcome to redistribute it under certain conditions.
Type 'license()' or 'licence()' for distribution details.

R is a collaborative project with many contributors.
Type 'contributors()' for more information and
'citation()' on how to cite R or R packages in publications.

Type 'demo()' for some demos, 'help()' for on-line help, or
'help.start()' for an HTML browser interface to help.
Type 'q()' to quit R.

> library(testthat)
> library(cydar)
Loading required package: SingleCellExperiment
Loading required package: SummarizedExperiment
Loading required package: MatrixGenerics
Loading required package: matrixStats

Attaching package: 'MatrixGenerics'

The following objects are masked from 'package:matrixStats':

    colAlls, colAnyNAs, colAnys, colAvgsPerRowSet, colCollapse,
    colCounts, colCummaxs, colCummins, colCumprods, colCumsums,
    colDiffs, colIQRDiffs, colIQRs, colLogSumExps, colMadDiffs,
    colMads, colMaxs, colMeans2, colMedians, colMins, colOrderStats,
    colProds, colQuantiles, colRanges, colRanks, colSdDiffs, colSds,
    colSums2, colTabulates, colVarDiffs, colVars, colWeightedMads,
    colWeightedMeans, colWeightedMedians, colWeightedSds,
    colWeightedVars, rowAlls, rowAnyNAs, rowAnys, rowAvgsPerColSet,
    rowCollapse, rowCounts, rowCummaxs, rowCummins, rowCumprods,
    rowCumsums, rowDiffs, rowIQRDiffs, rowIQRs, rowLogSumExps,
    rowMadDiffs, rowMads, rowMaxs, rowMeans2, rowMedians, rowMins,
    rowOrderStats, rowProds, rowQuantiles, rowRanges, rowRanks,
    rowSdDiffs, rowSds, rowSums2, rowTabulates, rowVarDiffs, rowVars,
    rowWeightedMads, rowWeightedMeans, rowWeightedMedians,
    rowWeightedSds, rowWeightedVars

Loading required package: GenomicRanges
Loading required package: stats4
Loading required package: BiocGenerics

Attaching package: 'BiocGenerics'

The following objects are masked from 'package:stats':

    IQR, mad, sd, var, xtabs

The following objects are masked from 'package:base':

    Filter, Find, Map, Position, Reduce, anyDuplicated, append,
    as.data.frame, basename, cbind, colnames, dirname, do.call,
    duplicated, eval, evalq, get, grep, grepl, intersect, is.unsorted,
    lapply, mapply, match, mget, order, paste, pmax, pmax.int, pmin,
    pmin.int, rank, rbind, rownames, sapply, setdiff, sort, table,
    tapply, union, unique, unsplit, which.max, which.min

Loading required package: S4Vectors

Attaching package: 'S4Vectors'

The following objects are masked from 'package:base':

    I, expand.grid, unname

Loading required package: IRanges
Loading required package: GenomeInfoDb
Loading required package: Biobase
Welcome to Bioconductor

    Vignettes contain introductory material; view with
    'browseVignettes()'. To cite Bioconductor, see
    'citation("Biobase")', and for packages 'citation("pkgname")'.


Attaching package: 'Biobase'

The following object is masked from 'package:MatrixGenerics':

    rowMedians

The following objects are masked from 'package:matrixStats':

    anyMissing, rowMedians

> test_check("cydar")

Estimating landmarks for channel X1 ...
Registering curves for parameter X1 ...

Estimating landmarks for channel X2 ...
Registering curves for parameter X2 ...

Estimating landmarks for channel X3 ...
Registering curves for parameter X3 ...

Estimating landmarks for channel X4 ...
Registering curves for parameter X4 ...

Estimating landmarks for channel X5 ...
Registering curves for parameter X5 ...

Estimating landmarks for channel X6 ...
Registering curves for parameter X6 ...

Estimating landmarks for channel X7 ...
Registering curves for parameter X7 ...

Estimating landmarks for channel X8 ...
Registering curves for parameter X8 ...

Estimating landmarks for channel X9 ...
Registering curves for parameter X9 ...

Estimating landmarks for channel X10 ...
Registering curves for parameter X10 ...

Estimating landmarks for channel X1 ...
Registering curves for parameter X1 ...

Estimating landmarks for channel X2 ...
Registering curves for parameter X2 ...

Estimating landmarks for channel X3 ...
Registering curves for parameter X3 ...

Estimating landmarks for channel X4 ...
Registering curves for parameter X4 ...

Estimating landmarks for channel X5 ...
Registering curves for parameter X5 ...

Estimating landmarks for channel X6 ...
Registering curves for parameter X6 ...

Estimating landmarks for channel X7 ...
Registering curves for parameter X7 ...

Estimating landmarks for channel X8 ...
Registering curves for parameter X8 ...

Estimating landmarks for channel X9 ...
Registering curves for parameter X9 ...

Estimating landmarks for channel X10 ...
Registering curves for parameter X10 ...
[ FAIL 0 | WARN 39 | SKIP 0 | PASS 271 ]

[ FAIL 0 | WARN 39 | SKIP 0 | PASS 271 ]
> 
> proc.time()
   user  system elapsed 
 40.257   2.424  52.286 

Example timings

cydar.Rcheck/cydar-Ex.timings

nameusersystemelapsed
CyData0.9140.0190.935
countCells0.8510.0350.888
createColorBar0.0050.0000.005
dnaGate0.3380.0190.357
expandRadius0.3620.0080.369
findFirstSphere0.0920.0120.104
intensityRanges0.7210.0120.733
interpretSpheres1.4260.0951.522
labelSpheres0.0100.0040.014
medIntensities0.6100.0160.627
multiIntHist0.0230.0000.023
neighborDistances0.4800.0010.480
normalizeBatch0.1530.0000.153
outlierGate0.4110.0270.439
pickBestMarkers0.3790.0160.394
plotSphereIntensity0.0180.0000.018
plotSphereLogFC0.0100.0010.009
poolCells1.0510.0711.123
prepareCellData0.3760.0000.377
spatialFDR0.0880.0010.087