Back to Multiple platform build/check report for BioC 3.15
ABCDEF[G]HIJKLMNOPQRSTUVWXYZ

This page was generated on 2022-05-16 11:04:11 -0400 (Mon, 16 May 2022).

HostnameOSArch (*)R versionInstalled pkgs
nebbiolo1Linux (Ubuntu 20.04.4 LTS)x86_644.2.0 (2022-04-22) -- "Vigorous Calisthenics" 4379
palomino3Windows Server 2022 Datacenterx644.2.0 (2022-04-22 ucrt) -- "Vigorous Calisthenics" 4153
merida1macOS 10.14.6 Mojavex86_644.2.0 (2022-04-22) -- "Vigorous Calisthenics" 4220
Click on any hostname to see more info about the system (e.g. compilers)      (*) as reported by 'uname -p', except on Windows and Mac OS X

All results for package GSEABase


To the developers/maintainers of the GSEABase package:
- Please allow up to 24 hours (and sometimes 48 hours) for your latest push to git@git.bioconductor.org:packages/GSEABase.git to
reflect on this report. See How and When does the builder pull? When will my changes propagate? for more information.
- Make sure to use the following settings in order to reproduce any error or warning you see on this page.

raw results

Package 856/2140HostnameOS / ArchINSTALLBUILDCHECKBUILD BIN
GSEABase 1.58.0  (landing page)
Bioconductor Package Maintainer
Snapshot Date: 2022-05-15 13:55:12 -0400 (Sun, 15 May 2022)
git_url: https://git.bioconductor.org/packages/GSEABase
git_branch: RELEASE_3_15
git_last_commit: 7de0444
git_last_commit_date: 2022-04-26 10:59:57 -0400 (Tue, 26 Apr 2022)
nebbiolo1Linux (Ubuntu 20.04.4 LTS) / x86_64  OK    OK    OK  UNNEEDED, same version is already published
palomino3Windows Server 2022 Datacenter / x64  OK    OK    OK    OK  UNNEEDED, same version is already published
merida1macOS 10.14.6 Mojave / x86_64  OK    OK    OK    OK  UNNEEDED, same version is already published

Results for Bioconductor software packages that depend directly on package GSEABase

QUICK STATSOS / ArchINSTALLBUILDCHECKBUILD BIN
nebbiolo1Linux (Ubuntu 20.04.4 LTS) / x86_64
0040
0040
00535
palomino3Windows Server 2022 Datacenter / x64
0040
0040
00535
0040
merida1macOS 10.14.6 Mojave / x86_64
0040
0040
00634
0030
Package 1/40HostnameOS / ArchINSTALLBUILDCHECKBUILD BIN
AGDEX 1.44.0  (landing page)
Cuilan lani Gao
git_last_commit: 9d3eb90
git_last_commit_date: 2022-04-26 11:09:03 -0400
nebbiolo1Linux (Ubuntu 20.04.4 LTS) / x86_64  OK    OK    OK  UNNEEDED, same version is already published
palomino3Windows Server 2022 Datacenter / x64  OK    OK    OK    OK  UNNEEDED, same version is already published
merida1macOS 10.14.6 Mojave / x86_64  OK    OK    OK    OK  UNNEEDED, same version is already published
Package 2/40HostnameOS / ArchINSTALLBUILDCHECKBUILD BIN
AUCell 1.18.0  (landing page)
Sara Aibar
git_last_commit: 06d62e9
git_last_commit_date: 2022-04-26 11:43:21 -0400
nebbiolo1Linux (Ubuntu 20.04.4 LTS) / x86_64  OK    OK    OK  UNNEEDED, same version is already published
palomino3Windows Server 2022 Datacenter / x64  OK    OK    OK    OK  UNNEEDED, same version is already published
merida1macOS 10.14.6 Mojave / x86_64  OK    OK    OK    OK  UNNEEDED, same version is already published
Package 3/40HostnameOS / ArchINSTALLBUILDCHECKBUILD BIN
BicARE 1.54.0  (landing page)
Pierre Gestraud
git_last_commit: 47ce7e3
git_last_commit_date: 2022-04-26 11:02:14 -0400
nebbiolo1Linux (Ubuntu 20.04.4 LTS) / x86_64  OK    OK    OK  UNNEEDED, same version is already published
palomino3Windows Server 2022 Datacenter / x64  OK    OK    OK    OK  UNNEEDED, same version is already published
merida1macOS 10.14.6 Mojave / x86_64  OK    OK    OK    OK  UNNEEDED, same version is already published
Package 4/40HostnameOS / ArchINSTALLBUILDCHECKBUILD BIN
BioCor 1.20.0  (landing page)
LluĂ­s Revilla Sancho
git_last_commit: a77530b
git_last_commit_date: 2022-04-26 11:39:39 -0400
nebbiolo1Linux (Ubuntu 20.04.4 LTS) / x86_64  OK    OK    OK  UNNEEDED, same version is already published
palomino3Windows Server 2022 Datacenter / x64  OK    OK    OK    OK  UNNEEDED, same version is already published
merida1macOS 10.14.6 Mojave / x86_64  OK    OK    OK    OK  UNNEEDED, same version is already published
Package 5/40HostnameOS / ArchINSTALLBUILDCHECKBUILD BIN
canceR 1.30.01  (landing page)
Karim Mezhoud
git_last_commit: 68d3ad1
git_last_commit_date: 2022-04-27 03:31:16 -0400
nebbiolo1Linux (Ubuntu 20.04.4 LTS) / x86_64  OK    OK    OK  UNNEEDED, same version is already published
palomino3Windows Server 2022 Datacenter / x64  OK    OK    OK    OK  UNNEEDED, same version is already published
merida1macOS 10.14.6 Mojave / x86_64  OK    OK    OK    OK  UNNEEDED, same version is already published
Package 6/40HostnameOS / ArchINSTALLBUILDCHECKBUILD BIN
Category 2.62.0  (landing page)
Bioconductor Package Maintainer
git_last_commit: 0fe801c
git_last_commit_date: 2022-04-26 10:57:10 -0400
nebbiolo1Linux (Ubuntu 20.04.4 LTS) / x86_64  OK    OK    OK  UNNEEDED, same version is already published
palomino3Windows Server 2022 Datacenter / x64  OK    OK    OK    OK  UNNEEDED, same version is already published
merida1macOS 10.14.6 Mojave / x86_64  OK    OK    OK    OK  UNNEEDED, same version is already published
Package 7/40HostnameOS / ArchINSTALLBUILDCHECKBUILD BIN
categoryCompare 1.40.0  (landing page)
Robert M. Flight
git_last_commit: b657a93
git_last_commit_date: 2022-04-26 11:10:58 -0400
nebbiolo1Linux (Ubuntu 20.04.4 LTS) / x86_64  OK    OK    OK  UNNEEDED, same version is already published
palomino3Windows Server 2022 Datacenter / x64  OK    OK    OK    OK  UNNEEDED, same version is already published
merida1macOS 10.14.6 Mojave / x86_64  OK    OK    OK    OK  UNNEEDED, same version is already published
Package 8/40HostnameOS / ArchINSTALLBUILDCHECKBUILD BIN
CCPROMISE 1.22.0  (landing page)
Xueyuan Cao
git_last_commit: 9358ff9
git_last_commit_date: 2022-04-26 11:37:23 -0400
nebbiolo1Linux (Ubuntu 20.04.4 LTS) / x86_64  OK    OK    WARNINGS  UNNEEDED, same version is already published
palomino3Windows Server 2022 Datacenter / x64  OK    OK    WARNINGS    OK  UNNEEDED, same version is already published
merida1macOS 10.14.6 Mojave / x86_64  OK    OK    WARNINGS    OK  UNNEEDED, same version is already published
Package 9/40HostnameOS / ArchINSTALLBUILDCHECKBUILD BIN
cellHTS2 2.60.0  (landing page)
Joseph Barry
git_last_commit: 32edd2a
git_last_commit_date: 2022-04-26 10:59:59 -0400
nebbiolo1Linux (Ubuntu 20.04.4 LTS) / x86_64  OK    OK    OK  UNNEEDED, same version is already published
palomino3Windows Server 2022 Datacenter / x64  OK    OK    OK    OK  UNNEEDED, same version is already published
merida1macOS 10.14.6 Mojave / x86_64  OK    OK    OK    OK  UNNEEDED, same version is already published
Package 10/40HostnameOS / ArchINSTALLBUILDCHECKBUILD BIN
Cepo 1.2.0  (landing page)
Hani Jieun Kim
git_last_commit: 5c76000
git_last_commit_date: 2022-04-26 12:19:31 -0400
nebbiolo1Linux (Ubuntu 20.04.4 LTS) / x86_64  OK    OK    WARNINGS  UNNEEDED, same version is already published
palomino3Windows Server 2022 Datacenter / x64  OK    OK    WARNINGS    OK  UNNEEDED, same version is already published
merida1macOS 10.14.6 Mojave / x86_64  OK    OK    WARNINGS    OK  UNNEEDED, same version is already published
Package 11/40HostnameOS / ArchINSTALLBUILDCHECKBUILD BIN
cosmosR 1.4.0  (landing page)
Attila Gabor
git_last_commit: c86024e
git_last_commit_date: 2022-04-26 12:15:50 -0400
nebbiolo1Linux (Ubuntu 20.04.4 LTS) / x86_64  OK    OK    OK  UNNEEDED, same version is already published
palomino3Windows Server 2022 Datacenter / x64  OK    OK    OK    OK  UNNEEDED, same version is already published
merida1macOS 10.14.6 Mojave / x86_64  OK    OK    OK    OK  UNNEEDED, same version is already published
Package 12/40HostnameOS / ArchINSTALLBUILDCHECKBUILD BIN
cpvSNP 1.28.0  (landing page)
Caitlin McHugh
git_last_commit: df0d6a8
git_last_commit_date: 2022-04-26 11:23:05 -0400
nebbiolo1Linux (Ubuntu 20.04.4 LTS) / x86_64  OK    OK    OK  UNNEEDED, same version is already published
palomino3Windows Server 2022 Datacenter / x64  OK    OK    OK    OK  UNNEEDED, same version is already published
merida1macOS 10.14.6 Mojave / x86_64  OK    OK    OK    OK  UNNEEDED, same version is already published
Package 13/40HostnameOS / ArchINSTALLBUILDCHECKBUILD BIN
EnrichmentBrowser 2.26.0  (landing page)
Ludwig Geistlinger
git_last_commit: d0f440d
git_last_commit_date: 2022-04-26 11:21:31 -0400
nebbiolo1Linux (Ubuntu 20.04.4 LTS) / x86_64  OK    OK    OK  UNNEEDED, same version is already published
palomino3Windows Server 2022 Datacenter / x64  OK    OK    OK    OK  UNNEEDED, same version is already published
merida1macOS 10.14.6 Mojave / x86_64  OK    OK    OK    OK  UNNEEDED, same version is already published
Package 14/40HostnameOS / ArchINSTALLBUILDCHECKBUILD BIN
escape 1.6.0  (landing page)
Nick Borcherding
git_last_commit: 98c38e0
git_last_commit_date: 2022-04-26 12:06:49 -0400
nebbiolo1Linux (Ubuntu 20.04.4 LTS) / x86_64  OK    OK    OK  UNNEEDED, same version is already published
palomino3Windows Server 2022 Datacenter / x64  OK    OK    OK    OK  UNNEEDED, same version is already published
merida1macOS 10.14.6 Mojave / x86_64  OK    OK    OK    OK  UNNEEDED, same version is already published
Package 15/40HostnameOS / ArchINSTALLBUILDCHECKBUILD BIN
gep2pep 1.16.0  (landing page)
Francesco Napolitano
git_last_commit: 9661693
git_last_commit_date: 2022-04-26 11:45:30 -0400
nebbiolo1Linux (Ubuntu 20.04.4 LTS) / x86_64  OK    OK    OK  UNNEEDED, same version is already published
palomino3Windows Server 2022 Datacenter / x64  OK    OK    OK    OK  UNNEEDED, same version is already published
merida1macOS 10.14.6 Mojave / x86_64  OK    OK    OK    OK  UNNEEDED, same version is already published
Package 16/40HostnameOS / ArchINSTALLBUILDCHECKBUILD BIN
GISPA 1.20.0  (landing page)
Bhakti Dwivedi
git_last_commit: 6f47f82
git_last_commit_date: 2022-04-26 11:39:23 -0400
nebbiolo1Linux (Ubuntu 20.04.4 LTS) / x86_64  OK    OK    OK  UNNEEDED, same version is already published
palomino3Windows Server 2022 Datacenter / x64  OK    OK    OK    OK  UNNEEDED, same version is already published
merida1macOS 10.14.6 Mojave / x86_64  OK    OK    OK    OK  UNNEEDED, same version is already published
Package 17/40HostnameOS / ArchINSTALLBUILDCHECKBUILD BIN
GlobalAncova 4.14.0  (landing page)
Manuela Hummel
git_last_commit: 6f60d8c
git_last_commit_date: 2022-04-26 10:57:33 -0400
nebbiolo1Linux (Ubuntu 20.04.4 LTS) / x86_64  OK    OK    OK  UNNEEDED, same version is already published
palomino3Windows Server 2022 Datacenter / x64  OK    OK    OK    OK  UNNEEDED, same version is already published
merida1macOS 10.14.6 Mojave / x86_64  OK    OK    OK    OK  UNNEEDED, same version is already published
Package 18/40HostnameOS / ArchINSTALLBUILDCHECKBUILD BIN
GmicR 1.10.0  (landing page)
Richard Virgen-Slane
git_last_commit: e27e644
git_last_commit_date: 2022-04-26 11:59:44 -0400
nebbiolo1Linux (Ubuntu 20.04.4 LTS) / x86_64  OK    OK    WARNINGS  UNNEEDED, same version is already published
palomino3Windows Server 2022 Datacenter / x64  OK    OK    WARNINGS    OK  UNNEEDED, same version is already published
merida1macOS 10.14.6 Mojave / x86_64  OK    OK    WARNINGS    OK  UNNEEDED, same version is already published
Package 19/40HostnameOS / ArchINSTALLBUILDCHECKBUILD BIN
GSRI 2.44.0  (landing page)
Julian Gehring
git_last_commit: 9e0589f
git_last_commit_date: 2022-04-26 11:04:55 -0400
nebbiolo1Linux (Ubuntu 20.04.4 LTS) / x86_64  OK    OK    OK  UNNEEDED, same version is already published
palomino3Windows Server 2022 Datacenter / x64  OK    OK    OK    OK  UNNEEDED, same version is already published
merida1macOS 10.14.6 Mojave / x86_64  OK    OK    OK    OK  UNNEEDED, same version is already published
Package 20/40HostnameOS / ArchINSTALLBUILDCHECKBUILD BIN
GSVA 1.44.0  (landing page)
Justin Guinney
git_last_commit: 530f7c5
git_last_commit_date: 2022-04-26 11:07:47 -0400
nebbiolo1Linux (Ubuntu 20.04.4 LTS) / x86_64  OK    OK    OK  UNNEEDED, same version is already published
palomino3Windows Server 2022 Datacenter / x64  OK    OK    OK    OK  UNNEEDED, same version is already published
merida1macOS 10.14.6 Mojave / x86_64  OK    OK    OK    OK  UNNEEDED, same version is already published
Package 21/40HostnameOS / ArchINSTALLBUILDCHECKBUILD BIN
MIGSA 1.20.0  (landing page)
Juan C. Rodriguez
git_last_commit: e0e8af0
git_last_commit_date: 2022-04-26 11:39:18 -0400
nebbiolo1Linux (Ubuntu 20.04.4 LTS) / x86_64  OK    OK    OK  UNNEEDED, same version is already published
palomino3Windows Server 2022 Datacenter / x64  OK    OK    OK    OK  UNNEEDED, same version is already published
merida1macOS 10.14.6 Mojave / x86_64  OK    OK    OK    OK  UNNEEDED, same version is already published
Package 22/40HostnameOS / ArchINSTALLBUILDCHECKBUILD BIN
miRSM 1.14.0  (landing page)
Junpeng Zhang
git_last_commit: e5f5b4c
git_last_commit_date: 2022-04-26 11:50:42 -0400
nebbiolo1Linux (Ubuntu 20.04.4 LTS) / x86_64  OK    OK    OK  UNNEEDED, same version is already published
palomino3Windows Server 2022 Datacenter / x64  OK    OK    OK    OK  UNNEEDED, same version is already published
merida1macOS 10.14.6 Mojave / x86_64  OK    OK    OK    OK  UNNEEDED, same version is already published
Package 23/40HostnameOS / ArchINSTALLBUILDCHECKBUILD BIN
mogsa 1.30.0  (landing page)
Chen Meng
git_last_commit: 24bb80c
git_last_commit_date: 2022-04-26 11:24:48 -0400
nebbiolo1Linux (Ubuntu 20.04.4 LTS) / x86_64  OK    OK    OK  UNNEEDED, same version is already published
palomino3Windows Server 2022 Datacenter / x64  OK    OK    OK    OK  UNNEEDED, same version is already published
merida1macOS 10.14.6 Mojave / x86_64  OK    OK    OK    OK  UNNEEDED, same version is already published
Package 24/40HostnameOS / ArchINSTALLBUILDCHECKBUILD BIN
npGSEA 1.32.0  (landing page)
Jessica Larson
git_last_commit: f7376a9
git_last_commit_date: 2022-04-26 11:19:27 -0400
nebbiolo1Linux (Ubuntu 20.04.4 LTS) / x86_64  OK    OK    OK  UNNEEDED, same version is already published
palomino3Windows Server 2022 Datacenter / x64  OK    OK    OK    OK  UNNEEDED, same version is already published
merida1macOS 10.14.6 Mojave / x86_64  OK    OK    OK    OK  UNNEEDED, same version is already published
Package 25/40HostnameOS / ArchINSTALLBUILDCHECKBUILD BIN
oppar 1.24.0  (landing page)
Soroor Hediyeh zadeh
git_last_commit: db58829
git_last_commit_date: 2022-04-26 11:31:39 -0400
nebbiolo1Linux (Ubuntu 20.04.4 LTS) / x86_64  OK    OK    WARNINGS  UNNEEDED, same version is already published
palomino3Windows Server 2022 Datacenter / x64  OK    OK    WARNINGS    OK  UNNEEDED, same version is already published
merida1macOS 10.14.6 Mojave / x86_64  OK    OK    WARNINGS    OK  UNNEEDED, same version is already published
Package 26/40HostnameOS / ArchINSTALLBUILDCHECKBUILD BIN
PanomiR 1.0.1  (landing page)
Pourya Naderi
git_last_commit: fe5deed
git_last_commit_date: 2022-05-11 15:49:03 -0400
nebbiolo1Linux (Ubuntu 20.04.4 LTS) / x86_64  OK    OK    OK  YES
palomino3Windows Server 2022 Datacenter / x64  OK    OK    OK    OK  YES
merida1macOS 10.14.6 Mojave / x86_64  OK    OK    OK    OK  YES
Package 27/40HostnameOS / ArchINSTALLBUILDCHECKBUILD BIN
phenoTest 1.44.0  (landing page)
Evarist Planet
git_last_commit: dab00a3
git_last_commit_date: 2022-04-26 11:06:48 -0400
nebbiolo1Linux (Ubuntu 20.04.4 LTS) / x86_64  OK    OK    WARNINGS  UNNEEDED, same version is already published
palomino3Windows Server 2022 Datacenter / x64  OK    OK    WARNINGS    OK  UNNEEDED, same version is already published
merida1macOS 10.14.6 Mojave / x86_64  OK    OK    WARNINGS    OK  UNNEEDED, same version is already published
Package 28/40HostnameOS / ArchINSTALLBUILDCHECKBUILD BIN
PROMISE 1.48.0  (landing page)
Stan Pounds , Xueyuan Cao
git_last_commit: 6256d8c
git_last_commit_date: 2022-04-26 11:04:48 -0400
nebbiolo1Linux (Ubuntu 20.04.4 LTS) / x86_64  OK    OK    OK  UNNEEDED, same version is already published
palomino3Windows Server 2022 Datacenter / x64  OK    OK    OK    OK  UNNEEDED, same version is already published
merida1macOS 10.14.6 Mojave / x86_64  OK    OK    OK    OK  UNNEEDED, same version is already published
Package 29/40HostnameOS / ArchINSTALLBUILDCHECKBUILD BIN
RcisTarget 1.16.0  (landing page)
Sara Aibar
git_last_commit: d0bacf0
git_last_commit_date: 2022-04-26 11:46:37 -0400
nebbiolo1Linux (Ubuntu 20.04.4 LTS) / x86_64  OK    OK    OK  UNNEEDED, same version is already published
palomino3Windows Server 2022 Datacenter / x64  OK    OK    OK    OK  UNNEEDED, same version is already published
merida1macOS 10.14.6 Mojave / x86_64  OK    OK    OK    OK  UNNEEDED, same version is already published
Package 30/40HostnameOS / ArchINSTALLBUILDCHECKBUILD BIN
ReportingTools 2.36.0  (landing page)
Jason A. Hackney , Gabriel Becker
git_last_commit: 34122d4
git_last_commit_date: 2022-04-26 11:12:11 -0400
nebbiolo1Linux (Ubuntu 20.04.4 LTS) / x86_64  OK    OK    OK  UNNEEDED, same version is already published
palomino3Windows Server 2022 Datacenter / x64  OK    OK    OK    OK  UNNEEDED, same version is already published
merida1macOS 10.14.6 Mojave / x86_64  OK    OK    OK    OK  UNNEEDED, same version is already published
Package 31/40HostnameOS / ArchINSTALLBUILDCHECKBUILD BIN
scTGIF 1.10.0  (landing page)
Koki Tsuyuzaki
git_last_commit: 5c8883f
git_last_commit_date: 2022-04-26 12:01:00 -0400
nebbiolo1Linux (Ubuntu 20.04.4 LTS) / x86_64  OK    OK    OK  UNNEEDED, same version is already published
palomino3Windows Server 2022 Datacenter / x64  OK    OK    OK    OK  UNNEEDED, same version is already published
merida1macOS 10.14.6 Mojave / x86_64  OK    OK    OK    NA  
Package 32/40HostnameOS / ArchINSTALLBUILDCHECKBUILD BIN
signatureSearch 1.10.0  (landing page)
Brendan Gongol
git_last_commit: 4ec2b4d
git_last_commit_date: 2022-04-26 12:01:12 -0400
nebbiolo1Linux (Ubuntu 20.04.4 LTS) / x86_64  OK    OK    OK  UNNEEDED, same version is already published
palomino3Windows Server 2022 Datacenter / x64  OK    OK    OK    OK  UNNEEDED, same version is already published
merida1macOS 10.14.6 Mojave / x86_64  OK    OK    OK    NA  
Package 33/40HostnameOS / ArchINSTALLBUILDCHECKBUILD BIN
singleCellTK 2.6.0  (landing page)
Yichen Wang
git_last_commit: b6fc536
git_last_commit_date: 2022-04-26 11:48:48 -0400
nebbiolo1Linux (Ubuntu 20.04.4 LTS) / x86_64  OK    OK    OK  UNNEEDED, same version is already published
palomino3Windows Server 2022 Datacenter / x64  OK    OK    OK    OK  UNNEEDED, same version is already published
merida1macOS 10.14.6 Mojave / x86_64  OK    OK    OK    NA  
Package 34/40HostnameOS / ArchINSTALLBUILDCHECKBUILD BIN
singscore 1.16.0  (landing page)
Dharmesh D. Bhuva
git_last_commit: 8be0ad1
git_last_commit_date: 2022-04-26 11:49:06 -0400
nebbiolo1Linux (Ubuntu 20.04.4 LTS) / x86_64  OK    OK    OK  UNNEEDED, same version is already published
palomino3Windows Server 2022 Datacenter / x64  OK    OK    OK    OK  UNNEEDED, same version is already published
merida1macOS 10.14.6 Mojave / x86_64  OK    OK    OK    NA  
Package 35/40HostnameOS / ArchINSTALLBUILDCHECKBUILD BIN
slalom 1.18.0  (landing page)
Davis McCarthy
git_last_commit: c0e3048
git_last_commit_date: 2022-04-26 11:44:11 -0400
nebbiolo1Linux (Ubuntu 20.04.4 LTS) / x86_64  OK    OK    OK  UNNEEDED, same version is already published
palomino3Windows Server 2022 Datacenter / x64  OK    OK    OK    OK  UNNEEDED, same version is already published
merida1macOS 10.14.6 Mojave / x86_64  OK    OK    WARNINGS    NA  
Package 36/40HostnameOS / ArchINSTALLBUILDCHECKBUILD BIN
sparrow 1.2.0  (landing page)
Steve Lianoglou
git_last_commit: 51adea9
git_last_commit_date: 2022-04-26 12:18:46 -0400
nebbiolo1Linux (Ubuntu 20.04.4 LTS) / x86_64  OK    OK    OK  UNNEEDED, same version is already published
palomino3Windows Server 2022 Datacenter / x64  OK    OK    OK    OK  UNNEEDED, same version is already published
merida1macOS 10.14.6 Mojave / x86_64  OK    OK    OK    NA  
Package 37/40HostnameOS / ArchINSTALLBUILDCHECKBUILD BIN
splineTimeR 1.24.0  (landing page)
Herbert Braselmann , Martin Selmansberger
git_last_commit: 970d612
git_last_commit_date: 2022-04-26 11:28:42 -0400
nebbiolo1Linux (Ubuntu 20.04.4 LTS) / x86_64  OK    OK    OK  UNNEEDED, same version is already published
palomino3Windows Server 2022 Datacenter / x64  OK    OK    OK    OK  UNNEEDED, same version is already published
merida1macOS 10.14.6 Mojave / x86_64  OK    OK    OK    NA  
Package 38/40HostnameOS / ArchINSTALLBUILDCHECKBUILD BIN
TFutils 1.16.0  (landing page)
Vincent Carey
git_last_commit: 17bac72
git_last_commit_date: 2022-04-26 11:48:31 -0400
nebbiolo1Linux (Ubuntu 20.04.4 LTS) / x86_64  OK    OK    OK  UNNEEDED, same version is already published
palomino3Windows Server 2022 Datacenter / x64  OK    OK    OK    OK  UNNEEDED, same version is already published
merida1macOS 10.14.6 Mojave / x86_64  OK    OK    OK    NA  
Package 39/40HostnameOS / ArchINSTALLBUILDCHECKBUILD BIN
TissueEnrich 1.16.0  (landing page)
Ashish Jain
git_last_commit: 0f6e2ea
git_last_commit_date: 2022-04-26 11:48:13 -0400
nebbiolo1Linux (Ubuntu 20.04.4 LTS) / x86_64  OK    OK    OK  UNNEEDED, same version is already published
palomino3Windows Server 2022 Datacenter / x64  OK    OK    OK    OK  UNNEEDED, same version is already published
merida1macOS 10.14.6 Mojave / x86_64  OK    OK    OK    NA  
Package 40/40HostnameOS / ArchINSTALLBUILDCHECKBUILD BIN
vissE 1.4.0  (landing page)
Dharmesh D. Bhuva
git_last_commit: f897fcb
git_last_commit_date: 2022-04-26 12:16:02 -0400
nebbiolo1Linux (Ubuntu 20.04.4 LTS) / x86_64  OK    OK    OK  UNNEEDED, same version is already published
palomino3Windows Server 2022 Datacenter / x64  OK    OK    OK    OK  UNNEEDED, same version is already published
merida1macOS 10.14.6 Mojave / x86_64  OK    OK    OK    NA