Back to Multiple platform build/check report for BioC 3.15
AB[C]DEFGHIJKLMNOPQRSTUVWXYZ

This page was generated on 2022-06-24 12:07:13 -0400 (Fri, 24 Jun 2022).

HostnameOSArch (*)R versionInstalled pkgs
nebbiolo1Linux (Ubuntu 20.04.4 LTS)x86_644.2.0 (2022-04-22) -- "Vigorous Calisthenics" 4380
palomino3Windows Server 2022 Datacenterx644.2.0 (2022-04-22 ucrt) -- "Vigorous Calisthenics" 4156
merida1macOS 10.14.6 Mojavex86_644.2.0 (2022-04-22) -- "Vigorous Calisthenics" 4221
Click on any hostname to see more info about the system (e.g. compilers)      (*) as reported by 'uname -p', except on Windows and Mac OS X

CHECK results for clipper on merida1


To the developers/maintainers of the clipper package:
- Please allow up to 24 hours (and sometimes 48 hours) for your latest push to git@git.bioconductor.org:packages/clipper.git to
reflect on this report. See How and When does the builder pull? When will my changes propagate? for more information.
- Make sure to use the following settings in order to reproduce any error or warning you see on this page.

raw results

Package 336/2140HostnameOS / ArchINSTALLBUILDCHECKBUILD BIN
clipper 1.36.0  (landing page)
Paolo Martini
Snapshot Date: 2022-06-23 13:55:15 -0400 (Thu, 23 Jun 2022)
git_url: https://git.bioconductor.org/packages/clipper
git_branch: RELEASE_3_15
git_last_commit: c739cc1
git_last_commit_date: 2022-04-26 11:13:22 -0400 (Tue, 26 Apr 2022)
nebbiolo1Linux (Ubuntu 20.04.4 LTS) / x86_64  OK    OK    OK  UNNEEDED, same version is already published
palomino3Windows Server 2022 Datacenter / x64  OK    OK    OK    OK  UNNEEDED, same version is already published
merida1macOS 10.14.6 Mojave / x86_64  OK    OK    OK    OK  UNNEEDED, same version is already published

Summary

Package: clipper
Version: 1.36.0
Command: /Library/Frameworks/R.framework/Resources/bin/R CMD check --install=check:clipper.install-out.txt --library=/Library/Frameworks/R.framework/Resources/library --no-vignettes --timings clipper_1.36.0.tar.gz
StartedAt: 2022-06-24 00:50:49 -0400 (Fri, 24 Jun 2022)
EndedAt: 2022-06-24 01:00:15 -0400 (Fri, 24 Jun 2022)
EllapsedTime: 566.1 seconds
RetCode: 0
Status:   OK  
CheckDir: clipper.Rcheck
Warnings: 0

Command output

##############################################################################
##############################################################################
###
### Running command:
###
###   /Library/Frameworks/R.framework/Resources/bin/R CMD check --install=check:clipper.install-out.txt --library=/Library/Frameworks/R.framework/Resources/library --no-vignettes --timings clipper_1.36.0.tar.gz
###
##############################################################################
##############################################################################


* using log directory ‘/Users/biocbuild/bbs-3.15-bioc/meat/clipper.Rcheck’
* using R version 4.2.0 (2022-04-22)
* using platform: x86_64-apple-darwin17.0 (64-bit)
* using session charset: UTF-8
* using option ‘--no-vignettes’
* checking for file ‘clipper/DESCRIPTION’ ... OK
* this is package ‘clipper’ version ‘1.36.0’
* checking package namespace information ... OK
* checking package dependencies ... OK
* checking if this is a source package ... OK
* checking if there is a namespace ... OK
* checking for hidden files and directories ... OK
* checking for portable file names ... OK
* checking for sufficient/correct file permissions ... OK
* checking whether package ‘clipper’ can be installed ... OK
* checking installed package size ... OK
* checking package directory ... OK
* checking ‘build’ directory ... OK
* checking DESCRIPTION meta-information ... OK
* checking top-level files ... OK
* checking for left-over files ... OK
* checking index information ... OK
* checking package subdirectories ... OK
* checking R files for non-ASCII characters ... OK
* checking R files for syntax errors ... OK
* checking whether the package can be loaded ... OK
* checking whether the package can be loaded with stated dependencies ... OK
* checking whether the package can be unloaded cleanly ... OK
* checking whether the namespace can be loaded with stated dependencies ... OK
* checking whether the namespace can be unloaded cleanly ... OK
* checking dependencies in R code ... OK
* checking S3 generic/method consistency ... OK
* checking replacement functions ... OK
* checking foreign function calls ... OK
* checking R code for possible problems ... OK
* checking Rd files ... OK
* checking Rd metadata ... OK
* checking Rd cross-references ... OK
* checking for missing documentation entries ... OK
* checking for code/documentation mismatches ... OK
* checking Rd \usage sections ... OK
* checking Rd contents ... OK
* checking for unstated dependencies in examples ... OK
* checking sizes of PDF files under ‘inst/doc’ ... OK
* checking files in ‘vignettes’ ... OK
* checking examples ... OK
Examples with CPU (user + system) or elapsed time > 5s
                     user system elapsed
clipperAllRoots    20.001  0.423  20.661
pathwayTest         9.741  0.080  11.396
clipper             9.315  0.228   9.602
cliquePairedTest    6.516  0.057   6.636
cliqueMixedTest     6.433  0.103   6.646
cliqueMeanTest      5.311  0.066   5.415
cliqueVarianceTest  5.226  0.080   5.371
easyClip            5.116  0.060   5.776
* checking for unstated dependencies in ‘tests’ ... OK
* checking tests ...
  Running ‘runTests.R’
 OK
* checking for unstated dependencies in vignettes ... OK
* checking package vignettes in ‘inst/doc’ ... OK
* checking running R code from vignettes ... SKIPPED
* checking re-building of vignette outputs ... SKIPPED
* checking PDF version of manual ... OK
* DONE

Status: OK


Installation output

clipper.Rcheck/00install.out

##############################################################################
##############################################################################
###
### Running command:
###
###   /Library/Frameworks/R.framework/Resources/bin/R CMD INSTALL clipper
###
##############################################################################
##############################################################################


* installing to library ‘/Library/Frameworks/R.framework/Versions/4.2/Resources/library’
* installing *source* package ‘clipper’ ...
** using staged installation
** R
** inst
** byte-compile and prepare package for lazy loading
** help
*** installing help indices
** building package indices
** installing vignettes
** testing if installed package can be loaded from temporary location
** testing if installed package can be loaded from final location
** testing if installed package keeps a record of temporary installation path
* DONE (clipper)

Tests output

clipper.Rcheck/tests/runTests.Rout


R version 4.2.0 (2022-04-22) -- "Vigorous Calisthenics"
Copyright (C) 2022 The R Foundation for Statistical Computing
Platform: x86_64-apple-darwin17.0 (64-bit)

R is free software and comes with ABSOLUTELY NO WARRANTY.
You are welcome to redistribute it under certain conditions.
Type 'license()' or 'licence()' for distribution details.

R is a collaborative project with many contributors.
Type 'contributors()' for more information and
'citation()' on how to cite R or R packages in publications.

Type 'demo()' for some demos, 'help()' for on-line help, or
'help.start()' for an HTML browser interface to help.
Type 'q()' to quit R.

> BiocGenerics:::testPackage("clipper")

Attaching package: 'BiocGenerics'

The following objects are masked from 'package:stats':

    IQR, mad, sd, var, xtabs

The following objects are masked from 'package:base':

    Filter, Find, Map, Position, Reduce, anyDuplicated, append,
    as.data.frame, basename, cbind, colnames, dirname, do.call,
    duplicated, eval, evalq, get, grep, grepl, intersect, is.unsorted,
    lapply, mapply, match, mget, order, paste, pmax, pmax.int, pmin,
    pmin.int, rank, rbind, rownames, sapply, setdiff, sort, table,
    tapply, union, unique, unsplit, which.max, which.min



RUNIT TEST PROTOCOL -- Fri Jun 24 01:00:04 2022 
*********************************************** 
Number of test functions: 10 
Number of errors: 0 
Number of failures: 0 

 
1 Test Suite : 
clipper RUnit Tests - 10 test functions, 0 errors, 0 failures
Number of test functions: 10 
Number of errors: 0 
Number of failures: 0 
> 
> pattern="^test_.*\\.R$"
> 
> proc.time()
   user  system elapsed 
 26.680   1.003  31.372 

Example timings

clipper.Rcheck/clipper-Ex.timings

nameusersystemelapsed
clipper9.3150.2289.602
clipperAllRoots20.001 0.42320.661
cliqueMeanTest5.3110.0665.415
cliqueMixedTest6.4330.1036.646
cliquePairedTest6.5160.0576.636
cliqueVarianceTest5.2260.0805.371
deleteEdge1.8440.0172.084
easyClip5.1160.0605.776
getGraphEntryGenes2.0070.0212.292
getJunctionTreePaths2.0580.0252.403
nameCliques0.0000.0000.001
pathwayTest 9.741 0.08011.396
plotInCytoscape000
prunePaths0.0060.0010.006