Back to Multiple platform build/check report for BioC 3.15
[A]BCDEFGHIJKLMNOPQRSTUVWXYZ

This page was generated on 2022-05-16 11:07:14 -0400 (Mon, 16 May 2022).

HostnameOSArch (*)R versionInstalled pkgs
nebbiolo1Linux (Ubuntu 20.04.4 LTS)x86_644.2.0 (2022-04-22) -- "Vigorous Calisthenics" 4379
palomino3Windows Server 2022 Datacenterx644.2.0 (2022-04-22 ucrt) -- "Vigorous Calisthenics" 4153
merida1macOS 10.14.6 Mojavex86_644.2.0 (2022-04-22) -- "Vigorous Calisthenics" 4220
Click on any hostname to see more info about the system (e.g. compilers)      (*) as reported by 'uname -p', except on Windows and Mac OS X

BUILD results for altcdfenvs on merida1


To the developers/maintainers of the altcdfenvs package:
- Please allow up to 24 hours (and sometimes 48 hours) for your latest push to git@git.bioconductor.org:packages/altcdfenvs.git to
reflect on this report. See How and When does the builder pull? When will my changes propagate? for more information.
- Make sure to use the following settings in order to reproduce any error or warning you see on this page.

raw results

Package 45/2140HostnameOS / ArchINSTALLBUILDCHECKBUILD BIN
altcdfenvs 2.58.0  (landing page)
Laurent Gautier
Snapshot Date: 2022-05-15 13:55:12 -0400 (Sun, 15 May 2022)
git_url: https://git.bioconductor.org/packages/altcdfenvs
git_branch: RELEASE_3_15
git_last_commit: 08255a7
git_last_commit_date: 2022-04-26 10:55:43 -0400 (Tue, 26 Apr 2022)
nebbiolo1Linux (Ubuntu 20.04.4 LTS) / x86_64  OK    OK    OK  UNNEEDED, same version is already published
palomino3Windows Server 2022 Datacenter / x64  OK    OK    OK    OK  UNNEEDED, same version is already published
merida1macOS 10.14.6 Mojave / x86_64  OK    OK    OK    OK  UNNEEDED, same version is already published

Summary

Package: altcdfenvs
Version: 2.58.0
Command: /Library/Frameworks/R.framework/Resources/bin/R CMD build --keep-empty-dirs --no-resave-data altcdfenvs
StartedAt: 2022-05-15 16:43:18 -0400 (Sun, 15 May 2022)
EndedAt: 2022-05-15 16:44:40 -0400 (Sun, 15 May 2022)
EllapsedTime: 81.2 seconds
RetCode: 0
Status:   OK  
PackageFile: altcdfenvs_2.58.0.tar.gz
PackageFileSize: 647.9 KiB

Command output

##############################################################################
##############################################################################
###
### Running command:
###
###   /Library/Frameworks/R.framework/Resources/bin/R CMD build --keep-empty-dirs --no-resave-data altcdfenvs
###
##############################################################################
##############################################################################


* checking for file ‘altcdfenvs/DESCRIPTION’ ... OK
* preparing ‘altcdfenvs’:
* checking DESCRIPTION meta-information ... OK
* installing the package to build vignettes
* creating vignettes ... OK
* checking for LF line-endings in source and make files and shell scripts
* checking for empty or unneeded directories
* looking to see if a ‘data/datalist’ file should be added
* building ‘altcdfenvs_2.58.0.tar.gz’