Back to Build/check report for BioC 3.15
ABCDEFGHIJKLMN[O]PQRSTUVWXYZ

This page was generated on 2022-06-27 11:09:43 -0400 (Mon, 27 Jun 2022).

HostnameOSArch (*)R versionInstalled pkgs
nebbiolo1Linux (Ubuntu 20.04.4 LTS)x86_644.2.0 (2022-04-22) -- "Vigorous Calisthenics" 4380
Click on any hostname to see more info about the system (e.g. compilers)      (*) as reported by 'uname -p', except on Windows and Mac OS X

All results for package oligo


To the developers/maintainers of the oligo package:
- Please allow up to 24 hours (and sometimes 48 hours) for your latest push to git@git.bioconductor.org:packages/oligo.git to
reflect on this report. See How and When does the builder pull? When will my changes propagate? for more information.
- Make sure to use the following settings in order to reproduce any error or warning you see on this page.

raw results

Package 1352/2140HostnameOS / ArchINSTALLBUILDCHECKBUILD BIN
oligo 1.60.0  (landing page)
Benilton Carvalho
Snapshot Date: 2022-06-26 13:55:11 -0400 (Sun, 26 Jun 2022)
git_url: https://git.bioconductor.org/packages/oligo
git_branch: RELEASE_3_15
git_last_commit: d667332
git_last_commit_date: 2022-04-26 10:57:15 -0400 (Tue, 26 Apr 2022)
nebbiolo1Linux (Ubuntu 20.04.4 LTS) / x86_64  OK    OK    WARNINGS  UNNEEDED, same version is already published

Results for Bioconductor software packages that depend directly on package oligo

QUICK STATSOS / ArchINSTALLBUILDCHECKBUILD BIN
nebbiolo1Linux (Ubuntu 20.04.4 LTS) / x86_64
009
009
0009
Package 1/9HostnameOS / ArchINSTALLBUILDCHECKBUILD BIN
ArrayExpress 1.56.0  (landing page)
Suhaib Mohammed
git_last_commit: 56fb940
git_last_commit_date: 2022-04-26 11:01:58 -0400
nebbiolo1Linux (Ubuntu 20.04.4 LTS) / x86_64  OK    OK    OK  UNNEEDED, same version is already published
Package 2/9HostnameOS / ArchINSTALLBUILDCHECKBUILD BIN
cn.farms 1.44.0  (landing page)
Andreas Mitterecker
git_last_commit: b002089
git_last_commit_date: 2022-04-26 11:07:19 -0400
nebbiolo1Linux (Ubuntu 20.04.4 LTS) / x86_64  OK    OK    OK  UNNEEDED, same version is already published
Package 3/9HostnameOS / ArchINSTALLBUILDCHECKBUILD BIN
crossmeta 1.22.1  (landing page)
Alex Pickering
git_last_commit: fb95000
git_last_commit_date: 2022-05-24 16:16:30 -0400
nebbiolo1Linux (Ubuntu 20.04.4 LTS) / x86_64  OK    OK    OK  UNNEEDED, same version is already published
Package 4/9HostnameOS / ArchINSTALLBUILDCHECKBUILD BIN
frma 1.48.0  (landing page)
Matthew N. McCall
git_last_commit: 3c39bcf
git_last_commit_date: 2022-04-26 11:04:03 -0400
nebbiolo1Linux (Ubuntu 20.04.4 LTS) / x86_64  OK    OK    OK  UNNEEDED, same version is already published
Package 5/9HostnameOS / ArchINSTALLBUILDCHECKBUILD BIN
ITALICS 2.56.0  (landing page)
Guillem Rigaill
git_last_commit: 78bd4ea
git_last_commit_date: 2022-04-26 11:01:37 -0400
nebbiolo1Linux (Ubuntu 20.04.4 LTS) / x86_64  OK    OK    OK  UNNEEDED, same version is already published
Package 6/9HostnameOS / ArchINSTALLBUILDCHECKBUILD BIN
mimager 1.20.0  (landing page)
Aaron Wolen
git_last_commit: 07504d7
git_last_commit_date: 2022-04-26 11:38:27 -0400
nebbiolo1Linux (Ubuntu 20.04.4 LTS) / x86_64  OK    OK    OK  UNNEEDED, same version is already published
Package 7/9HostnameOS / ArchINSTALLBUILDCHECKBUILD BIN
pdInfoBuilder 1.60.0  (landing page)
Benilton Carvalho
git_last_commit: d8b7f18
git_last_commit_date: 2022-04-26 10:59:10 -0400
nebbiolo1Linux (Ubuntu 20.04.4 LTS) / x86_64  OK    OK    OK  UNNEEDED, same version is already published
Package 8/9HostnameOS / ArchINSTALLBUILDCHECKBUILD BIN
puma 3.38.0  (landing page)
Xuejun Liu
git_last_commit: 93bfd22
git_last_commit_date: 2022-04-26 10:59:55 -0400
nebbiolo1Linux (Ubuntu 20.04.4 LTS) / x86_64  OK    OK    OK  UNNEEDED, same version is already published
Package 9/9HostnameOS / ArchINSTALLBUILDCHECKBUILD BIN
SCAN.UPC 2.38.0  (landing page)
Stephen R. Piccolo
git_last_commit: 23f3e83
git_last_commit_date: 2022-04-26 11:12:13 -0400
nebbiolo1Linux (Ubuntu 20.04.4 LTS) / x86_64  OK    OK    OK  UNNEEDED, same version is already published