Back to Multiple platform build/check report for BioC 3.15
ABCDEFGHIJKLMNOPQR[S]TUVWXYZ

This page was generated on 2022-05-20 12:05:56 -0400 (Fri, 20 May 2022).

HostnameOSArch (*)R versionInstalled pkgs
nebbiolo1Linux (Ubuntu 20.04.4 LTS)x86_644.2.0 (2022-04-22) -- "Vigorous Calisthenics" 4380
palomino3Windows Server 2022 Datacenterx644.2.0 (2022-04-22 ucrt) -- "Vigorous Calisthenics" 4155
merida1macOS 10.14.6 Mojavex86_644.2.0 (2022-04-22) -- "Vigorous Calisthenics" 4221
Click on any hostname to see more info about the system (e.g. compilers)      (*) as reported by 'uname -p', except on Windows and Mac OS X

CHECK results for SimBindProfiles on nebbiolo1


To the developers/maintainers of the SimBindProfiles package:
- Please allow up to 24 hours (and sometimes 48 hours) for your latest push to git@git.bioconductor.org:packages/SimBindProfiles.git to
reflect on this report. See How and When does the builder pull? When will my changes propagate? for more information.
- Make sure to use the following settings in order to reproduce any error or warning you see on this page.

raw results

Package 1846/2140HostnameOS / ArchINSTALLBUILDCHECKBUILD BIN
SimBindProfiles 1.34.0  (landing page)
Bettina Fischer
Snapshot Date: 2022-05-19 13:55:15 -0400 (Thu, 19 May 2022)
git_url: https://git.bioconductor.org/packages/SimBindProfiles
git_branch: RELEASE_3_15
git_last_commit: 7334808
git_last_commit_date: 2022-04-26 11:16:26 -0400 (Tue, 26 Apr 2022)
nebbiolo1Linux (Ubuntu 20.04.4 LTS) / x86_64  OK    OK    OK  UNNEEDED, same version is already published
palomino3Windows Server 2022 Datacenter / x64  OK    OK    OK    OK  UNNEEDED, same version is already published
merida1macOS 10.14.6 Mojave / x86_64  OK    OK    OK    OK  UNNEEDED, same version is already published

Summary

Package: SimBindProfiles
Version: 1.34.0
Command: /home/biocbuild/bbs-3.15-bioc/R/bin/R CMD check --install=check:SimBindProfiles.install-out.txt --library=/home/biocbuild/bbs-3.15-bioc/R/library --no-vignettes --timings SimBindProfiles_1.34.0.tar.gz
StartedAt: 2022-05-19 21:35:03 -0400 (Thu, 19 May 2022)
EndedAt: 2022-05-19 21:37:37 -0400 (Thu, 19 May 2022)
EllapsedTime: 153.3 seconds
RetCode: 0
Status:   OK  
CheckDir: SimBindProfiles.Rcheck
Warnings: 0

Command output

##############################################################################
##############################################################################
###
### Running command:
###
###   /home/biocbuild/bbs-3.15-bioc/R/bin/R CMD check --install=check:SimBindProfiles.install-out.txt --library=/home/biocbuild/bbs-3.15-bioc/R/library --no-vignettes --timings SimBindProfiles_1.34.0.tar.gz
###
##############################################################################
##############################################################################


* using log directory ‘/home/biocbuild/bbs-3.15-bioc/meat/SimBindProfiles.Rcheck’
* using R version 4.2.0 (2022-04-22)
* using platform: x86_64-pc-linux-gnu (64-bit)
* using session charset: UTF-8
* using option ‘--no-vignettes’
* checking for file ‘SimBindProfiles/DESCRIPTION’ ... OK
* this is package ‘SimBindProfiles’ version ‘1.34.0’
* checking package namespace information ... OK
* checking package dependencies ... OK
* checking if this is a source package ... OK
* checking if there is a namespace ... OK
* checking for hidden files and directories ... OK
* checking for portable file names ... OK
* checking for sufficient/correct file permissions ... OK
* checking whether package ‘SimBindProfiles’ can be installed ... OK
* checking installed package size ... OK
* checking package directory ... OK
* checking ‘build’ directory ... OK
* checking DESCRIPTION meta-information ... OK
* checking top-level files ... OK
* checking for left-over files ... OK
* checking index information ... OK
* checking package subdirectories ... OK
* checking R files for non-ASCII characters ... OK
* checking R files for syntax errors ... OK
* checking whether the package can be loaded ... OK
* checking whether the package can be loaded with stated dependencies ... OK
* checking whether the package can be unloaded cleanly ... OK
* checking whether the namespace can be loaded with stated dependencies ... OK
* checking whether the namespace can be unloaded cleanly ... OK
* checking dependencies in R code ... OK
* checking S3 generic/method consistency ... OK
* checking replacement functions ... OK
* checking foreign function calls ... OK
* checking R code for possible problems ... NOTE
compensationRegions: no visible global function definition for
  ‘write.table’
eSetScatterPlot : upPan: no visible global function definition for
  ‘par’
eSetScatterPlot : upPan: no visible global function definition for
  ‘smoothScatter’
eSetScatterPlot : lowPan: no visible global function definition for
  ‘text’
eSetScatterPlot : lowPan: no visible global function definition for
  ‘par’
eSetScatterPlot : lowPan: no visible global function definition for
  ‘cor’
eSetScatterPlot: no visible global function definition for ‘pairs’
filterRegionsPairwise: no visible global function definition for ‘tail’
filterRegionsThreeway: no visible global function definition for ‘tail’
findBoundCutoff: no visible global function definition for ‘hist’
findBoundCutoff: no visible global function definition for ‘p.adjust’
increasedBindingRegions: no visible global function definition for
  ‘write.table’
normalNull: no visible global function definition for ‘na.omit’
normalNull: no visible global function definition for ‘density’
normalNull: no visible global function definition for ‘sd’
normalNull: no visible global function definition for ‘pnorm’
pairwiseRegions: no visible global function definition for
  ‘write.table’
plotBoundProbes: no visible global function definition for ‘points’
probeLengthPlot: no visible global function definition for ‘tail’
readSgrFiles: no visible global function definition for ‘read.delim’
threewayRegions: no visible global function definition for
  ‘write.table’
twoGaussiansNull.BF: no visible global function definition for
  ‘na.omit’
twoGaussiansNull.BF: no visible global function definition for ‘dnorm’
twoGaussiansNull.BF: no visible global function definition for ‘lines’
twoGaussiansNull.BF: no visible global function definition for ‘legend’
twoGaussiansNull.BF: no visible global function definition for ‘pnorm’
Undefined global functions or variables:
  cor density dnorm hist legend lines na.omit p.adjust pairs par pnorm
  points read.delim sd smoothScatter tail text write.table
Consider adding
  importFrom("graphics", "hist", "legend", "lines", "pairs", "par",
             "points", "smoothScatter", "text")
  importFrom("stats", "cor", "density", "dnorm", "na.omit", "p.adjust",
             "pnorm", "sd")
  importFrom("utils", "read.delim", "tail", "write.table")
to your NAMESPACE file.
* checking Rd files ... OK
* checking Rd metadata ... OK
* checking Rd cross-references ... OK
* checking for missing documentation entries ... OK
* checking for code/documentation mismatches ... OK
* checking Rd \usage sections ... OK
* checking Rd contents ... OK
* checking for unstated dependencies in examples ... OK
* checking contents of ‘data’ directory ... OK
* checking data for non-ASCII characters ... OK
* checking data for ASCII and uncompressed saves ... OK
* checking line endings in Makefiles ... OK
* checking for GNU extensions in Makefiles ... OK
* checking include directives in Makefiles ... OK
* checking files in ‘vignettes’ ... OK
* checking examples ... OK
* checking for unstated dependencies in vignettes ... OK
* checking package vignettes in ‘inst/doc’ ... OK
* checking running R code from vignettes ... SKIPPED
* checking re-building of vignette outputs ... SKIPPED
* checking PDF version of manual ... OK
* DONE

Status: 1 NOTE
See
  ‘/home/biocbuild/bbs-3.15-bioc/meat/SimBindProfiles.Rcheck/00check.log’
for details.



Installation output

SimBindProfiles.Rcheck/00install.out

##############################################################################
##############################################################################
###
### Running command:
###
###   /home/biocbuild/bbs-3.15-bioc/R/bin/R CMD INSTALL SimBindProfiles
###
##############################################################################
##############################################################################


* installing to library ‘/home/biocbuild/bbs-3.15-bioc/R/library’
* installing *source* package ‘SimBindProfiles’ ...
** using staged installation
** R
** data
** inst
** byte-compile and prepare package for lazy loading
** help
*** installing help indices
** building package indices
** installing vignettes
** testing if installed package can be loaded from temporary location
** testing if installed package can be loaded from final location
** testing if installed package keeps a record of temporary installation path
* DONE (SimBindProfiles)

Tests output


Example timings

SimBindProfiles.Rcheck/SimBindProfiles-Ex.timings

nameusersystemelapsed
SGR0.3610.0000.361
compensationRegions1.2630.0921.354
eSetScatterPlot0.8790.0160.894
findBoundCutoff2.3240.1242.448
increasedBindingRegions0.4450.0080.454
pairwiseRegions0.6470.0280.676
plotBoundProbes1.2830.0311.315
probeAnnoFromESet1.0770.0471.125
probeLengthPlot0.9960.0081.005
readSgrFiles0.0940.0040.098
threewayRegions0.7290.0120.741