Back to Multiple platform build/check report for BioC 3.15
ABCDEF[G]HIJKLMNOPQRSTUVWXYZ

This page was generated on 2022-05-16 11:04:11 -0400 (Mon, 16 May 2022).

HostnameOSArch (*)R versionInstalled pkgs
nebbiolo1Linux (Ubuntu 20.04.4 LTS)x86_644.2.0 (2022-04-22) -- "Vigorous Calisthenics" 4379
palomino3Windows Server 2022 Datacenterx644.2.0 (2022-04-22 ucrt) -- "Vigorous Calisthenics" 4153
merida1macOS 10.14.6 Mojavex86_644.2.0 (2022-04-22) -- "Vigorous Calisthenics" 4220
Click on any hostname to see more info about the system (e.g. compilers)      (*) as reported by 'uname -p', except on Windows and Mac OS X

All results for package GSVA


To the developers/maintainers of the GSVA package:
- Please allow up to 24 hours (and sometimes 48 hours) for your latest push to git@git.bioconductor.org:packages/GSVA.git to
reflect on this report. See How and When does the builder pull? When will my changes propagate? for more information.
- Make sure to use the following settings in order to reproduce any error or warning you see on this page.

raw results

Package 864/2140HostnameOS / ArchINSTALLBUILDCHECKBUILD BIN
GSVA 1.44.0  (landing page)
Justin Guinney
Snapshot Date: 2022-05-15 13:55:12 -0400 (Sun, 15 May 2022)
git_url: https://git.bioconductor.org/packages/GSVA
git_branch: RELEASE_3_15
git_last_commit: 530f7c5
git_last_commit_date: 2022-04-26 11:07:47 -0400 (Tue, 26 Apr 2022)
nebbiolo1Linux (Ubuntu 20.04.4 LTS) / x86_64  OK    OK    OK  UNNEEDED, same version is already published
palomino3Windows Server 2022 Datacenter / x64  OK    OK    OK    OK  UNNEEDED, same version is already published
merida1macOS 10.14.6 Mojave / x86_64  OK    OK    OK    OK  UNNEEDED, same version is already published

Results for Bioconductor software packages that depend directly on package GSVA

QUICK STATSOS / ArchINSTALLBUILDCHECKBUILD BIN
nebbiolo1Linux (Ubuntu 20.04.4 LTS) / x86_64
008
008
0026
palomino3Windows Server 2022 Datacenter / x64
008
008
0026
008
merida1macOS 10.14.6 Mojave / x86_64
008
008
0026
004
Package 1/8HostnameOS / ArchINSTALLBUILDCHECKBUILD BIN
consensusOV 1.18.0  (landing page)
Benjamin Haibe-Kains
git_last_commit: 8310506
git_last_commit_date: 2022-04-26 11:41:51 -0400
nebbiolo1Linux (Ubuntu 20.04.4 LTS) / x86_64  OK    OK    OK  UNNEEDED, same version is already published
palomino3Windows Server 2022 Datacenter / x64  OK    OK    OK    OK  UNNEEDED, same version is already published
merida1macOS 10.14.6 Mojave / x86_64  OK    OK    OK    OK  UNNEEDED, same version is already published
Package 2/8HostnameOS / ArchINSTALLBUILDCHECKBUILD BIN
EGSEA 1.24.0  (landing page)
Monther Alhamdoosh
git_last_commit: 07e0135
git_last_commit_date: 2022-04-26 11:32:13 -0400
nebbiolo1Linux (Ubuntu 20.04.4 LTS) / x86_64  OK    OK    WARNINGS  UNNEEDED, same version is already published
palomino3Windows Server 2022 Datacenter / x64  OK    OK    WARNINGS    OK  UNNEEDED, same version is already published
merida1macOS 10.14.6 Mojave / x86_64  OK    OK    WARNINGS    OK  UNNEEDED, same version is already published
Package 3/8HostnameOS / ArchINSTALLBUILDCHECKBUILD BIN
escape 1.6.0  (landing page)
Nick Borcherding
git_last_commit: 98c38e0
git_last_commit_date: 2022-04-26 12:06:49 -0400
nebbiolo1Linux (Ubuntu 20.04.4 LTS) / x86_64  OK    OK    OK  UNNEEDED, same version is already published
palomino3Windows Server 2022 Datacenter / x64  OK    OK    OK    OK  UNNEEDED, same version is already published
merida1macOS 10.14.6 Mojave / x86_64  OK    OK    OK    OK  UNNEEDED, same version is already published
Package 4/8HostnameOS / ArchINSTALLBUILDCHECKBUILD BIN
oppar 1.24.0  (landing page)
Soroor Hediyeh zadeh
git_last_commit: db58829
git_last_commit_date: 2022-04-26 11:31:39 -0400
nebbiolo1Linux (Ubuntu 20.04.4 LTS) / x86_64  OK    OK    WARNINGS  UNNEEDED, same version is already published
palomino3Windows Server 2022 Datacenter / x64  OK    OK    WARNINGS    OK  UNNEEDED, same version is already published
merida1macOS 10.14.6 Mojave / x86_64  OK    OK    WARNINGS    OK  UNNEEDED, same version is already published
Package 5/8HostnameOS / ArchINSTALLBUILDCHECKBUILD BIN
singleCellTK 2.6.0  (landing page)
Yichen Wang
git_last_commit: b6fc536
git_last_commit_date: 2022-04-26 11:48:48 -0400
nebbiolo1Linux (Ubuntu 20.04.4 LTS) / x86_64  OK    OK    OK  UNNEEDED, same version is already published
palomino3Windows Server 2022 Datacenter / x64  OK    OK    OK    OK  UNNEEDED, same version is already published
merida1macOS 10.14.6 Mojave / x86_64  OK    OK    OK    NA  
Package 6/8HostnameOS / ArchINSTALLBUILDCHECKBUILD BIN
SISPA 1.26.0  (landing page)
Bhakti Dwivedi
git_last_commit: 5db4c30
git_last_commit_date: 2022-04-26 11:27:47 -0400
nebbiolo1Linux (Ubuntu 20.04.4 LTS) / x86_64  OK    OK    OK  UNNEEDED, same version is already published
palomino3Windows Server 2022 Datacenter / x64  OK    OK    OK    OK  UNNEEDED, same version is already published
merida1macOS 10.14.6 Mojave / x86_64  OK    OK    OK    NA  
Package 7/8HostnameOS / ArchINSTALLBUILDCHECKBUILD BIN
TBSignatureProfiler 1.8.0  (landing page)
Aubrey Odom-Mabey
git_last_commit: 0ea7c4c
git_last_commit_date: 2022-04-26 12:04:53 -0400
nebbiolo1Linux (Ubuntu 20.04.4 LTS) / x86_64  OK    OK    OK  UNNEEDED, same version is already published
palomino3Windows Server 2022 Datacenter / x64  OK    OK    OK    OK  UNNEEDED, same version is already published
merida1macOS 10.14.6 Mojave / x86_64  OK    OK    OK    NA  
Package 8/8HostnameOS / ArchINSTALLBUILDCHECKBUILD BIN
TNBC.CMS 1.12.0  (landing page)
Doyeong Yu
git_last_commit: 9643760
git_last_commit_date: 2022-04-26 11:54:14 -0400
nebbiolo1Linux (Ubuntu 20.04.4 LTS) / x86_64  OK    OK    OK  UNNEEDED, same version is already published
palomino3Windows Server 2022 Datacenter / x64  OK    OK    OK    OK  UNNEEDED, same version is already published
merida1macOS 10.14.6 Mojave / x86_64  OK    OK    OK    NA