Back to Multiple platform build/check report for BioC 3.15
ABCDEFG[H]IJKLMNOPQRSTUVWXYZ

This page was generated on 2022-06-24 12:07:34 -0400 (Fri, 24 Jun 2022).

HostnameOSArch (*)R versionInstalled pkgs
nebbiolo1Linux (Ubuntu 20.04.4 LTS)x86_644.2.0 (2022-04-22) -- "Vigorous Calisthenics" 4380
palomino3Windows Server 2022 Datacenterx644.2.0 (2022-04-22 ucrt) -- "Vigorous Calisthenics" 4156
merida1macOS 10.14.6 Mojavex86_644.2.0 (2022-04-22) -- "Vigorous Calisthenics" 4221
Click on any hostname to see more info about the system (e.g. compilers)      (*) as reported by 'uname -p', except on Windows and Mac OS X

BUILD BIN results for Harshlight on merida1


To the developers/maintainers of the Harshlight package:
- Please allow up to 24 hours (and sometimes 48 hours) for your latest push to git@git.bioconductor.org:packages/Harshlight.git to
reflect on this report. See How and When does the builder pull? When will my changes propagate? for more information.
- Make sure to use the following settings in order to reproduce any error or warning you see on this page.

raw results

Package 877/2140HostnameOS / ArchINSTALLBUILDCHECKBUILD BIN
Harshlight 1.68.0  (landing page)
Maurizio Pellegrino
Snapshot Date: 2022-06-23 13:55:15 -0400 (Thu, 23 Jun 2022)
git_url: https://git.bioconductor.org/packages/Harshlight
git_branch: RELEASE_3_15
git_last_commit: c2a1fd7
git_last_commit_date: 2022-04-26 10:58:36 -0400 (Tue, 26 Apr 2022)
nebbiolo1Linux (Ubuntu 20.04.4 LTS) / x86_64  OK    OK    OK  UNNEEDED, same version is already published
palomino3Windows Server 2022 Datacenter / x64  OK    OK    OK    OK  UNNEEDED, same version is already published
merida1macOS 10.14.6 Mojave / x86_64  OK    OK    OK    OK  UNNEEDED, same version is already published

Summary

Package: Harshlight
Version: 1.68.0
Command: rm -rf Harshlight.buildbin-libdir && mkdir Harshlight.buildbin-libdir && /Users/biocbuild/BBS/utils/build-universal.sh Harshlight_1.68.0.tar.gz /Library/Frameworks/R.framework/Resources/bin/R Harshlight.buildbin-libdir
StartedAt: 2022-06-24 11:35:59 -0400 (Fri, 24 Jun 2022)
EndedAt: 2022-06-24 11:36:28 -0400 (Fri, 24 Jun 2022)
EllapsedTime: 29.1 seconds
RetCode: 0
Status:   OK  
PackageFile: Harshlight_1.68.0.tgz
PackageFileSize: 300.7 KiB

Command output

##############################################################################
##############################################################################
###
### Running command:
###
###   rm -rf Harshlight.buildbin-libdir && mkdir Harshlight.buildbin-libdir && /Users/biocbuild/BBS/utils/build-universal.sh Harshlight_1.68.0.tar.gz /Library/Frameworks/R.framework/Resources/bin/R Harshlight.buildbin-libdir
###
##############################################################################
##############################################################################


>>>>>>> 
>>>>>>> INSTALLATION WITH 'R CMD INSTALL --preclean --no-multiarch --library=Harshlight.buildbin-libdir Harshlight_1.68.0.tar.gz'
>>>>>>> 

* installing *source* package ‘Harshlight’ ...
** using staged installation
** libs
clang -mmacosx-version-min=10.13 -I"/Library/Frameworks/R.framework/Resources/include" -DNDEBUG   -I/usr/local/include   -fPIC  -Wall -g -O2  -c Harshlight.c -o Harshlight.o
Harshlight.c:1316:27: warning: unused variable 'sorted2' [-Wunused-variable]
  double *sorted; double *sorted2;
                          ^
Harshlight.c:1471:26: warning: invalid conversion specifier ')' [-Wformat-invalid-specifier]
  PP "%d %d moveto (%.2f%) show\n", x_text_val, y_text - 215, *diff_br);
                        ~^
Harshlight.c:1474:26: warning: invalid conversion specifier ')' [-Wformat-invalid-specifier]
  PP "%d %d moveto (%.2f%) show\n", x_text_val, y_text - 230, *diff_dr);
                        ~^
Harshlight.c:1532:107: warning: invalid conversion specifier ')' [-Wformat-invalid-specifier]
  PP "%d %d moveto (Extended defects: the variance of the Error Image explained by the background is %.2f%) show\n", x_text, y_text - 30, *var);
                                                                                                         ~^
Harshlight.c:1542:26: warning: invalid conversion specifier ')' [-Wformat-invalid-specifier]
  PP "%d %d moveto (%.2f%) show\n", x_val_1, y_text - 100, *perc_c);
                        ~^
Harshlight.c:1543:26: warning: invalid conversion specifier ')' [-Wformat-invalid-specifier]
  PP "%d %d moveto (%.2f%) show\n", x_val_2, y_text - 100, *perc_d);
                        ~^
Harshlight.c:1555:107: warning: invalid conversion specifier ')' [-Wformat-invalid-specifier]
  PP "%d %d moveto (Extended defects: the variance of the Error Image explained by the background is %.2f%) show\n", x_text, y_text - 30, *var);
                                                                                                         ~^
7 warnings generated.
clang -mmacosx-version-min=10.13 -dynamiclib -Wl,-headerpad_max_install_names -undefined dynamic_lookup -single_module -multiply_defined suppress -L/Library/Frameworks/R.framework/Resources/lib -L/usr/local/lib -o Harshlight.so Harshlight.o -F/Library/Frameworks/R.framework/.. -framework R -Wl,-framework -Wl,CoreFoundation
installing to /Users/biocbuild/bbs-3.15-bioc/meat/Harshlight.buildbin-libdir/00LOCK-Harshlight/00new/Harshlight/libs
** R
** data
** inst
** byte-compile and prepare package for lazy loading
** help
*** installing help indices
** building package indices
** installing vignettes
** testing if installed package can be loaded from temporary location
** checking absolute paths in shared objects and dynamic libraries
** testing if installed package can be loaded from final location
** testing if installed package keeps a record of temporary installation path
* DONE (Harshlight)


>>>>>>> 
>>>>>>> FIXING LINKS FOR Harshlight.buildbin-libdir/Harshlight/libs/Harshlight.so
>>>>>>> 

install_name_tool -change "/usr/local/lib/libgcc_s.1.dylib" "/Library/Frameworks/R.framework/Versions/4.2/Resources/lib/libgcc_s.1.dylib" "Harshlight.buildbin-libdir/Harshlight/libs/Harshlight.so"
install_name_tool -change "/usr/local/lib/libgfortran.5.dylib" "/Library/Frameworks/R.framework/Versions/4.2/Resources/lib/libgfortran.5.dylib" "Harshlight.buildbin-libdir/Harshlight/libs/Harshlight.so"
install_name_tool -change "/usr/local/lib/libquadmath.0.dylib" "/Library/Frameworks/R.framework/Versions/4.2/Resources/lib/libquadmath.0.dylib" "Harshlight.buildbin-libdir/Harshlight/libs/Harshlight.so"