Back to Multiple platform build/check report for BioC 3.15
ABCDE[F]GHIJKLMNOPQRSTUVWXYZ

This page was generated on 2022-04-27 11:08:47 -0400 (Wed, 27 Apr 2022).

HostnameOSArch (*)R versionInstalled pkgs
nebbiolo1Linux (Ubuntu 20.04.4 LTS)x86_644.2.0 RC (2022-04-19 r82224) -- "Vigorous Calisthenics" 4361
palomino3Windows Server 2022 Datacenterx644.2.0 RC (2022-04-19 r82224 ucrt) -- "Vigorous Calisthenics" 4140
merida1macOS 10.14.6 Mojavex86_644.2.0 RC (2022-04-19 r82224) -- "Vigorous Calisthenics" 4190
Click on any hostname to see more info about the system (e.g. compilers)      (*) as reported by 'uname -p', except on Windows and Mac OS X

BUILD BIN results for flowStats on merida1


To the developers/maintainers of the flowStats package:
- Please allow up to 24 hours (and sometimes 48 hours) for your latest push to git@git.bioconductor.org:packages/flowStats.git to
reflect on this report. See How and When does the builder pull? When will my changes propagate? for more information.
- Make sure to use the following settings in order to reproduce any error or warning you see on this page.

raw results

Package 686/2123HostnameOS / ArchINSTALLBUILDCHECKBUILD BIN
flowStats 4.8.0  (landing page)
Greg Finak , Mike Jiang , Jake Wagner
Snapshot Date: 2022-04-26 13:55:19 -0400 (Tue, 26 Apr 2022)
git_url: https://git.bioconductor.org/packages/flowStats
git_branch: RELEASE_3_15
git_last_commit: aa6d4ca
git_last_commit_date: 2022-04-26 11:02:55 -0400 (Tue, 26 Apr 2022)
nebbiolo1Linux (Ubuntu 20.04.4 LTS) / x86_64  OK    OK    WARNINGS  YES
palomino3Windows Server 2022 Datacenter / x64  OK    OK    WARNINGS    OK  YES
merida1macOS 10.14.6 Mojave / x86_64  OK    OK    WARNINGS    OK  YES

Summary

Package: flowStats
Version: 4.8.0
Command: rm -rf flowStats.buildbin-libdir && mkdir flowStats.buildbin-libdir && /Users/biocbuild/BBS/utils/build-universal.sh flowStats_4.8.0.tar.gz /Library/Frameworks/R.framework/Resources/bin/R flowStats.buildbin-libdir
StartedAt: 2022-04-27 09:55:19 -0400 (Wed, 27 Apr 2022)
EndedAt: 2022-04-27 09:56:20 -0400 (Wed, 27 Apr 2022)
EllapsedTime: 60.9 seconds
RetCode: 0
Status:   OK  
PackageFile: flowStats_4.8.0.tgz
PackageFileSize: 11.71 MiB

Command output

##############################################################################
##############################################################################
###
### Running command:
###
###   rm -rf flowStats.buildbin-libdir && mkdir flowStats.buildbin-libdir && /Users/biocbuild/BBS/utils/build-universal.sh flowStats_4.8.0.tar.gz /Library/Frameworks/R.framework/Resources/bin/R flowStats.buildbin-libdir
###
##############################################################################
##############################################################################


>>>>>>> 
>>>>>>> INSTALLATION WITH 'R CMD INSTALL --preclean --no-multiarch --library=flowStats.buildbin-libdir flowStats_4.8.0.tar.gz'
>>>>>>> 

* installing *source* package ‘flowStats’ ...
** using staged installation
** R
** data
** inst
** byte-compile and prepare package for lazy loading
Warning: replacing previous import ‘flowViz::contour’ by ‘graphics::contour’ when loading ‘flowStats’
** help
*** installing help indices
** building package indices
** installing vignettes
** testing if installed package can be loaded from temporary location
Warning: replacing previous import ‘flowViz::contour’ by ‘graphics::contour’ when loading ‘flowStats’
** testing if installed package can be loaded from final location
Warning: replacing previous import ‘flowViz::contour’ by ‘graphics::contour’ when loading ‘flowStats’
** testing if installed package keeps a record of temporary installation path
* DONE (flowStats)