Back to Multiple platform build/check report for BioC 3.15
ABCDEFGHIJKLMNOPQ[R]STUVWXYZ

This page was generated on 2022-07-01 12:07:10 -0400 (Fri, 01 Jul 2022).

HostnameOSArch (*)R versionInstalled pkgs
nebbiolo1Linux (Ubuntu 20.04.4 LTS)x86_644.2.0 (2022-04-22) -- "Vigorous Calisthenics" 4380
palomino3Windows Server 2022 Datacenterx644.2.0 (2022-04-22 ucrt) -- "Vigorous Calisthenics" 4156
merida1macOS 10.14.6 Mojavex86_644.2.0 (2022-04-22) -- "Vigorous Calisthenics" 4221
Click on any hostname to see more info about the system (e.g. compilers)      (*) as reported by 'uname -p', except on Windows and Mac OS X

CHECK results for RNAinteract on palomino3


To the developers/maintainers of the RNAinteract package:
- Please allow up to 24 hours (and sometimes 48 hours) for your latest push to git@git.bioconductor.org:packages/RNAinteract.git to
reflect on this report. See How and When does the builder pull? When will my changes propagate? for more information.
- Make sure to use the following settings in order to reproduce any error or warning you see on this page.

raw results

Package 1674/2140HostnameOS / ArchINSTALLBUILDCHECKBUILD BIN
RNAinteract 1.44.0  (landing page)
Mike Smith
Snapshot Date: 2022-06-30 13:55:04 -0400 (Thu, 30 Jun 2022)
git_url: https://git.bioconductor.org/packages/RNAinteract
git_branch: RELEASE_3_15
git_last_commit: 943ec11
git_last_commit_date: 2022-04-26 11:07:00 -0400 (Tue, 26 Apr 2022)
nebbiolo1Linux (Ubuntu 20.04.4 LTS) / x86_64  OK    OK    OK  UNNEEDED, same version is already published
palomino3Windows Server 2022 Datacenter / x64  OK    OK    OK    OK  UNNEEDED, same version is already published
merida1macOS 10.14.6 Mojave / x86_64  OK    OK    OK    OK  UNNEEDED, same version is already published

Summary

Package: RNAinteract
Version: 1.44.0
Command: F:\biocbuild\bbs-3.15-bioc\R\bin\R.exe CMD check --no-multiarch --install=check:RNAinteract.install-out.txt --library=F:\biocbuild\bbs-3.15-bioc\R\library --no-vignettes --timings RNAinteract_1.44.0.tar.gz
StartedAt: 2022-07-01 03:10:29 -0400 (Fri, 01 Jul 2022)
EndedAt: 2022-07-01 03:13:01 -0400 (Fri, 01 Jul 2022)
EllapsedTime: 152.4 seconds
RetCode: 0
Status:   OK  
CheckDir: RNAinteract.Rcheck
Warnings: 0

Command output

##############################################################################
##############################################################################
###
### Running command:
###
###   F:\biocbuild\bbs-3.15-bioc\R\bin\R.exe CMD check --no-multiarch --install=check:RNAinteract.install-out.txt --library=F:\biocbuild\bbs-3.15-bioc\R\library --no-vignettes --timings RNAinteract_1.44.0.tar.gz
###
##############################################################################
##############################################################################


* using log directory 'F:/biocbuild/bbs-3.15-bioc/meat/RNAinteract.Rcheck'
* using R version 4.2.0 (2022-04-22 ucrt)
* using platform: x86_64-w64-mingw32 (64-bit)
* using session charset: UTF-8
* using option '--no-vignettes'
* checking for file 'RNAinteract/DESCRIPTION' ... OK
* checking extension type ... Package
* this is package 'RNAinteract' version '1.44.0'
* checking package namespace information ... OK
* checking package dependencies ... OK
* checking if this is a source package ... OK
* checking if there is a namespace ... OK
* checking for hidden files and directories ... OK
* checking for portable file names ... OK
* checking whether package 'RNAinteract' can be installed ... OK
* checking installed package size ... OK
* checking package directory ... OK
* checking 'build' directory ... OK
* checking DESCRIPTION meta-information ... OK
* checking top-level files ... OK
* checking for left-over files ... OK
* checking index information ... OK
* checking package subdirectories ... OK
* checking R files for non-ASCII characters ... OK
* checking R files for syntax errors ... OK
* checking whether the package can be loaded ... OK
* checking whether the package can be loaded with stated dependencies ... OK
* checking whether the package can be unloaded cleanly ... OK
* checking whether the namespace can be loaded with stated dependencies ... OK
* checking whether the namespace can be unloaded cleanly ... OK
* checking dependencies in R code ... NOTE
Namespace in Imports field not imported from: 'ICS'
  All declared Imports should be used.
* checking S3 generic/method consistency ... OK
* checking replacement functions ... OK
* checking foreign function calls ... OK
* checking R code for possible problems ... OK
* checking Rd files ... OK
* checking Rd metadata ... OK
* checking Rd cross-references ... OK
* checking for missing documentation entries ... OK
* checking for code/documentation mismatches ... OK
* checking Rd \usage sections ... OK
* checking Rd contents ... OK
* checking for unstated dependencies in examples ... OK
* checking contents of 'data' directory ... OK
* checking data for non-ASCII characters ... OK
* checking data for ASCII and uncompressed saves ... OK
* checking sizes of PDF files under 'inst/doc' ... OK
* checking files in 'vignettes' ... OK
* checking examples ... OK
* checking for unstated dependencies in vignettes ... OK
* checking package vignettes in 'inst/doc' ... OK
* checking running R code from vignettes ... SKIPPED
* checking re-building of vignette outputs ... SKIPPED
* checking PDF version of manual ... OK
* DONE

Status: 1 NOTE
See
  'F:/biocbuild/bbs-3.15-bioc/meat/RNAinteract.Rcheck/00check.log'
for details.



Installation output

RNAinteract.Rcheck/00install.out

##############################################################################
##############################################################################
###
### Running command:
###
###   F:\biocbuild\bbs-3.15-bioc\R\bin\R.exe CMD INSTALL RNAinteract
###
##############################################################################
##############################################################################


* installing to library 'F:/biocbuild/bbs-3.15-bioc/R/library'
* installing *source* package 'RNAinteract' ...
** using staged installation
** R
** data
** inst
** byte-compile and prepare package for lazy loading
** help
*** installing help indices
** building package indices
** installing vignettes
** testing if installed package can be loaded from temporary location
** testing if installed package can be loaded from final location
** testing if installed package keeps a record of temporary installation path
* DONE (RNAinteract)

Tests output


Example timings

RNAinteract.Rcheck/RNAinteract-Ex.timings

nameusersystemelapsed
RNAinteract-class0.020.000.01
bindsamples0.070.000.08
computePI0.020.000.01
computePValues0.090.000.10
embedPCA0.010.000.01
estimateMainEffect0.550.050.59
getData0.080.000.08
getMain0.000.010.02
getReplicateData0.020.000.01
getSampleNames0.010.000.02
getScale000
grid.sgiHeatmap0.060.000.06
normalizeMainEffectQuery0.030.000.03
normalizeMainEffectTemplate0.040.000.03
normalizePlateEffect1.210.041.25
plotDoublePerturbation0.020.010.04
plotHeatmap0.020.020.03
reportAnnotation0.000.010.03
sgi000
sgisubset0.020.000.02
startReport0.010.000.02
summarizeSamples0.070.030.09