Back to Multiple platform build/check report for BioC 3.15
ABCDEFGHIJKLMNOPQRSTUV[W]XYZ

This page was generated on 2022-05-27 12:07:34 -0400 (Fri, 27 May 2022).

HostnameOSArch (*)R versionInstalled pkgs
nebbiolo1Linux (Ubuntu 20.04.4 LTS)x86_644.2.0 (2022-04-22) -- "Vigorous Calisthenics" 4380
palomino3Windows Server 2022 Datacenterx644.2.0 (2022-04-22 ucrt) -- "Vigorous Calisthenics" 4156
merida1macOS 10.14.6 Mojavex86_644.2.0 (2022-04-22) -- "Vigorous Calisthenics" 4221
Click on any hostname to see more info about the system (e.g. compilers)      (*) as reported by 'uname -p', except on Windows and Mac OS X

BUILD BIN results for wateRmelon on palomino3


To the developers/maintainers of the wateRmelon package:
- Please allow up to 24 hours (and sometimes 48 hours) for your latest push to git@git.bioconductor.org:packages/wateRmelon.git to
reflect on this report. See How and When does the builder pull? When will my changes propagate? for more information.
- Make sure to use the following settings in order to reproduce any error or warning you see on this page.

raw results

Package 2115/2140HostnameOS / ArchINSTALLBUILDCHECKBUILD BIN
wateRmelon 2.2.0  (landing page)
Leo C Schalkwyk
Snapshot Date: 2022-05-26 13:55:15 -0400 (Thu, 26 May 2022)
git_url: https://git.bioconductor.org/packages/wateRmelon
git_branch: RELEASE_3_15
git_last_commit: 6ec49ef
git_last_commit_date: 2022-04-26 11:12:59 -0400 (Tue, 26 Apr 2022)
nebbiolo1Linux (Ubuntu 20.04.4 LTS) / x86_64  OK    OK    OK  UNNEEDED, same version is already published
palomino3Windows Server 2022 Datacenter / x64  OK    OK    OK    OK  UNNEEDED, same version is already published
merida1macOS 10.14.6 Mojave / x86_64  OK    OK    OK    OK  UNNEEDED, same version is already published

Summary

Package: wateRmelon
Version: 2.2.0
Command: rm -rf wateRmelon.buildbin-libdir && mkdir wateRmelon.buildbin-libdir && F:\biocbuild\bbs-3.15-bioc\R\bin\R.exe CMD INSTALL --build --library=wateRmelon.buildbin-libdir wateRmelon_2.2.0.tar.gz
StartedAt: 2022-05-27 06:32:04 -0400 (Fri, 27 May 2022)
EndedAt: 2022-05-27 06:33:13 -0400 (Fri, 27 May 2022)
EllapsedTime: 68.8 seconds
RetCode: 0
Status:   OK  
PackageFile: wateRmelon_2.2.0.zip
PackageFileSize: 3.591 MiB

Command output

##############################################################################
##############################################################################
###
### Running command:
###
###   rm -rf wateRmelon.buildbin-libdir && mkdir wateRmelon.buildbin-libdir && F:\biocbuild\bbs-3.15-bioc\R\bin\R.exe CMD INSTALL --build --library=wateRmelon.buildbin-libdir wateRmelon_2.2.0.tar.gz
###
##############################################################################
##############################################################################


* installing *source* package 'wateRmelon' ...
** using staged installation
** R
** data
** inst
** byte-compile and prepare package for lazy loading
No methods found in package 'RSQLite' for request: 'dbListFields' when loading 'lumi'
Creating a generic function from function 'as.methylumi' in package 'wateRmelon'
Creating a generic function from function 'adjustedDasen' in package 'wateRmelon'
** help
*** installing help indices
** building package indices
** installing vignettes
** testing if installed package can be loaded from temporary location
No methods found in package 'RSQLite' for request: 'dbListFields' when loading 'lumi'
** testing if installed package can be loaded from final location
No methods found in package 'RSQLite' for request: 'dbListFields' when loading 'lumi'
** testing if installed package keeps a record of temporary installation path
* MD5 sums
packaged installation of 'wateRmelon' as wateRmelon_2.2.0.zip
* DONE (wateRmelon)