Back to Build/check report for BioC 3.15
ABCDEFGHIJKL[M]NOPQRSTUVWXYZ

This page was generated on 2022-06-27 11:09:42 -0400 (Mon, 27 Jun 2022).

HostnameOSArch (*)R versionInstalled pkgs
nebbiolo1Linux (Ubuntu 20.04.4 LTS)x86_644.2.0 (2022-04-22) -- "Vigorous Calisthenics" 4380
Click on any hostname to see more info about the system (e.g. compilers)      (*) as reported by 'uname -p', except on Windows and Mac OS X

All results for package makecdfenv


To the developers/maintainers of the makecdfenv package:
- Please allow up to 24 hours (and sometimes 48 hours) for your latest push to git@git.bioconductor.org:packages/makecdfenv.git to
reflect on this report. See How and When does the builder pull? When will my changes propagate? for more information.
- Make sure to use the following settings in order to reproduce any error or warning you see on this page.

raw results

Package 1067/2140HostnameOS / ArchINSTALLBUILDCHECKBUILD BIN
makecdfenv 1.72.0  (landing page)
James W. MacDonald
Snapshot Date: 2022-06-26 13:55:11 -0400 (Sun, 26 Jun 2022)
git_url: https://git.bioconductor.org/packages/makecdfenv
git_branch: RELEASE_3_15
git_last_commit: 85c8968
git_last_commit_date: 2022-04-26 10:54:49 -0400 (Tue, 26 Apr 2022)
nebbiolo1Linux (Ubuntu 20.04.4 LTS) / x86_64  OK    OK    WARNINGS  UNNEEDED, same version is already published

Results for Bioconductor software packages that depend directly on package makecdfenv

QUICK STATSOS / ArchINSTALLBUILDCHECKBUILD BIN
nebbiolo1Linux (Ubuntu 20.04.4 LTS) / x86_64
001
001
0001
Package 1/1HostnameOS / ArchINSTALLBUILDCHECKBUILD BIN
altcdfenvs 2.58.0  (landing page)
Laurent Gautier
git_last_commit: 08255a7
git_last_commit_date: 2022-04-26 10:55:43 -0400
nebbiolo1Linux (Ubuntu 20.04.4 LTS) / x86_64  OK    OK    OK  UNNEEDED, same version is already published