Back to Multiple platform build/check report for BioC 3.15
ABCDEFGHIJKLMNOPQRSTU[V]WXYZ

This page was generated on 2022-06-24 12:06:58 -0400 (Fri, 24 Jun 2022).

HostnameOSArch (*)R versionInstalled pkgs
nebbiolo1Linux (Ubuntu 20.04.4 LTS)x86_644.2.0 (2022-04-22) -- "Vigorous Calisthenics" 4380
palomino3Windows Server 2022 Datacenterx644.2.0 (2022-04-22 ucrt) -- "Vigorous Calisthenics" 4156
merida1macOS 10.14.6 Mojavex86_644.2.0 (2022-04-22) -- "Vigorous Calisthenics" 4221
Click on any hostname to see more info about the system (e.g. compilers)      (*) as reported by 'uname -p', except on Windows and Mac OS X

CHECK results for variancePartition on palomino3


To the developers/maintainers of the variancePartition package:
- Please allow up to 24 hours (and sometimes 48 hours) for your latest push to git@git.bioconductor.org:packages/variancePartition.git to
reflect on this report. See How and When does the builder pull? When will my changes propagate? for more information.
- Make sure to use the following settings in order to reproduce any error or warning you see on this page.

raw results

Package 2093/2140HostnameOS / ArchINSTALLBUILDCHECKBUILD BIN
variancePartition 1.26.0  (landing page)
Gabriel E. Hoffman
Snapshot Date: 2022-06-23 13:55:15 -0400 (Thu, 23 Jun 2022)
git_url: https://git.bioconductor.org/packages/variancePartition
git_branch: RELEASE_3_15
git_last_commit: b173129
git_last_commit_date: 2022-04-26 11:26:31 -0400 (Tue, 26 Apr 2022)
nebbiolo1Linux (Ubuntu 20.04.4 LTS) / x86_64  OK    OK    OK  UNNEEDED, same version is already published
palomino3Windows Server 2022 Datacenter / x64  OK    OK    OK    OK  UNNEEDED, same version is already published
merida1macOS 10.14.6 Mojave / x86_64  OK    OK    OK    NA  

Summary

Package: variancePartition
Version: 1.26.0
Command: F:\biocbuild\bbs-3.15-bioc\R\bin\R.exe CMD check --no-multiarch --install=check:variancePartition.install-out.txt --library=F:\biocbuild\bbs-3.15-bioc\R\library --no-vignettes --timings variancePartition_1.26.0.tar.gz
StartedAt: 2022-06-24 05:48:06 -0400 (Fri, 24 Jun 2022)
EndedAt: 2022-06-24 05:55:22 -0400 (Fri, 24 Jun 2022)
EllapsedTime: 436.1 seconds
RetCode: 0
Status:   OK  
CheckDir: variancePartition.Rcheck
Warnings: 0

Command output

##############################################################################
##############################################################################
###
### Running command:
###
###   F:\biocbuild\bbs-3.15-bioc\R\bin\R.exe CMD check --no-multiarch --install=check:variancePartition.install-out.txt --library=F:\biocbuild\bbs-3.15-bioc\R\library --no-vignettes --timings variancePartition_1.26.0.tar.gz
###
##############################################################################
##############################################################################


* using log directory 'F:/biocbuild/bbs-3.15-bioc/meat/variancePartition.Rcheck'
* using R version 4.2.0 (2022-04-22 ucrt)
* using platform: x86_64-w64-mingw32 (64-bit)
* using session charset: UTF-8
* using option '--no-vignettes'
* checking for file 'variancePartition/DESCRIPTION' ... OK
* checking extension type ... Package
* this is package 'variancePartition' version '1.26.0'
* checking package namespace information ... OK
* checking package dependencies ... OK
* checking if this is a source package ... OK
* checking if there is a namespace ... OK
* checking for hidden files and directories ... OK
* checking for portable file names ... OK
* checking whether package 'variancePartition' can be installed ... OK
* checking installed package size ... OK
* checking package directory ... OK
* checking 'build' directory ... OK
* checking DESCRIPTION meta-information ... OK
* checking top-level files ... OK
* checking for left-over files ... OK
* checking index information ... OK
* checking package subdirectories ... OK
* checking R files for non-ASCII characters ... OK
* checking R files for syntax errors ... OK
* checking whether the package can be loaded ... OK
* checking whether the package can be loaded with stated dependencies ... OK
* checking whether the package can be unloaded cleanly ... OK
* checking whether the namespace can be loaded with stated dependencies ... OK
* checking whether the namespace can be unloaded cleanly ... OK
* checking dependencies in R code ... OK
* checking S3 generic/method consistency ... OK
* checking replacement functions ... OK
* checking foreign function calls ... OK
* checking R code for possible problems ... OK
* checking Rd files ... OK
* checking Rd metadata ... OK
* checking Rd cross-references ... OK
* checking for missing documentation entries ... OK
* checking for code/documentation mismatches ... OK
* checking Rd \usage sections ... NOTE
S3 methods shown with full name in documentation object 'residuals.MArrayLM2':
  'residuals.MArrayLM2'

The \usage entries for S3 methods should use the \method markup and not
their full name.
See chapter 'Writing R documentation files' in the 'Writing R
Extensions' manual.
* checking Rd contents ... OK
* checking for unstated dependencies in examples ... OK
* checking contents of 'data' directory ... OK
* checking data for non-ASCII characters ... OK
* checking data for ASCII and uncompressed saves ... OK
* checking sizes of PDF files under 'inst/doc' ... OK
* checking files in 'vignettes' ... OK
* checking examples ... OK
Examples with CPU (user + system) or elapsed time > 5s
                                user system elapsed
fitVarPartModel-method         34.22   0.38   34.62
fitExtractVarPartModel-method  28.85   0.26   29.16
getTreat-method                27.80   0.35   28.31
plotCompareP-method            22.07   0.20   22.28
extractVarPart                 17.97   0.13   18.09
varPartConfInf                 16.28   0.06   16.34
sortCols-method                 9.94   0.14   10.08
plotPercentBars-method          9.52   0.07    9.59
plotVarPart-method              9.45   0.12    9.58
residuals-VarParFitList-method  7.27   0.07    7.35
dream-method                    3.60   0.11   10.63
* checking for unstated dependencies in 'tests' ... OK
* checking tests ...
  Running 'runTests.R'
 OK
* checking for unstated dependencies in vignettes ... OK
* checking package vignettes in 'inst/doc' ... OK
* checking running R code from vignettes ... SKIPPED
* checking re-building of vignette outputs ... SKIPPED
* checking PDF version of manual ... OK
* DONE

Status: 1 NOTE
See
  'F:/biocbuild/bbs-3.15-bioc/meat/variancePartition.Rcheck/00check.log'
for details.



Installation output

variancePartition.Rcheck/00install.out

##############################################################################
##############################################################################
###
### Running command:
###
###   F:\biocbuild\bbs-3.15-bioc\R\bin\R.exe CMD INSTALL variancePartition
###
##############################################################################
##############################################################################


* installing to library 'F:/biocbuild/bbs-3.15-bioc/R/library'
* installing *source* package 'variancePartition' ...
** using staged installation
** R
** data
** inst
** byte-compile and prepare package for lazy loading
in method for 'calcVarPart' with signature '"negbin"': no definition for class "negbin"
in method for 'checkModelStatus' with signature '"negbin"': no definition for class "negbin"
Creating a new generic function for 'classifyTestsF' in package 'variancePartition'
** help
Loading required namespace: variancePartition
*** installing help indices
*** copying figures
** building package indices
** installing vignettes
** testing if installed package can be loaded from temporary location
** testing if installed package can be loaded from final location
** testing if installed package keeps a record of temporary installation path
* DONE (variancePartition)

Tests output

variancePartition.Rcheck/tests/runTests.Rout


R version 4.2.0 (2022-04-22 ucrt) -- "Vigorous Calisthenics"
Copyright (C) 2022 The R Foundation for Statistical Computing
Platform: x86_64-w64-mingw32/x64 (64-bit)

R is free software and comes with ABSOLUTELY NO WARRANTY.
You are welcome to redistribute it under certain conditions.
Type 'license()' or 'licence()' for distribution details.

R is a collaborative project with many contributors.
Type 'contributors()' for more information and
'citation()' on how to cite R or R packages in publications.

Type 'demo()' for some demos, 'help()' for on-line help, or
'help.start()' for an HTML browser interface to help.
Type 'q()' to quit R.

> BiocGenerics:::testPackage("variancePartition")
Loading required package: Matrix
Dividing work into 1 chunks...

Total:2 s
Dividing work into 1 chunks...

Total:1 s
Dividing work into 1 chunks...

Total:1 s

Attaching package: 'lmerTest'

The following object is masked from 'package:lme4':

    lmer

The following object is masked from 'package:stats':

    step

Dividing work into 1 chunks...

Total:0.1 s
Removing intercept from test coefficients
Removing intercept from test coefficients
Dividing work into 1 chunks...

Total:1 s
Dividing work into 1 chunks...

Total:1 s
Dividing work into 1 chunks...

Total:8 s
Dividing work into 1 chunks...

Total:0.1 s
Dividing work into 1 chunks...

Total:0.6 s
Dividing work into 1 chunks...

Total:0.5 s
Dividing work into 1 chunks...

Total:7 s
Memory usage to store result: >487.7 Kb
Dividing work into 1 chunks...

Total:0.6 s
Memory usage to store result: >487.7 Kb
Dividing work into 1 chunks...

Total:0.6 s
Memory usage to store result: >487.7 Kb
Dividing work into 1 chunks...

Total:7 s
Dividing work into 1 chunks...

Total:1 s
Fixed effect model, using limma directly...
User can apply eBayes() afterwards...
Dividing work into 1 chunks...

Total:1 s
Fixed effect model, using limma directly...
User can apply eBayes() afterwards...
Dividing work into 1 chunks...

Total:0.4 s
Dividing work into 1 chunks...

Total:0.5 s
Memory usage to store result: >455.2 Kb
Dividing work into 1 chunks...

Total:0.3 s
Memory usage to store result: >455.2 Kb
Dividing work into 1 chunks...

Total:0.3 s
Dividing work into 1 chunks...

Total:2 s
Dividing work into 1 chunks...

Total:1 s
Removing intercept from test coefficients
Removing intercept from test coefficients
Fixed effect model, using limma directly...
User can apply eBayes() afterwards...
Memory usage to store result: >248.4 Kb
Dividing work into 5 chunks...

Total:3 s
Dividing work into 5 chunks...

Total:11 s
Dividing work into 5 chunks...

Total:11 s
Dividing work into 5 chunks...

Total:11 s
Fixed effect model, using limma directly...
User can apply eBayes() afterwards...
Fixed effect model, using limma directly...
User can apply eBayes() afterwards...
Fixed effect model, using limma directly...
User can apply eBayes() afterwards...
Memory usage to store result: >248.4 Kb
Dividing work into 5 chunks...

Total:3 s
Dividing work into 5 chunks...

Total:4 s
Dividing work into 5 chunks...

Total:4 s
Dividing work into 5 chunks...

Total:4 s
Fixed effect model, using limma directly...
Dividing work into 1 chunks...

Total:1 s
Fixed effect model, using limma directly...
User can apply eBayes() afterwards...
Dividing work into 1 chunks...

Total:1 s
Dividing work into 1 chunks...

Total:0.5 s

Total:0.05 s
Dividing work into 1 chunks...

Total:0.4 s
Memory usage to store result: >49.7 Kb
Dividing work into 1 chunks...

Total:0.7 s
Memory usage to store result: >49.7 Kb
Dividing work into 1 chunks...

Total:0.7 s


RUNIT TEST PROTOCOL -- Fri Jun 24 05:55:08 2022 
*********************************************** 
Number of test functions: 15 
Number of errors: 0 
Number of failures: 0 

 
1 Test Suite : 
variancePartition RUnit Tests - 15 test functions, 0 errors, 0 failures
Number of test functions: 15 
Number of errors: 0 
Number of failures: 0 
There were 31 warnings (use warnings() to see them)
> 
> proc.time()
   user  system elapsed 
  86.98    1.85  108.93 

Example timings

variancePartition.Rcheck/variancePartition-Ex.timings

nameusersystemelapsed
ESS-method0.190.000.20
as.data.frame.varPartResults0.340.000.35
as.matrix-varPartResults-method0.450.020.47
calcVarPart-method0.110.000.11
canCorPairs0.110.000.11
colinearityScore0.370.010.39
dream-method 3.60 0.1110.63
eBayesFMT1.220.001.22
extractVarPart17.97 0.1318.09
fitExtractVarPartModel-method28.85 0.2629.16
fitVarPartModel-method34.22 0.3834.62
getContrast-method0.020.000.01
getTreat-method27.80 0.3528.31
get_prediction-method0.090.010.13
ggColorHue000
makeContrastsDream1.930.051.98
plotCompareP-method22.07 0.2022.28
plotContrasts0.150.000.16
plotCorrMatrix0.080.020.09
plotCorrStructure0.970.010.99
plotPercentBars-method9.520.079.59
plotStratify0.830.030.86
plotStratifyBy0.720.000.72
plotVarPart-method9.450.129.58
rdf.merMod0.060.000.06
residuals-VarParFitList-method7.270.077.35
sortCols-method 9.94 0.1410.08
varPartConfInf16.28 0.0616.34
voomWithDreamWeights2.760.112.87