Back to Multiple platform build/check report for BioC 3.15
[A]BCDEFGHIJKLMNOPQRSTUVWXYZ

This page was generated on 2022-05-16 11:05:47 -0400 (Mon, 16 May 2022).

HostnameOSArch (*)R versionInstalled pkgs
nebbiolo1Linux (Ubuntu 20.04.4 LTS)x86_644.2.0 (2022-04-22) -- "Vigorous Calisthenics" 4379
palomino3Windows Server 2022 Datacenterx644.2.0 (2022-04-22 ucrt) -- "Vigorous Calisthenics" 4153
merida1macOS 10.14.6 Mojavex86_644.2.0 (2022-04-22) -- "Vigorous Calisthenics" 4220
Click on any hostname to see more info about the system (e.g. compilers)      (*) as reported by 'uname -p', except on Windows and Mac OS X

BUILD BIN results for altcdfenvs on palomino3


To the developers/maintainers of the altcdfenvs package:
- Please allow up to 24 hours (and sometimes 48 hours) for your latest push to git@git.bioconductor.org:packages/altcdfenvs.git to
reflect on this report. See How and When does the builder pull? When will my changes propagate? for more information.
- Make sure to use the following settings in order to reproduce any error or warning you see on this page.

raw results

Package 45/2140HostnameOS / ArchINSTALLBUILDCHECKBUILD BIN
altcdfenvs 2.58.0  (landing page)
Laurent Gautier
Snapshot Date: 2022-05-15 13:55:12 -0400 (Sun, 15 May 2022)
git_url: https://git.bioconductor.org/packages/altcdfenvs
git_branch: RELEASE_3_15
git_last_commit: 08255a7
git_last_commit_date: 2022-04-26 10:55:43 -0400 (Tue, 26 Apr 2022)
nebbiolo1Linux (Ubuntu 20.04.4 LTS) / x86_64  OK    OK    OK  UNNEEDED, same version is already published
palomino3Windows Server 2022 Datacenter / x64  OK    OK    OK    OK  UNNEEDED, same version is already published
merida1macOS 10.14.6 Mojave / x86_64  OK    OK    OK    OK  UNNEEDED, same version is already published

Summary

Package: altcdfenvs
Version: 2.58.0
Command: rm -rf altcdfenvs.buildbin-libdir && mkdir altcdfenvs.buildbin-libdir && F:\biocbuild\bbs-3.15-bioc\R\bin\R.exe CMD INSTALL --build --library=altcdfenvs.buildbin-libdir altcdfenvs_2.58.0.tar.gz
StartedAt: 2022-05-16 04:47:06 -0400 (Mon, 16 May 2022)
EndedAt: 2022-05-16 04:47:29 -0400 (Mon, 16 May 2022)
EllapsedTime: 23.5 seconds
RetCode: 0
Status:   OK  
PackageFile: altcdfenvs_2.58.0.zip
PackageFileSize: 778.6 KiB

Command output

##############################################################################
##############################################################################
###
### Running command:
###
###   rm -rf altcdfenvs.buildbin-libdir && mkdir altcdfenvs.buildbin-libdir && F:\biocbuild\bbs-3.15-bioc\R\bin\R.exe CMD INSTALL --build --library=altcdfenvs.buildbin-libdir altcdfenvs_2.58.0.tar.gz
###
##############################################################################
##############################################################################


* installing *source* package 'altcdfenvs' ...
** using staged installation
** R
** data
** inst
** byte-compile and prepare package for lazy loading
NOTE: arguments in definition for validity method for class 'AffyProbesMatch' changed from (obj) to (object)
in method for 'toHypergraph' with signature '"CdfEnvAffy"': no definition for class "CdfEnvAffy"
** help
*** installing help indices
** building package indices
** installing vignettes
** testing if installed package can be loaded from temporary location
** testing if installed package can be loaded from final location
** testing if installed package keeps a record of temporary installation path
* MD5 sums
packaged installation of 'altcdfenvs' as altcdfenvs_2.58.0.zip
* DONE (altcdfenvs)