Mac ARM64 build report for BioC 3.18

This page was generated on 2024-03-28 11:32:35 -0400 (Thu, 28 Mar 2024).

Approx. Package Snapshot Date (git pull): 2024-03-26 09:00:03 -0400 (Tue, 26 Mar 2024)

HostnameOSArch (*)R versionInstalled pkgs
kjohnson1macOS 13.6.1 Venturaarm644.3.3 (2024-02-29) -- "Angel Food Cake" 4376
Click on any hostname to see more info about the system (e.g. compilers)      (*) as reported by 'uname -p', except on Windows and Mac OS X

Package status is indicated by one of the following glyphs
  TIMEOUT  
INSTALL, BUILD, CHECK or BUILD BIN of package took more than 40 minutes
  ERROR  
Bad DESCRIPTION file, or INSTALL, BUILD or BUILD BIN of package failed, or CHECK produced errors
  WARNINGS  
CHECK of package produced warnings
  OK  
INSTALL, BUILD, CHECK or BUILD BIN of package went OK
  NA  
INSTALL, BUILD, CHECK or BUILD BIN result is not available because of an anomaly in the Build System
skipped
CHECK or BUILD BIN of package was skipped because the BUILD step failed
Click on any glyph in the report below to access the detailed report.
Package propagation status is indicated by one of the following LEDs
YES YES: Package was propagated because it didn't previously exist or version was bumped
NO NO: Package was not propagated because of a problem (impossible dependencies, or version lower than what is already propagated)
UNNEEDED UNNEEDED: Package was not propagated because it is already in the repository with this version. A version bump is required in order to propagate it

A crossed-out package name indicates the package is deprecated


QUICK STATSOS / ArchINSTALLBUILDCHECKBUILD BIN
kjohnson1macOS 13.6.1 Ventura / arm64
0352217
31302119
2753991643
022117
A
ABCDEFGHIJKLMNOPQRSTUVWXYZ
PackageMaintainerINSTALLBUILDCHECKBUILD BIN
1/2266a4 1.50.1  (landing page)Laure Cougnaud  OK    OK    OK    OK  UNNEEDED, same version is already published
2/2266a4Base 1.50.0  (landing page)Laure Cougnaud  OK    OK    OK    OK  UNNEEDED, same version is already published
3/2266a4Classif 1.50.0  (landing page)Laure Cougnaud  OK    OK    OK    OK  UNNEEDED, same version is already published
4/2266a4Core 1.50.0  (landing page)Laure Cougnaud  OK    OK    OK    OK  UNNEEDED, same version is already published
5/2266a4Preproc 1.50.0  (landing page)Laure Cougnaud  OK    OK    OK    OK  UNNEEDED, same version is already published
6/2266a4Reporting 1.50.0  (landing page)Laure Cougnaud  OK    OK    OK    OK  UNNEEDED, same version is already published
7/2266ABarray 1.70.0  (landing page)Yongming Andrew Sun  OK    OK    OK    OK  UNNEEDED, same version is already published
8/2266abseqR 1.20.0  (landing page)JiaHong Fong  OK    OK    OK    OK  UNNEEDED, same version is already published
9/2266ABSSeq 1.56.0  (landing page)Wentao Yang  OK    OK    OK    OK  UNNEEDED, same version is already published
10/2266acde 1.32.0  (landing page)Juan Pablo Acosta  OK    OK    OK    OK  UNNEEDED, same version is already published
11/2266ACE 1.20.0  (landing page)Jos B Poell  OK    OK    OK    OK  UNNEEDED, same version is already published
12/2266aCGH 1.80.0  (landing page)Peter Dimitrov  OK    OK    OK    OK  UNNEEDED, same version is already published
13/2266ACME 2.58.0  (landing page)Sean Davis  OK    OK    OK    OK  UNNEEDED, same version is already published
14/2266ADaCGH2 2.42.0  (landing page)Ramon Diaz-Uriarte  OK    OK    OK    OK  UNNEEDED, same version is already published
15/2266ADAM 1.18.0  (landing page)Jose Luiz Rybarczyk Filho  OK    OK    OK    OK  UNNEEDED, same version is already published
16/2266ADAMgui 1.18.0  (landing page)Jose Luiz Rybarczyk Filho  OK    OK    OK    OK  UNNEEDED, same version is already published
17/2266adductomicsR 1.18.0  (landing page)Josie Hayes  OK    OK    WARNINGS    OK  UNNEEDED, same version is already published
18/2266ADImpute 1.12.0  (landing page)Ana Carolina Leote  OK    OK    WARNINGS    OK  UNNEEDED, same version is already published
19/2266adSplit 1.72.0  (landing page)Claudio Lottaz  OK    OK    OK    OK  UNNEEDED, same version is already published
20/2266adverSCarial 1.0.0  (landing page)Ghislain FIEVET  OK    OK    OK    OK  UNNEEDED, same version is already published
21/2266AffiXcan 1.20.0  (landing page)Alessandro Lussana  OK    OK    OK    OK  UNNEEDED, same version is already published
22/2266affxparser 1.74.0  (landing page)Kasper Daniel Hansen  OK    OK    WARNINGS    OK  UNNEEDED, same version is already published
23/2266affy 1.80.0  (landing page)Robert D. Shear  OK    OK    WARNINGS    OK  UNNEEDED, same version is already published
24/2266affycomp 1.78.0  (landing page)Robert D. Shear  OK    OK    OK    OK  UNNEEDED, same version is already published
25/2266affyContam 1.60.0  (landing page)V. Carey  OK    OK    OK    OK  UNNEEDED, same version is already published
26/2266affycoretools 1.74.0  (landing page)James W. MacDonald  OK    OK    OK    OK  UNNEEDED, same version is already published
27/2266affyILM 1.54.0  (landing page)Myriam Kroll and Fabrice Berger  OK    OK    OK    OK  UNNEEDED, same version is already published
28/2266affyio 1.72.0  (landing page)Ben Bolstad  OK    OK    WARNINGS    OK  UNNEEDED, same version is already published
29/2266affylmGUI 1.76.0  (landing page)Gordon Smyth  OK    OK    OK    OK  UNNEEDED, same version is already published
30/2266affyPLM 1.78.0  (landing page)Ben Bolstad  OK    OK    OK    OK  UNNEEDED, same version is already published
31/2266AffyRNADegradation 1.48.0  (landing page)Mario Fasold  OK    OK    OK    OK  UNNEEDED, same version is already published
32/2266AGDEX 1.50.0  (landing page)Cuilan lani Gao  OK    OK    OK    OK  UNNEEDED, same version is already published
33/2266aggregateBioVar 1.12.0  (landing page)Jason Ratcliff  OK    OK    OK    OK  UNNEEDED, same version is already published
34/2266agilp 3.34.0  (landing page)Benny Chain  OK    OK    OK    OK  UNNEEDED, same version is already published
35/2266AgiMicroRna 2.52.0  (landing page)Pedro Lopez-Romero  OK    OK    WARNINGS    OK  UNNEEDED, same version is already published
36/2266AHMassBank 1.2.1  (landing page)Johannes Rainer  OK    OK    OK    OK  UNNEEDED, same version is already published
37/2266AIMS 1.34.0  (landing page)Eric R Paquet  OK    OK    OK    OK  UNNEEDED, same version is already published
38/2266airpart 1.10.0  (landing page)Wancen Mu  OK    OK    OK    OK  UNNEEDED, same version is already published
39/2266alabaster 1.2.0  (landing page)Aaron Lun  OK    OK    OK    OK  UNNEEDED, same version is already published
40/2266alabaster.base 1.2.1  (landing page)Aaron Lun  OK    OK    WARNINGS    OK  UNNEEDED, same version is already published
41/2266alabaster.bumpy 1.2.0  (landing page)Aaron Lun  OK    OK    OK    OK  UNNEEDED, same version is already published
42/2266alabaster.files 1.0.0  (landing page)Aaron Lun  OK    OK    OK    OK  UNNEEDED, same version is already published
43/2266alabaster.mae 1.2.0  (landing page)Aaron Lun  OK    OK    OK    OK  UNNEEDED, same version is already published
44/2266alabaster.matrix 1.2.0  (landing page)Aaron Lun  OK    OK    OK    OK  UNNEEDED, same version is already published
45/2266alabaster.ranges 1.2.0  (landing page)Aaron Lun  OK    OK    OK    OK  UNNEEDED, same version is already published
46/2266alabaster.sce 1.2.0  (landing page)Aaron Lun  OK    OK    OK    OK  UNNEEDED, same version is already published
47/2266alabaster.schemas 1.2.0  (landing page)Aaron Lun  OK    OK    OK    OK  UNNEEDED, same version is already published
48/2266alabaster.se 1.2.0  (landing page)Aaron Lun  OK    OK    OK    OK  UNNEEDED, same version is already published
49/2266alabaster.spatial 1.2.0  (landing page)Aaron Lun  OK    OK    OK    OK  UNNEEDED, same version is already published
50/2266alabaster.string 1.2.0  (landing page)Aaron Lun  OK    OK    OK    OK  UNNEEDED, same version is already published
51/2266alabaster.vcf 1.2.0  (landing page)Aaron Lun  OK    OK    OK    OK  UNNEEDED, same version is already published
52/2266ALDEx2 1.34.0  (landing page)Greg Gloor  OK    OK    OK    OK  UNNEEDED, same version is already published
53/2266alevinQC 1.18.0  (landing page)Charlotte Soneson  OK    OK    OK    OK  UNNEEDED, same version is already published
54/2266AllelicImbalance 1.40.0  (landing page)Jesper R Gadin  OK    OK    OK    OK  UNNEEDED, same version is already published
55/2266AlphaBeta 1.16.0  (landing page)Yadollah Shahryary Dizaji  OK    OK    OK    OK  UNNEEDED, same version is already published
56/2266AlpsNMR 4.4.0  (landing page)Sergio Oller Moreno  OK    OK    OK    OK  UNNEEDED, same version is already published
57/2266altcdfenvs 2.64.0  (landing page)Laurent Gautier  OK    OK    OK    OK  UNNEEDED, same version is already published
58/2266AMARETTO 1.18.0  (landing page)Olivier Gevaert  OK    OK    WARNINGS    OK  UNNEEDED, same version is already published
59/2266AMOUNTAIN 1.28.0  (landing page)Dong Li  OK    OK    OK    OK  UNNEEDED, same version is already published
60/2266amplican 1.24.0  (landing page)Eivind Valen  OK    OK    OK    OK  UNNEEDED, same version is already published
61/2266Anaquin 2.26.0  (landing page)Ted Wong  OK    OK    OK    OK  UNNEEDED, same version is already published
62/2266ANCOMBC 2.4.0  (landing page)Huang Lin  OK    OK    OK    OK  UNNEEDED, same version is already published
63/2266AneuFinder 1.30.0  (landing page)Aaron Taudt  OK    OK    OK    OK  UNNEEDED, same version is already published
64/2266ANF 1.24.1  (landing page)Tianle Ma  OK    OK    OK    OK  UNNEEDED, same version is already published
65/2266animalcules 1.18.3  (landing page)Jessica McClintock  OK    OK    ERROR    OK  
66/2266annaffy 1.74.0  (landing page)Colin A. Smith  OK    OK    WARNINGS    OK  UNNEEDED, same version is already published
67/2266annmap 1.44.0  (landing page)Chris Wirth  OK    OK    WARNINGS    OK  UNNEEDED, same version is already published
68/2266annotate 1.80.0  (landing page)Bioconductor Package Maintainer  OK    OK    OK    OK  UNNEEDED, same version is already published
69/2266AnnotationDbi 1.64.1  (landing page)Bioconductor Package Maintainer  OK    OK    WARNINGS    OK  UNNEEDED, same version is already published
70/2266AnnotationFilter 1.26.0  (landing page)Bioconductor Package Maintainer  OK    OK    OK    OK  UNNEEDED, same version is already published
71/2266AnnotationForge 1.44.0  (landing page)Bioconductor Package Maintainer  OK    OK    OK    OK  UNNEEDED, same version is already published
72/2266AnnotationHub 3.10.0  (landing page)Bioconductor Package Maintainer  OK    OK    WARNINGS    OK  UNNEEDED, same version is already published
73/2266AnnotationHubData 1.32.1  (landing page)Bioconductor Package Maintainer  OK    OK    WARNINGS    OK  UNNEEDED, same version is already published
74/2266annotationTools 1.76.0  (landing page)Alexandre Kuhn  OK    OK    OK    OK  UNNEEDED, same version is already published
75/2266annotatr 1.28.0  (landing page)Raymond G. Cavalcante  OK    OK    OK    OK  UNNEEDED, same version is already published
76/2266anota 1.50.0  (landing page)Ola Larsson  OK    OK    OK    OK  UNNEEDED, same version is already published
77/2266anota2seq 1.24.0  (landing page)Christian Oertlin , Ola Larsson  OK    OK    OK    OK  UNNEEDED, same version is already published
78/2266antiProfiles 1.42.0  (landing page)Hector Corrada Bravo  OK    OK    OK    OK  UNNEEDED, same version is already published
79/2266AnVIL 1.14.2  (landing page)Marcel Ramos  OK    OK    OK    OK  UNNEEDED, same version is already published
80/2266AnVILBilling 1.12.0  (landing page)Vince Carey  OK    OK    OK    OK  UNNEEDED, same version is already published
81/2266AnVILPublish 1.12.0  (landing page)Marcel Ramos  OK    OK    OK    OK  UNNEEDED, same version is already published
82/2266AnVILWorkflow 1.2.0  (landing page)Sehyun Oh  OK    OK    OK    OK  UNNEEDED, same version is already published
83/2266APAlyzer 1.16.0  (landing page)Ruijia Wang  OK    OK    WARNINGS    OK  UNNEEDED, same version is already published
84/2266apComplex 2.68.0  (landing page)Denise Scholtens  OK    OK    OK    OK  UNNEEDED, same version is already published
85/2266apeglm 1.24.0  (landing page)Anqi Zhu  OK    OK    OK    OK  UNNEEDED, same version is already published
86/2266APL 1.6.1  (landing page)Clemens Kohl  OK    OK    OK    OK  UNNEEDED, same version is already published
87/2266appreci8R 1.20.2  (landing page)Sarah Sandmann  OK    OK    OK    OK  UNNEEDED, same version is already published
88/2266aroma.light 3.32.0  (landing page)Henrik Bengtsson  OK    OK    OK    OK  UNNEEDED, same version is already published
89/2266ArrayExpress 1.62.0  (landing page)Jose Marugan  OK    OK    OK    OK  UNNEEDED, same version is already published
90/2266arrayMvout 1.60.0  (landing page)V. Carey  OK    OK    OK    OK  UNNEEDED, same version is already published
91/2266arrayQuality 1.80.0  (landing page)Agnes Paquet  OK    OK    WARNINGS    OK  UNNEEDED, same version is already published
92/2266arrayQualityMetrics 3.58.0  (landing page)Mike Smith  OK    OK    OK    OK  UNNEEDED, same version is already published
93/2266ARRmNormalization 1.42.0  (landing page)Jean-Philippe Fortin  OK    OK    OK    OK  UNNEEDED, same version is already published
94/2266artMS 1.20.0  (landing page)David Jimenez-Morales  OK    OK    OK    OK  UNNEEDED, same version is already published
95/2266ASAFE 1.28.0  (landing page)Qian Zhang  OK    OK    OK    OK  UNNEEDED, same version is already published
96/2266ASEB 1.46.3  (landing page)Likun Wang  OK    OK    WARNINGS    OK  UNNEEDED, same version is already published
97/2266ASGSCA 1.36.0  (landing page)Hela Romdhani  OK    OK    OK    OK  UNNEEDED, same version is already published
98/2266ASICS 2.18.1  (landing page)Gaëlle Lefort  OK    OK    OK    OK  UNNEEDED, same version is already published
99/2266ASpli 2.12.0  (landing page)Ariel Chernomoretz  OK    OK    WARNINGS    OK  UNNEEDED, same version is already published
100/2266AssessORF 1.20.0  (landing page)Deepank Korandla  OK    OK    OK    OK  UNNEEDED, same version is already published
101/2266ASSET 2.20.0  (landing page)Samsiddhi Bhattacharjee  OK    OK    OK    OK  UNNEEDED, same version is already published
102/2266ASSIGN 1.38.0  (landing page)Ying Shen , W. Evan Johnson  OK    OK    OK    OK  UNNEEDED, same version is already published
103/2266ASURAT 1.6.0  (landing page)Keita Iida  OK    OK    OK    OK  UNNEEDED, same version is already published
104/2266ATACCoGAPS 1.4.0  (landing page)Rossin Erbe  OK    OK    OK    OK  NO, package depends on 'TFBSTools' which is only available as a source package that needs compilation
105/2266ATACseqQC 1.26.0  (landing page)Jianhong Ou  OK    OK    OK    OK  UNNEEDED, same version is already published
106/2266ATACseqTFEA 1.4.0  (landing page)Jianhong Ou  OK    OK    OK    OK  NO, package depends on 'motifmatchr' which is only available as a source package that needs compilation
107/2266atena 1.8.0  (landing page)Beatriz Calvo-Serra  OK    OK    OK    OK  UNNEEDED, same version is already published
108/2266atSNP 1.18.0  (landing page)Sunyoung Shin  OK    OK    OK    OK  UNNEEDED, same version is already published
109/2266attract 1.54.0  (landing page)Samuel Zimmerman  OK    OK    OK    OK  UNNEEDED, same version is already published
110/2266AUCell 1.24.0  (landing page)Sara Aibar  OK    OK    ERROR    OK  
111/2266autonomics 1.10.2  (landing page)Aditya Bhagwat  OK    ERROR  skippedskipped
112/2266AWFisher 1.16.0  (landing page)Zhiguang Huo  OK    OK    OK    OK  UNNEEDED, same version is already published
113/2266awst 1.10.0  (landing page)Davide Risso  OK    OK    OK    OK  UNNEEDED, same version is already published
B
ABCDEFGHIJKLMNOPQRSTUVWXYZ
PackageMaintainerINSTALLBUILDCHECKBUILD BIN
114/2266BaalChIP 1.28.0  (landing page)Ines de Santiago  OK    OK    WARNINGS    OK  UNNEEDED, same version is already published
115/2266bacon 1.30.0  (landing page)Maarten van Iterson  OK    OK    OK    OK  UNNEEDED, same version is already published
116/2266BADER 1.40.0  (landing page)Andreas Neudecker  OK    OK    OK    OK  UNNEEDED, same version is already published
117/2266BadRegionFinder 1.30.0  (landing page)Sarah Sandmann  OK    OK    OK    OK  UNNEEDED, same version is already published
118/2266BAGS 2.42.0  (landing page)Alejandro Quiroz-Zarate  OK    OK    OK    OK  UNNEEDED, same version is already published
119/2266ballgown 2.34.0  (landing page)Jack Fu  OK    OK    OK    OK  UNNEEDED, same version is already published
120/2266bambu 3.4.0  (landing page)Ying Chen  OK    OK    OK    OK  UNNEEDED, same version is already published
121/2266bamsignals 1.34.0  (landing page)Johannes Helmuth  OK    OK    WARNINGS    OK  UNNEEDED, same version is already published
122/2266BANDITS 1.18.1  (landing page)Simone Tiberi  OK    OK    OK    OK  UNNEEDED, same version is already published
123/2266bandle 1.6.0  (landing page)Oliver M. Crook  OK    OK    WARNINGS    OK  UNNEEDED, same version is already published
124/2266banocc 1.26.0  (landing page)George Weingart  OK    OK    OK    OK  UNNEEDED, same version is already published
125/2266barcodetrackR 1.10.0  (landing page)Diego Alexander Espinoza  OK    OK    OK    OK  UNNEEDED, same version is already published
126/2266basecallQC 1.26.0  (landing page)Thomas Carroll  OK    OK    OK    OK  UNNEEDED, same version is already published
127/2266BaseSpaceR 1.46.0  (landing page)Jared O'Connell  OK    OK    WARNINGS    OK  UNNEEDED, same version is already published
128/2266Basic4Cseq 1.38.0  (landing page)Carolin Walter  OK    OK    OK    OK  UNNEEDED, same version is already published
129/2266BASiCS 2.14.0  (landing page)Catalina Vallejos  OK    OK    WARNINGS    OK  UNNEEDED, same version is already published
130/2266BASiCStan 1.4.0  (landing page)Alan O'Callaghan  OK    OK    OK    OK  UNNEEDED, same version is already published
131/2266BasicSTARRseq 1.30.0  (landing page)Annika Buerger  OK    OK    OK    OK  UNNEEDED, same version is already published
132/2266basilisk 1.14.3  (landing page)Aaron Lun  OK    OK    OK    OK  UNNEEDED, same version is already published
133/2266basilisk.utils 1.14.1  (landing page)Aaron Lun  OK    OK    OK    OK  UNNEEDED, same version is already published
134/2266batchelor 1.18.1  (landing page)Aaron Lun  OK    OK    OK    OK  UNNEEDED, same version is already published
135/2266BatchQC 1.30.0  (landing page)Solaiappan Manimaran  OK    OK    OK    OK  UNNEEDED, same version is already published
136/2266BayesKnockdown 1.28.0  (landing page)William Chad Young  OK    OK    OK    OK  UNNEEDED, same version is already published
137/2266BayesSpace 1.12.0  (landing page)Matt Stone  OK    OK    OK    OK  UNNEEDED, same version is already published
138/2266bayNorm 1.20.0  (landing page)Wenhao Tang  OK    OK    OK    OK  UNNEEDED, same version is already published
139/2266baySeq 2.36.0  (landing page)Thomas J. Hardcastle  OK    OK    WARNINGS    OK  UNNEEDED, same version is already published
140/2266BBCAnalyzer 1.32.0  (landing page)Sarah Sandmann  OK    OK    OK    OK  UNNEEDED, same version is already published
141/2266BCRANK 1.64.0  (landing page)Adam Ameur  OK    OK    OK    OK  UNNEEDED, same version is already published
142/2266bcSeq 1.24.0  (landing page)Jiaxing Lin  OK    OK    WARNINGS    OK  UNNEEDED, same version is already published
143/2266BDMMAcorrect 1.20.0  (landing page)ZHENWEI DAI  OK    OK    OK    OK  UNNEEDED, same version is already published
144/2266beachmat 2.18.1  (landing page)Aaron Lun  OK    OK    OK    OK  UNNEEDED, same version is already published
145/2266beachmat.hdf5 1.0.0  (landing page)Aaron Lun  OK    OK    WARNINGS    OK  UNNEEDED, same version is already published
146/2266beadarray 2.52.0  (landing page)Mark Dunning  OK    OK    OK    OK  UNNEEDED, same version is already published
147/2266beadarraySNP 1.68.0  (landing page)Jan Oosting  OK    OK    OK    OK  UNNEEDED, same version is already published
148/2266BeadDataPackR 1.54.0  (landing page)Mike Smith  OK    OK    OK    OK  UNNEEDED, same version is already published
149/2266BEARscc 1.22.0  (landing page)Benjamin Schuster-Boeckler  OK    OK    OK    OK  UNNEEDED, same version is already published
150/2266BEAT 1.40.0  (landing page)Kemal Akman  OK    OK    OK    OK  UNNEEDED, same version is already published
151/2266BEclear 2.18.0  (landing page)Livia Rasp  OK    ERROR  skippedskipped
152/2266beer 1.6.0  (landing page)Athena Chen  OK    OK    OK    OK  UNNEEDED, same version is already published
153/2266benchdamic 1.8.2  (landing page)Matteo Calgaro  OK    OK    OK    OK  UNNEEDED, same version is already published
154/2266BG2 1.2.0  (landing page)Jacob Williams  OK    OK    OK    OK  UNNEEDED, same version is already published
155/2266BgeeCall 1.18.1  (landing page)Julien Wollbrett  OK    OK    OK    OK  UNNEEDED, same version is already published
156/2266BgeeDB 2.28.0  (landing page)Julien Wollbrett , Julien Roux , Andrea Komljenovic , Frederic Bastian  OK    OK    OK    OK  UNNEEDED, same version is already published
157/2266BGmix 1.62.0  (landing page)Alex Lewin  ERROR    ERROR  skippedskipped
158/2266bgx 1.68.3  (landing page)Ernest Turro  OK    OK    OK    OK  UNNEEDED, same version is already published
159/2266BHC 1.54.0  (landing page)Rich Savage  ERROR    ERROR  skippedskipped
160/2266BicARE 1.60.0  (landing page)Pierre Gestraud  OK    OK    OK    OK  UNNEEDED, same version is already published
161/2266BiFET 1.22.0  (landing page)Ahrim Youn  OK    OK    OK    OK  UNNEEDED, same version is already published
162/2266BiGGR   (landing page)... NOT SUPPORTED ...
163/2266bigmelon 1.28.0  (landing page)Leonard C. Schalkwyk  OK    OK    WARNINGS    OK  UNNEEDED, same version is already published
164/2266bigPint 1.18.1  (landing page)Lindsay Rutter  OK    OK    ERROR    OK  
165/2266BindingSiteFinder 2.0.0  (landing page)Mirko Brüggemann  OK    OK    OK    OK  UNNEEDED, same version is already published
166/2266bioassayR 1.40.0  (landing page)Daniela Cassol  OK    OK    ERROR    OK  
167/2266Biobase 2.62.0  (landing page)Bioconductor Package Maintainer  OK    OK    OK    OK  UNNEEDED, same version is already published
168/2266biobroom 1.34.0  (landing page)John D. Storey and Andrew J. Bass  OK    OK    WARNINGS    OK  UNNEEDED, same version is already published
169/2266biobtreeR   (landing page)... NOT SUPPORTED ...
170/2266bioCancer 1.30.8  (landing page)Karim Mezhoud  OK    OK    OK    OK  UNNEEDED, same version is already published
171/2266BioCartaImage 1.0.0  (landing page)Zuguang Gu  OK    OK    OK    OK  UNNEEDED, same version is already published
172/2266BiocBaseUtils 1.4.0  (landing page)Marcel Ramos  OK    OK    OK    OK  UNNEEDED, same version is already published
173/2266BiocBook 1.0.0  (landing page)Jacques Serizay  OK    OK    OK    OK  UNNEEDED, same version is already published
174/2266BiocCheck 1.38.2  (landing page)Marcel Ramos  OK    OK    OK    OK  UNNEEDED, same version is already published
175/2266BiocFHIR 1.4.0  (landing page)Vincent Carey  OK    OK    OK    OK  UNNEEDED, same version is already published
176/2266BiocFileCache 2.10.1  (landing page)Lori Shepherd  OK    OK    ERROR    OK  
177/2266BiocGenerics 0.48.1  (landing page)Hervé Pagès  OK    OK    WARNINGS    OK  UNNEEDED, same version is already published
178/2266biocGraph 1.64.0  (landing page)Florian Hahne  OK    OK    OK    OK  UNNEEDED, same version is already published
179/2266BiocHail   (landing page)... NOT SUPPORTED ...
180/2266BiocHubsShiny 1.2.0  (landing page)Marcel Ramos  OK    OK    OK    OK  UNNEEDED, same version is already published
181/2266BiocIO 1.12.0  (landing page)Marcel Ramos  OK    OK    OK    OK  UNNEEDED, same version is already published
182/2266BiocNeighbors 1.20.2  (landing page)Aaron Lun  OK    OK    WARNINGS    OK  UNNEEDED, same version is already published
183/2266BiocOncoTK 1.22.0  (landing page)VJ Carey  ERROR    ERROR  skippedskipped
184/2266BioCor 1.26.0  (landing page)Lluís Revilla Sancho  OK    OK    OK    OK  UNNEEDED, same version is already published
185/2266BiocParallel 1.36.0  (landing page)Martin Morgan  OK    OK    OK    OK  UNNEEDED, same version is already published
186/2266BiocPkgTools 1.20.0  (landing page)Sean Davis  OK    OK    OK    OK  UNNEEDED, same version is already published
187/2266BiocSet 1.16.1  (landing page)Kayla Morrell  OK    OK    OK    OK  UNNEEDED, same version is already published
188/2266BiocSingular 1.18.0  (landing page)Aaron Lun  OK    ERROR  skippedskipped
189/2266BiocSklearn 1.24.0  (landing page)Vince Carey  OK    OK    OK    OK  UNNEEDED, same version is already published
190/2266BiocStyle 2.30.0  (landing page)Bioconductor Package  OK    OK    OK    OK  UNNEEDED, same version is already published
191/2266biocthis 1.12.0  (landing page)Leonardo Collado-Torres  OK    OK    OK    OK  UNNEEDED, same version is already published
192/2266BiocVersion 3.18.1  (landing page)Bioconductor Package Maintainer  OK    OK    OK    OK  UNNEEDED, same version is already published
193/2266biocViews 1.70.0  (landing page)Bioconductor Package Maintainer  OK    OK    OK    OK  UNNEEDED, same version is already published
194/2266BiocWorkflowTools 1.28.0  (landing page)Mike Smith  OK    OK    OK    OK  UNNEEDED, same version is already published
195/2266biodb 1.10.0  (landing page)Pierrick Roger  OK    OK    OK    OK  UNNEEDED, same version is already published
196/2266biodbChebi 1.8.0  (landing page)Pierrick Roger  OK    OK    OK    OK  UNNEEDED, same version is already published
197/2266biodbExpasy 1.6.0  (landing page)Pierrick Roger  OK    OK    OK    OK  UNNEEDED, same version is already published
198/2266biodbHmdb 1.8.0  (landing page)Pierrick Roger  OK    OK    WARNINGS    OK  UNNEEDED, same version is already published
199/2266biodbKegg 1.8.0  (landing page)Pierrick Roger  OK    OK    OK    OK  UNNEEDED, same version is already published
200/2266biodbLipidmaps 1.8.0  (landing page)Pierrick Roger  OK    OK    ERROR    OK  
201/2266biodbMirbase 1.6.0  (landing page)Pierrick Roger  ERROR    ERROR  skippedskipped
202/2266biodbNcbi 1.6.0  (landing page)Pierrick Roger  OK    OK    OK    OK  UNNEEDED, same version is already published
203/2266biodbNci 1.6.0  (landing page)Pierrick Roger  OK    OK    OK    OK  UNNEEDED, same version is already published
204/2266biodbUniprot 1.8.0  (landing page)Pierrick Roger  OK    OK    OK    OK  UNNEEDED, same version is already published
205/2266bioDist 1.74.0  (landing page)Bioconductor Package Maintainer  OK    OK    OK    OK  UNNEEDED, same version is already published
206/2266biomaRt 2.58.2  (landing page)Mike Smith  OK    OK    OK    OK  UNNEEDED, same version is already published
207/2266biomformat 1.30.0  (landing page)Paul J. McMurdie  OK    OK    OK    OK  UNNEEDED, same version is already published
208/2266BioMM 1.18.0  (landing page)Junfang Chen  OK    ERROR  skippedskipped
209/2266BioMVCClass 1.70.0  (landing page)Elizabeth Whalen  OK    OK    OK    OK  UNNEEDED, same version is already published
210/2266biomvRCNS 1.42.2  (landing page)Yang Du  OK    OK    OK    OK  UNNEEDED, same version is already published
211/2266BioNAR 1.4.4  (landing page)Anatoly Sorokin  OK    OK    OK    OK  UNNEEDED, same version is already published
212/2266BioNERO 1.10.3  (landing page)Fabricio Almeida-Silva  OK    OK    OK    OK  YES
213/2266BioNet 1.62.0  (landing page)Marcus Dittrich  OK    OK    OK    OK  UNNEEDED, same version is already published
214/2266BioNetStat 1.22.0  (landing page)Vinicius Jardim  OK    OK    ERROR    OK  
215/2266BioQC 1.30.0  (landing page)Jitao David Zhang  OK    OK    OK    OK  UNNEEDED, same version is already published
216/2266biosigner 1.30.0  (landing page)Etienne A. Thevenot  OK    OK    ERROR    OK  
217/2266Biostrings 2.70.3  (landing page)Hervé Pagès  OK    OK    WARNINGS    OK  UNNEEDED, same version is already published
218/2266BioTIP 1.16.0  (landing page)Yuxi (Jennifer) Sun , Zhezhen Wang , and X Holly Yang  OK    OK    WARNINGS    OK  UNNEEDED, same version is already published
219/2266biotmle 1.26.0  (landing page)Nima Hejazi  OK    OK    OK    OK  UNNEEDED, same version is already published
220/2266biovizBase 1.50.0  (landing page)Michael Lawrence  OK    OK    WARNINGS    OK  UNNEEDED, same version is already published
221/2266BiRewire 3.34.0  (landing page)Andrea Gobbi  OK    OK    OK    OK  UNNEEDED, same version is already published
222/2266biscuiteer 1.16.0  (landing page)Jacob Morrison  OK    OK    WARNINGS    OK  UNNEEDED, same version is already published
223/2266BiSeq 1.42.0  (landing page)Katja Hebestreit  OK    OK    OK    OK  UNNEEDED, same version is already published
224/2266blacksheepr 1.16.0  (landing page)RugglesLab  OK    OK    OK    OK  UNNEEDED, same version is already published
225/2266blima 1.36.0  (landing page)Vojtěch Kulvait  OK    OK    WARNINGS    OK  UNNEEDED, same version is already published
226/2266BLMA 1.26.0  (landing page)Hung Nguyen  OK    OK    OK    OK  UNNEEDED, same version is already published
227/2266BloodGen3Module 1.10.0  (landing page)Darawan Rinchai  OK    OK    WARNINGS    OK  UNNEEDED, same version is already published
228/2266bluster 1.12.0  (landing page)Aaron Lun  OK    ERROR  skippedskipped
229/2266bnbc 1.24.2  (landing page)Kipper Fletez-Brant  OK    OK    OK    OK  UNNEEDED, same version is already published
230/2266bnem 1.10.0  (landing page)Martin Pirkl  OK    OK    OK    OK  UNNEEDED, same version is already published
231/2266BOBaFIT 1.6.0  (landing page)Gaia Mazzocchetti  OK    OK    WARNINGS    OK  UNNEEDED, same version is already published
232/2266borealis 1.6.0  (landing page)Garrett Jenkinson  OK    OK    OK    OK  UNNEEDED, same version is already published
233/2266BPRMeth 1.28.0  (landing page)Chantriolnt-Andreas Kapourani  OK    OK    OK    OK  UNNEEDED, same version is already published
234/2266BRAIN 1.48.0  (landing page)Piotr Dittwald  OK    OK    WARNINGS    OK  UNNEEDED, same version is already published
235/2266brainflowprobes 1.16.0  (landing page)Amanda Price  OK    OK    OK    OK  UNNEEDED, same version is already published
236/2266branchpointer 1.28.0  (landing page)Beth Signal  OK    OK    OK    OK  UNNEEDED, same version is already published
237/2266breakpointR 1.20.0  (landing page)David Porubsky  OK    OK    OK    OK  UNNEEDED, same version is already published
238/2266brendaDb 1.16.0  (landing page)Yi Zhou  OK    OK    OK    OK  UNNEEDED, same version is already published
239/2266BRGenomics 1.14.1  (landing page)Mike DeBerardine  OK    OK    OK    OK  UNNEEDED, same version is already published
240/2266BridgeDbR 2.12.0  (landing page)Egon Willighagen  OK    OK    OK    OK  UNNEEDED, same version is already published
241/2266BrowserViz 2.24.0  (landing page)Arkadiusz Gladki  OK    OK    OK    OK  UNNEEDED, same version is already published
242/2266BSgenome 1.70.2  (landing page)Hervé Pagès  OK    OK    WARNINGS    OK  UNNEEDED, same version is already published
243/2266BSgenomeForge 1.2.3  (landing page)Hervé Pagès  OK    OK    OK    OK  YES
244/2266bsseq 1.38.0  (landing page)Kasper Daniel Hansen  OK    OK    OK    OK  UNNEEDED, same version is already published
245/2266BubbleTree 2.32.0  (landing page)Todd Creasy , Wei Zhu  OK    OK    OK    OK  UNNEEDED, same version is already published
246/2266BufferedMatrix 1.66.0  (landing page)Ben Bolstad  OK    OK    WARNINGS    OK  UNNEEDED, same version is already published
247/2266BufferedMatrixMethods 1.66.0  (landing page)Ben Bolstad  OK    OK    OK    OK  UNNEEDED, same version is already published
248/2266bugsigdbr 1.8.4  (landing page)Ludwig Geistlinger  OK    OK    OK    OK  UNNEEDED, same version is already published
249/2266BUMHMM 1.26.0  (landing page)Alina Selega  OK    OK    OK    OK  UNNEEDED, same version is already published
250/2266bumphunter 1.44.0  (landing page)Tamilselvi Guharaj  OK    OK    OK    OK  UNNEEDED, same version is already published
251/2266BumpyMatrix 1.10.0  (landing page)Aaron Lun  OK    OK    OK    OK  UNNEEDED, same version is already published
252/2266BUS 1.58.0  (landing page)Yuanhua Liu  OK    OK    OK    OK  UNNEEDED, same version is already published
253/2266BUScorrect 1.20.0  (landing page)Xiangyu Luo  OK    OK    OK    OK  UNNEEDED, same version is already published
254/2266BUSpaRse 1.16.1  (landing page)Lambda Moses  OK    OK    OK    OK  UNNEEDED, same version is already published
255/2266BUSseq 1.8.0  (landing page)Fangda Song  OK    OK    OK    OK  UNNEEDED, same version is already published
C
ABCDEFGHIJKLMNOPQRSTUVWXYZ
PackageMaintainerINSTALLBUILDCHECKBUILD BIN
256/2266CaDrA 1.0.2  (landing page)Reina Chau  OK    OK    OK    OK  UNNEEDED, same version is already published
257/2266CAEN 1.10.0  (landing page)Zhou Yan  OK    OK    OK    OK  UNNEEDED, same version is already published
258/2266CAFE 1.38.0  (landing page)Sander Bollen  OK    OK    WARNINGS    OK  UNNEEDED, same version is already published
259/2266CAGEfightR 1.22.0  (landing page)Malte Thodberg  OK    OK    OK    OK  UNNEEDED, same version is already published
260/2266cageminer 1.8.0  (landing page)Fabrício Almeida-Silva  OK    OK    OK    OK  UNNEEDED, same version is already published
261/2266CAGEr 2.8.0  (landing page)Charles Plessy  OK    OK    OK    OK  UNNEEDED, same version is already published
262/2266calm 1.16.0  (landing page)Kun Liang  OK    OK    OK    OK  UNNEEDED, same version is already published
263/2266CAMERA 1.58.0  (landing page)Steffen Neumann  OK    OK    OK    OK  UNNEEDED, same version is already published
264/2266canceR 1.36.7  (landing page)Karim Mezhoud  OK    OK    WARNINGS    OK  UNNEEDED, same version is already published
265/2266cancerclass 1.46.0  (landing page)Daniel Kosztyla  OK    OK    WARNINGS    OK  UNNEEDED, same version is already published
266/2266CancerInSilico 2.22.0  (landing page)Thomas D. Sherman  ERROR    ERROR  skippedskipped
267/2266CancerSubtypes 1.28.0  (landing page)Taosheng Xu  OK    OK    WARNINGS    OK  UNNEEDED, same version is already published
268/2266cardelino 1.4.0  (landing page)Davis McCarthy  OK    OK    OK    OK  UNNEEDED, same version is already published
269/2266Cardinal 3.4.3  (landing page)Kylie A. Bemis  OK    OK    OK    OK  UNNEEDED, same version is already published
270/2266CardinalIO 1.0.0  (landing page)Kylie Ariel Bemis  OK    OK    OK    OK  UNNEEDED, same version is already published
271/2266CARNIVAL 2.12.0  (landing page)Attila Gabor  OK    OK    OK    OK  UNNEEDED, same version is already published
272/2266casper 2.36.0  (landing page)David Rossell  OK    ERROR  skippedskipped
273/2266CATALYST 1.26.0  (landing page)Helena L. Crowell  OK    ERROR  skippedskipped
274/2266Category 2.68.0  (landing page)Bioconductor Package Maintainer  OK    OK    OK    OK  UNNEEDED, same version is already published
275/2266categoryCompare 1.46.0  (landing page)Robert M. Flight  OK    OK    OK    OK  UNNEEDED, same version is already published
276/2266CausalR 1.34.0  (landing page)Glyn Bradley , Steven Barrett  OK    OK    OK    OK  UNNEEDED, same version is already published
277/2266cbaf 1.24.0  (landing page)Arman Shahrisa  OK    OK    OK    OK  UNNEEDED, same version is already published
278/2266CBEA 1.2.0  (landing page)Quang Nguyen  OK    OK    OK    OK  UNNEEDED, same version is already published
279/2266cBioPortalData 2.14.2  (landing page)Marcel Ramos  OK    OK    OK    OK  UNNEEDED, same version is already published
280/2266CBNplot 1.2.1  (landing page)Noriaki Sato  OK    OK    OK    OK  UNNEEDED, same version is already published
281/2266cbpManager 1.10.0  (landing page)Arsenij Ustjanzew  OK    OK    WARNINGS    OK  UNNEEDED, same version is already published
282/2266ccfindR 1.22.0  (landing page)Jun Woo  ERROR    ERROR  skippedskipped
283/2266ccImpute 1.4.0  (landing page)Marcin Malec  OK    OK    OK    OK  UNNEEDED, same version is already published
284/2266ccmap 1.28.0  (landing page)Alex Pickering  OK    OK    WARNINGS    OK  UNNEEDED, same version is already published
285/2266CCPlotR 1.0.0  (landing page)Sarah Ennis  OK    OK    WARNINGS    OK  UNNEEDED, same version is already published
286/2266CCPROMISE 1.28.0  (landing page)Xueyuan Cao  OK    OK    WARNINGS    OK  UNNEEDED, same version is already published
287/2266ccrepe 1.38.1  (landing page)Emma Schwager ,Craig Bielski, George Weingart  OK    OK    OK    OK  UNNEEDED, same version is already published
288/2266CDI 1.0.2  (landing page)Jiyuan Fang  OK    OK    OK    OK  UNNEEDED, same version is already published
289/2266celaref 1.20.0  (landing page)Sarah Williams  OK    OK    OK    OK  UNNEEDED, same version is already published
290/2266celda 1.18.1  (landing page)Joshua Campbell  OK    ERROR  skippedskipped
291/2266CellaRepertorium 1.12.0  (landing page)Andrew McDavid  OK    OK    WARNINGS    OK  UNNEEDED, same version is already published
292/2266CellBarcode 1.8.1  (landing page)Wenjie Sun  OK    OK    OK    OK  UNNEEDED, same version is already published
293/2266cellbaseR 1.26.0  (landing page)Mohammed OE Abdallah  OK    OK    OK    OK  UNNEEDED, same version is already published
294/2266CellBench 1.18.0  (landing page)Shian Su  OK    OK    OK    OK  UNNEEDED, same version is already published
295/2266cellHTS2 2.66.0  (landing page)Joseph Barry  OK    OK    OK    OK  UNNEEDED, same version is already published
296/2266CelliD 1.10.1  (landing page)Akira Cortal  OK    OK    WARNINGS    OK  UNNEEDED, same version is already published
297/2266cellity 1.30.0  (landing page)Tomislav Ilicic  OK    OK    OK    OK  UNNEEDED, same version is already published
298/2266CellMapper 1.28.0  (landing page)Brad Nelms  OK    OK    WARNINGS    OK  UNNEEDED, same version is already published
299/2266cellmigRation 1.10.0  (landing page)Waldir Leoncio  OK    OK    OK    OK  UNNEEDED, same version is already published
300/2266CellMixS 1.18.0  (landing page)Almut Lütge  OK    OK    OK    OK  UNNEEDED, same version is already published
301/2266CellNOptR 1.48.0  (landing page)Attila Gabor  OK    OK    OK    OK  UNNEEDED, same version is already published
302/2266cellscape 1.26.0  (landing page)Shixiang Wang  OK    OK    OK    OK  UNNEEDED, same version is already published
303/2266CellScore 1.22.0  (landing page)Nancy Mah  OK    OK    OK    OK  UNNEEDED, same version is already published
304/2266CellTrails 1.20.0  (landing page)Daniel Ellwanger  OK    OK    OK    OK  UNNEEDED, same version is already published
305/2266cellxgenedp 1.6.1  (landing page)Martin Morgan  OK    OK    ERROR    OK  
306/2266CEMiTool 1.26.1  (landing page)Helder Nakaya  OK    OK    OK    OK  UNNEEDED, same version is already published
307/2266censcyt 1.10.0  (landing page)Reto Gerber  OK    OK    OK    OK  UNNEEDED, same version is already published
308/2266Cepo 1.8.0  (landing page)Hani Jieun Kim  OK    OK    WARNINGS    OK  UNNEEDED, same version is already published
309/2266ceRNAnetsim 1.14.1  (landing page)Selcen Ari Yuka  OK    OK    OK    OK  UNNEEDED, same version is already published
310/2266CeTF 1.14.0  (landing page)Carlos Alberto Oliveira de Biagi Junior  OK    OK    OK    OK  UNNEEDED, same version is already published
311/2266CexoR 1.40.0  (landing page)Pedro Madrigal  OK    OK    OK    OK  UNNEEDED, same version is already published
312/2266CFAssay 1.36.0  (landing page)Herbert Braselmann  OK    OK    OK    OK  UNNEEDED, same version is already published
313/2266cfdnakit 1.0.0  (landing page)Pitithat Puranachot  OK    OK    OK    OK  UNNEEDED, same version is already published
314/2266cfDNAPro 1.8.0  (landing page)Haichao Wang  OK    OK    WARNINGS    OK  UNNEEDED, same version is already published
315/2266cfTools 1.2.0  (landing page)Ran Hu  OK    OK    OK    OK  UNNEEDED, same version is already published
316/2266CGEN 3.38.0  (landing page)Justin Lee  OK    OK    WARNINGS    OK  UNNEEDED, same version is already published
317/2266CGHbase 1.62.0  (landing page)Mark van de Wiel  OK    OK    OK    OK  UNNEEDED, same version is already published
318/2266CGHcall 2.64.0  (landing page)Mark van de Wiel  OK    OK    WARNINGS    OK  UNNEEDED, same version is already published
319/2266cghMCR 1.60.0  (landing page)J. Zhang  OK    OK    WARNINGS    OK  UNNEEDED, same version is already published
320/2266CGHnormaliter 1.56.0  (landing page)Bart P.P. van Houte  OK    OK    OK    OK  UNNEEDED, same version is already published
321/2266CGHregions 1.60.0  (landing page)Sjoerd Vosse  OK    OK    OK    OK  UNNEEDED, same version is already published
322/2266ChAMP 2.32.0  (landing page)Yuan Tian  OK    OK    WARNINGS    OK  UNNEEDED, same version is already published
323/2266ChemmineOB 1.40.0  (landing page)Thomas Girke  ERROR    ERROR  skippedskipped
324/2266ChemmineR 3.54.0  (landing page)Thomas Girke  OK    OK    WARNINGS    OK  UNNEEDED, same version is already published
325/2266CHETAH 1.18.0  (landing page)Jurrian de Kanter  OK    OK    OK    OK  UNNEEDED, same version is already published
326/2266Chicago 1.30.0  (landing page)Mikhail Spivakov  OK    OK    OK    OK  UNNEEDED, same version is already published
327/2266chihaya 1.2.0  (landing page)Aaron Lun  OK    OK    WARNINGS    OK  UNNEEDED, same version is already published
328/2266chimeraviz 1.28.0  (landing page)Stian Lågstad  OK    OK    OK    OK  UNNEEDED, same version is already published
329/2266ChIPanalyser 1.24.0  (landing page)Patrick C.N. Martin  OK    OK    OK    OK  UNNEEDED, same version is already published
330/2266ChIPComp 1.32.0  (landing page)Li Chen  OK    OK    OK    OK  UNNEEDED, same version is already published
331/2266chipenrich 2.26.0  (landing page)Kai Wang  OK    OK    OK    OK  UNNEEDED, same version is already published
332/2266ChIPexoQual 1.26.0  (landing page)Rene Welch  OK    OK    OK    OK  UNNEEDED, same version is already published
333/2266ChIPpeakAnno 3.36.1  (landing page)Jianhong Ou  OK    OK    OK    OK  UNNEEDED, same version is already published
334/2266ChIPQC 1.38.0  (landing page)Tom Carroll , Rory Stark  OK    OK    WARNINGS    OK  UNNEEDED, same version is already published
335/2266ChIPseeker 1.38.0  (landing page)Guangchuang Yu  OK    OK    OK    OK  UNNEEDED, same version is already published
336/2266chipseq 1.52.0  (landing page)Bioconductor Package Maintainer  OK    OK    WARNINGS    OK  UNNEEDED, same version is already published
337/2266ChIPseqR 1.56.0  (landing page)Peter Humburg  OK    OK    OK    OK  UNNEEDED, same version is already published
338/2266ChIPsim 1.56.0  (landing page)Peter Humburg  OK    OK    OK    OK  UNNEEDED, same version is already published
339/2266ChIPXpress 1.46.0  (landing page)George Wu  OK    OK    OK    OK  UNNEEDED, same version is already published
340/2266chopsticks 1.68.0  (landing page)Hin-Tak Leung  OK    OK    WARNINGS    OK  UNNEEDED, same version is already published
341/2266chromDraw 2.32.0  (landing page)Jan Janecka  OK    OK    WARNINGS    OK  UNNEEDED, same version is already published
342/2266ChromHeatMap 1.56.0  (landing page)Tim F. Rayner  OK    OK    OK    OK  UNNEEDED, same version is already published
343/2266chromPlot 1.30.0  (landing page)Karen Y. Orostica  OK    OK    OK    OK  UNNEEDED, same version is already published
344/2266ChromSCape 1.12.0  (landing page)Pacome Prompsy  OK    OK    ERROR    OK  
345/2266chromstaR 1.28.0  (landing page)Aaron Taudt  OK    ERROR  skippedskipped
346/2266chromVAR 1.24.0  (landing page)Alicia Schep  OK    OK    OK    OK  NO, package depends on 'TFBSTools' which is only available as a source package that needs compilation
347/2266CHRONOS 1.30.0  (landing page)Panos Balomenos  OK    TIMEOUT  skippedskipped
348/2266cicero 1.20.0  (landing page)Hannah Pliner  ERROR    ERROR  skippedskipped
349/2266CIMICE 1.10.0  (landing page)Nicolò Rossi  OK    OK    OK    OK  UNNEEDED, same version is already published
350/2266CINdex 1.30.0  (landing page)Yuriy Gusev  OK    OK    WARNINGS    OK  UNNEEDED, same version is already published
351/2266circRNAprofiler 1.16.0  (landing page)Simona Aufiero  OK    OK    OK    OK  UNNEEDED, same version is already published
352/2266CircSeqAlignTk 1.4.0  (landing page)Jianqiang Sun  OK    OK    OK    OK  UNNEEDED, same version is already published
353/2266cisPath 1.42.0  (landing page)Likun Wang  OK    OK    WARNINGS    OK  UNNEEDED, same version is already published
354/2266CiteFuse 1.14.0  (landing page)Yingxin Lin  OK    ERROR  skippedskipped
355/2266ClassifyR 3.6.5  (landing page)Dario Strbenac  OK    OK    WARNINGS    OK  UNNEEDED, same version is already published
356/2266cleanUpdTSeq 1.40.0  (landing page)Jianhong Ou ; Lihua Julie Zhu  OK    OK    OK    OK  UNNEEDED, same version is already published
357/2266cleaver 1.40.0  (landing page)Sebastian Gibb  OK    OK    OK    OK  UNNEEDED, same version is already published
358/2266clevRvis 1.2.0  (landing page)Sarah Sandmann  OK    OK    OK    OK  UNNEEDED, same version is already published
359/2266clippda 1.52.0  (landing page)Stephen Nyangoma  OK    OK    OK    OK  UNNEEDED, same version is already published
360/2266clipper 1.42.0  (landing page)Paolo Martini  OK    OK    OK    OK  UNNEEDED, same version is already published
361/2266cliProfiler 1.8.0  (landing page)You Zhou  OK    OK    OK    OK  UNNEEDED, same version is already published
362/2266cliqueMS 1.16.0  (landing page)Oriol Senan Campos  ERROR    ERROR  skippedskipped
363/2266Clomial 1.38.0  (landing page)Habil Zare  OK    OK    OK    OK  UNNEEDED, same version is already published
364/2266Clonality 1.50.0  (landing page)Irina Ostrovnaya  OK    ERROR  skippedskipped
365/2266clst 1.50.0  (landing page)Noah Hoffman  OK    OK    WARNINGS    OK  UNNEEDED, same version is already published
366/2266clstutils 1.50.0  (landing page)Noah Hoffman  OK    OK    WARNINGS    OK  UNNEEDED, same version is already published
367/2266CluMSID 1.18.0  (landing page)Tobias Depke  OK    OK    WARNINGS    OK  UNNEEDED, same version is already published
368/2266clustComp 1.30.0  (landing page)Aurora Torrente  OK    OK    OK    OK  UNNEEDED, same version is already published
369/2266clusterExperiment 2.22.0  (landing page)Elizabeth Purdom  OK    OK    WARNINGS    OK  UNNEEDED, same version is already published
370/2266ClusterJudge 1.24.0  (landing page)Adrian Pasculescu  OK    OK    OK    OK  UNNEEDED, same version is already published
371/2266clusterProfiler 4.10.1  (landing page)Guangchuang Yu  OK    OK    OK    OK  UNNEEDED, same version is already published
372/2266clusterSeq 1.26.0  (landing page)Thomas J. Hardcastle  OK    OK    WARNINGS    OK  UNNEEDED, same version is already published
373/2266ClusterSignificance 1.30.0  (landing page)Jason T Serviss  OK    OK    OK    OK  UNNEEDED, same version is already published
374/2266clusterStab 1.74.0  (landing page)James W. MacDonald  OK    OK    OK    OK  UNNEEDED, same version is already published
375/2266clustifyr 1.14.0  (landing page)Kent Riemondy  OK    OK    OK    OK  UNNEEDED, same version is already published
376/2266ClustIRR 1.0.0  (landing page)Simo Kitanovski  OK    OK    OK    OK  UNNEEDED, same version is already published
377/2266CMA 1.60.0  (landing page)Roman Hornung  OK    OK    OK    OK  UNNEEDED, same version is already published
378/2266cmapR 1.14.0  (landing page)Ted Natoli  OK    OK    OK    OK  UNNEEDED, same version is already published
379/2266cn.farms 1.50.0  (landing page)Andreas Mitterecker  OK    OK    OK    OK  UNNEEDED, same version is already published
380/2266cn.mops 1.48.0  (landing page)Gundula Povysil  OK    OK    OK    OK  UNNEEDED, same version is already published
381/2266CNAnorm 1.48.0  (landing page)Stefano Berri  OK    OK    OK    OK  UNNEEDED, same version is already published
382/2266CNEr 1.38.0  (landing page)Ge Tan  OK    OK    ERROR    OK  
383/2266CNORdt 1.44.0  (landing page)A. MacNamara  OK    OK    OK    OK  UNNEEDED, same version is already published
384/2266CNORfeeder 1.42.0  (landing page)Attila Gabor  OK    OK    WARNINGS    OK  UNNEEDED, same version is already published
385/2266CNORfuzzy 1.44.0  (landing page)T. Cokelaer  OK    OK    OK    OK  UNNEEDED, same version is already published
386/2266CNORode 1.44.0  (landing page)Attila Gabor  OK    OK    WARNINGS    OK  UNNEEDED, same version is already published
387/2266CNTools 1.58.0  (landing page)J. Zhang  OK    OK    OK    OK  UNNEEDED, same version is already published
388/2266CNVfilteR 1.16.0  (landing page)Jose Marcos Moreno-Cabrera  OK    OK    OK    OK  UNNEEDED, same version is already published
389/2266CNVgears 1.10.0  (landing page)Simone Montalbano  OK    OK    OK    OK  UNNEEDED, same version is already published
390/2266cnvGSA 1.46.0  (landing page)Joseph Lugo  OK    OK    OK    OK  UNNEEDED, same version is already published
391/2266CNViz 1.10.0  (landing page)Rebecca Greenblatt  OK    OK    OK    OK  UNNEEDED, same version is already published
392/2266CNVMetrics 1.6.0  (landing page)Astrid Deschênes  OK    OK    OK    OK  UNNEEDED, same version is already published
393/2266CNVPanelizer 1.34.0  (landing page)Thomas Wolf  OK    OK    OK    OK  UNNEEDED, same version is already published
394/2266CNVRanger 1.18.1  (landing page)Ludwig Geistlinger  OK    OK    OK    OK  UNNEEDED, same version is already published
395/2266CNVrd2 1.40.0  (landing page)Hoang Tan Nguyen  OK    OK    OK    OK  UNNEEDED, same version is already published
396/2266CoCiteStats 1.74.0  (landing page)Bioconductor Package Maintainer  OK    OK    OK    OK  UNNEEDED, same version is already published
397/2266COCOA 2.16.0  (landing page)John Lawson  OK    OK    OK    OK  UNNEEDED, same version is already published
398/2266codelink 1.70.0  (landing page)Diego Diez  OK    OK    OK    OK  UNNEEDED, same version is already published
399/2266CODEX 1.34.0  (landing page)Yuchao Jiang  OK    OK    OK    OK  UNNEEDED, same version is already published
400/2266CoGAPS 3.22.0  (landing page)Elana J. Fertig  OK    ERROR  skippedskipped
401/2266cogena 1.36.0  (landing page)Zhilong Jia  OK    OK    WARNINGS    OK  UNNEEDED, same version is already published
402/2266cogeqc 1.6.2  (landing page)Fabrício Almeida-Silva  OK    OK    OK    OK  UNNEEDED, same version is already published
403/2266Cogito 1.8.0  (landing page)Annika Bürger  OK    OK    OK    OK  UNNEEDED, same version is already published
404/2266coGPS 1.46.0  (landing page)Yingying Wei  OK    OK    OK    OK  UNNEEDED, same version is already published
405/2266COHCAP 1.48.0  (landing page)Charles Warden  OK    OK    OK    OK  UNNEEDED, same version is already published
406/2266cola 2.8.0  (landing page)Zuguang Gu  OK    OK    OK    OK  UNNEEDED, same version is already published
407/2266comapr 1.6.1  (landing page)Ruqian Lyu  OK    OK    OK    OK  UNNEEDED, same version is already published
408/2266combi 1.14.0  (landing page)Stijn Hawinkel  OK    OK    OK    OK  UNNEEDED, same version is already published
409/2266coMET 1.34.0  (landing page)Tiphaine Martin  OK    OK    WARNINGS    OK  UNNEEDED, same version is already published
410/2266coMethDMR 1.6.0  (landing page)Fernanda Veitzman  OK    OK    OK    OK  UNNEEDED, same version is already published
411/2266compartmap 1.20.0  (landing page)Benjamin Johnson  OK    OK    OK    OK  UNNEEDED, same version is already published
412/2266COMPASS 1.40.0  (landing page)Greg Finak  OK    OK    OK    OK  UNNEEDED, same version is already published
413/2266compcodeR 1.38.0  (landing page)Charlotte Soneson  OK    OK    OK    OK  UNNEEDED, same version is already published
414/2266compEpiTools 1.36.0  (landing page)Mattia Furlan  OK    OK    WARNINGS    OK  UNNEEDED, same version is already published
415/2266ComplexHeatmap 2.18.0  (landing page)Zuguang Gu  OK    OK    OK    OK  UNNEEDED, same version is already published
416/2266CompoundDb 1.6.0  (landing page)Johannes Rainer  OK    OK    OK    OK  UNNEEDED, same version is already published
417/2266ComPrAn 1.10.0  (landing page)Petra Palenikova  OK    OK    OK    OK  UNNEEDED, same version is already published
418/2266compSPOT 1.0.0  (landing page)Sydney Grant  OK    OK    OK    OK  UNNEEDED, same version is already published
419/2266concordexR 1.2.0  (landing page)Kayla Jackson  OK    ERROR  skippedskipped
420/2266condiments 1.10.0  (landing page)Hector Roux de Bezieux  OK    OK    OK    OK  UNNEEDED, same version is already published
421/2266CONFESS 1.30.0  (landing page)Diana LOW  OK    OK    WARNINGS    OK  NO, package depends on 'flowClust' which is only available as a source package that needs compilation
422/2266consensus 1.20.0  (landing page)Tim Peters  OK    OK    OK    OK  UNNEEDED, same version is already published
423/2266ConsensusClusterPlus 1.66.0  (landing page)Matt Wilkerson  OK    OK    OK    OK  UNNEEDED, same version is already published
424/2266consensusDE 1.20.0  (landing page)Ashley J. Waardenberg  OK    OK    OK    OK  UNNEEDED, same version is already published
425/2266consensusOV 1.24.0  (landing page)Benjamin Haibe-Kains  OK    OK    OK    OK  UNNEEDED, same version is already published
426/2266consensusSeekeR 1.30.0  (landing page)Astrid Deschenes  OK    OK    OK    OK  UNNEEDED, same version is already published
427/2266consICA 2.0.0  (landing page)Petr V. Nazarov  OK    OK    OK    OK  UNNEEDED, same version is already published
428/2266CONSTANd 1.10.0  (landing page)Dirk Valkenborg  OK    OK    OK    OK  UNNEEDED, same version is already published
429/2266contiBAIT 1.30.0  (landing page)Kieran O'Neill  OK    OK    WARNINGS    OK  UNNEEDED, same version is already published
430/2266conumee 1.36.0  (landing page)Volker Hovestadt  OK    OK    OK    OK  UNNEEDED, same version is already published
431/2266convert 1.78.0  (landing page)Yee Hwa (Jean) Yang  OK    OK    OK    OK  UNNEEDED, same version is already published
432/2266copa 1.70.0  (landing page)James W. MacDonald  OK    OK    OK    OK  UNNEEDED, same version is already published
433/2266CopyNumberPlots 1.18.0  (landing page)Bernat Gel  OK    OK    OK    OK  UNNEEDED, same version is already published
434/2266coRdon 1.20.0  (landing page)Anamaria Elek  OK    OK    OK    OK  UNNEEDED, same version is already published
435/2266CoRegNet 1.40.0  (landing page)Remy Nicolle  OK    OK    WARNINGS    OK  UNNEEDED, same version is already published
436/2266CoreGx 2.6.1  (landing page)Benjamin Haibe-Kains  OK    OK    WARNINGS    OK  UNNEEDED, same version is already published
437/2266Cormotif 1.48.0  (landing page)Yingying Wei  OK    OK    OK    OK  UNNEEDED, same version is already published
438/2266corral 1.12.0  (landing page)Lauren Hsu  OK    ERROR  skippedskipped
439/2266CORREP 1.68.0  (landing page)Dongxiao Zhu  OK    OK    OK    OK  UNNEEDED, same version is already published
440/2266coseq 1.26.0  (landing page)Andrea Rau  OK    OK    OK    OK  UNNEEDED, same version is already published
441/2266CoSIA 1.2.0  (landing page)Amanda D. Clark  OK    ERROR  skippedskipped
442/2266cosmiq 1.36.0  (landing page)David Fischer  OK    OK    OK    OK  UNNEEDED, same version is already published
443/2266cosmosR 1.10.0  (landing page)Attila Gabor  OK    OK    OK    OK  UNNEEDED, same version is already published
444/2266COSNet 1.36.0  (landing page)Marco Frasca  OK    OK    WARNINGS    OK  UNNEEDED, same version is already published
445/2266COTAN 2.2.3  (landing page)Galfrè Silvia Giulia  OK    ERROR  skippedskipped
446/2266countsimQC 1.20.0  (landing page)Charlotte Soneson  OK    OK    OK    OK  UNNEEDED, same version is already published
447/2266covEB 1.28.0  (landing page)C. Pacini  OK    OK    OK    OK  UNNEEDED, same version is already published
448/2266CoverageView 1.40.0  (landing page)Ernesto Lowy  OK    OK    WARNINGS    OK  UNNEEDED, same version is already published
449/2266covRNA 1.28.0  (landing page)Lara Urban  OK    OK    OK    OK  UNNEEDED, same version is already published
450/2266cpvSNP 1.34.0  (landing page)Caitlin McHugh  OK    OK    OK    OK  UNNEEDED, same version is already published
451/2266cqn 1.48.0  (landing page)Kasper Daniel Hansen  OK    OK    OK    OK  UNNEEDED, same version is already published
452/2266CRImage 1.50.0  (landing page)Henrik Failmezger , Yinyin Yuan  OK    OK    OK    OK  UNNEEDED, same version is already published
453/2266crisprBase 1.6.0  (landing page)Jean-Philippe Fortin  OK    OK    OK    OK  UNNEEDED, same version is already published
454/2266crisprBowtie 1.6.0  (landing page)Jean-Philippe Fortin  OK    OK    OK    OK  UNNEEDED, same version is already published
455/2266crisprBwa 1.6.0  (landing page)Jean-Philippe Fortin  OK    OK    OK    OK  UNNEEDED, same version is already published
456/2266crisprDesign 1.4.0  (landing page)Jean-Philippe Fortin  OK    OK    OK    OK  UNNEEDED, same version is already published
457/2266crisprScore 1.6.0  (landing page)Jean-Philippe Fortin  OK    OK    OK    OK  UNNEEDED, same version is already published
458/2266CRISPRseek 1.42.0  (landing page)Lihua Julie Zhu  OK    OK    TIMEOUT    OK  
459/2266crisprseekplus 1.28.0  (landing page)Alper Kucukural  OK    OK    OK    OK  UNNEEDED, same version is already published
460/2266CrispRVariants 1.30.0  (landing page)Helen Lindsay  OK    OK    WARNINGS    OK  UNNEEDED, same version is already published
461/2266crisprVerse 1.4.0  (landing page)Jean-Philippe Fortin  OK    OK    OK    OK  UNNEEDED, same version is already published
462/2266crisprViz 1.4.0  (landing page)Jean-Philippe Fortin  OK    OK    OK    OK  UNNEEDED, same version is already published
463/2266crlmm 1.60.0  (landing page)Benilton S Carvalho  OK    OK    WARNINGS    OK  UNNEEDED, same version is already published
464/2266crossmeta 1.28.0  (landing page)Alex Pickering  OK    OK    OK    OK  UNNEEDED, same version is already published
465/2266CSAR 1.54.0  (landing page)Jose M Muino  OK    OK    OK    OK  UNNEEDED, same version is already published
466/2266csaw 1.36.1  (landing page)Aaron Lun  OK    OK    WARNINGS    OK  UNNEEDED, same version is already published
467/2266csdR 1.8.0  (landing page)Jakob Peder Pettersen  OK    OK    OK    OK  UNNEEDED, same version is already published
468/2266CSSP 1.40.0  (landing page)Chandler Zuo  OK    ERROR  skippedskipped
469/2266CSSQ 1.14.0  (landing page)Fan Lab at Georgia Institute of Technology  OK    OK    OK    OK  UNNEEDED, same version is already published
470/2266ctc 1.76.0  (landing page)Antoine Lucas  OK    OK    OK    OK  UNNEEDED, same version is already published
471/2266CTdata 1.2.0  (landing page)Laurent Gatto  OK    OK    OK    OK  UNNEEDED, same version is already published
472/2266CTDquerier 2.10.0  (landing page)Xavier Escribà-Montagut  OK    OK    WARNINGS    OK  UNNEEDED, same version is already published
473/2266cTRAP 1.20.0  (landing page)Nuno Saraiva-Agostinho  OK    OK    ERROR    OK  
474/2266ctsGE 1.28.0  (landing page)Michal Sharabi-Schwager  OK    OK    OK    OK  UNNEEDED, same version is already published
475/2266CTSV 1.4.0  (landing page)Jinge Yu Developer  OK    OK    OK    OK  UNNEEDED, same version is already published
476/2266cummeRbund 2.44.0  (landing page)Loyal A. Goff  OK    OK    WARNINGS    OK  UNNEEDED, same version is already published
477/2266CuratedAtlasQueryR 1.0.1  (landing page)Stefano Mangiola  OK    OK    OK    OK  UNNEEDED, same version is already published
478/2266customCMPdb 1.12.0  (landing page)Yuzhu Duan  OK    OK    OK    OK  UNNEEDED, same version is already published
479/2266customProDB 1.42.1  (landing page)Xiaojing Wang  OK    OK    ERROR    OK  
480/2266cyanoFilter 1.10.0  (landing page)Oluwafemi Olusoji  OK    OK    OK    OK  NO, package depends on 'flowClust' which is only available as a source package that needs compilation
481/2266cycle 1.56.0  (landing page)Matthias Futschik  OK    OK    OK    OK  UNNEEDED, same version is already published
482/2266cydar 1.26.0  (landing page)Aaron Lun  OK    OK    OK    OK  UNNEEDED, same version is already published
483/2266CytoDx 1.22.0  (landing page)Zicheng Hu  OK    OK    OK    OK  UNNEEDED, same version is already published
484/2266CyTOFpower 1.8.0  (landing page)Anne-Maud Ferreira  OK    OK    ERROR    OK  
485/2266cytofQC 1.2.0  (landing page)Jill Lundell  OK    OK    OK    OK  UNNEEDED, same version is already published
486/2266CytoGLMM 1.10.0  (landing page)Christof Seiler  OK    OK    OK    OK  UNNEEDED, same version is already published
487/2266cytoKernel 1.8.0  (landing page)Tusharkanti Ghosh  OK    OK    OK    OK  UNNEEDED, same version is already published
488/2266cytolib 2.14.1  (landing page)Mike Jiang  OK    OK    WARNINGS    OK  UNNEEDED, same version is already published
489/2266cytomapper 1.14.0  (landing page)Nils Eling  OK    OK    OK    OK  UNNEEDED, same version is already published
490/2266cytoMEM 1.6.0  (landing page)Jonathan Irish  OK    OK    OK    OK  UNNEEDED, same version is already published
491/2266CytoML 2.14.0  (landing page)Mike Jiang  OK    OK    WARNINGS    OK  NO, package depends on 'openCyto' which is only available as a source package that needs compilation
492/2266CytoPipeline 1.2.0  (landing page)Philippe Hauchamps  OK    OK    OK    OK  UNNEEDED, same version is already published
493/2266CytoPipelineGUI 1.0.0  (landing page)Philippe Hauchamps  OK    OK    OK    OK  UNNEEDED, same version is already published
494/2266cytoviewer 1.2.0  (landing page)Lasse Meyer  OK    OK    OK    OK  UNNEEDED, same version is already published
D
ABCDEFGHIJKLMNOPQRSTUVWXYZ
PackageMaintainerINSTALLBUILDCHECKBUILD BIN
495/2266dada2 1.30.0  (landing page)Benjamin Callahan  OK    OK    OK    OK  UNNEEDED, same version is already published
496/2266dagLogo 1.40.0  (landing page)Jianhong Ou  OK    OK    OK    OK  UNNEEDED, same version is already published
497/2266daMA 1.74.0  (landing page)Jobst Landgrebe  OK    OK    OK    OK  UNNEEDED, same version is already published
498/2266DAMEfinder 1.14.0  (landing page)Stephany Orjuela  OK    OK    OK    OK  UNNEEDED, same version is already published
499/2266DaMiRseq 2.14.0  (landing page)Mattia Chiesa  OK    OK    OK    OK  UNNEEDED, same version is already published
500/2266DAPAR 1.34.6  (landing page)Samuel Wieczorek  OK    OK    OK    OK  UNNEEDED, same version is already published
501/2266DART 1.50.0  (landing page)Charles Shijie Zheng  OK    OK    OK    OK  UNNEEDED, same version is already published
502/2266dcanr 1.18.0  (landing page)Dharmesh D. Bhuva  OK    OK    OK    OK  UNNEEDED, same version is already published
503/2266DCATS 1.0.0  (landing page)Xinyi Lin  OK    OK    OK    OK  UNNEEDED, same version is already published
504/2266dce 1.10.0  (landing page)Kim Philipp Jablonski  OK    OK    OK    OK  UNNEEDED, same version is already published
505/2266dcGSA 1.30.0  (landing page)Jiehuan sun  OK    OK    WARNINGS    OK  UNNEEDED, same version is already published
506/2266ddCt 1.58.0  (landing page)Jitao David Zhang  OK    OK    WARNINGS    OK  UNNEEDED, same version is already published
507/2266ddPCRclust 1.22.0  (landing page)Benedikt G. Brink  OK    OK    OK    OK  UNNEEDED, same version is already published
508/2266dearseq 1.14.0  (landing page)Boris P. Hejblum  OK    OK    OK    OK  UNNEEDED, same version is already published
509/2266debCAM 1.20.0  (landing page)Lulu Chen  OK    OK    OK    OK  UNNEEDED, same version is already published
510/2266debrowser 1.30.2  (landing page)Alper Kucukural  OK    ERROR  skippedskipped
511/2266DECIPHER 2.30.0  (landing page)Erik Wright  OK    OK    OK    OK  UNNEEDED, same version is already published
512/2266deco 1.18.0  (landing page)Francisco Jose Campos Laborie  OK    ERROR  skippedskipped
513/2266decompTumor2Sig 2.18.0  (landing page)Rosario M. Piro  OK    TIMEOUT  skippedskipped
514/2266DeconRNASeq 1.44.0  (landing page)Ting Gong  OK    OK    OK    OK  UNNEEDED, same version is already published
515/2266decontam 1.22.0  (landing page)Benjamin Callahan  OK    OK    OK    OK  UNNEEDED, same version is already published
516/2266decontX 1.0.0  (landing page)Yuan Yin  OK    OK    WARNINGS    OK  UNNEEDED, same version is already published
517/2266deconvR 1.8.0  (landing page)Irem B. Gündüz  OK    OK    OK    OK  UNNEEDED, same version is already published
518/2266decoupleR 2.8.2  (landing page)Pau Badia-i-Mompel  OK    OK    ERROR    ERROR  
519/2266DeepBlueR 1.28.0  (landing page)Felipe Albrecht , Markus List , Quirin Manz  ERROR    ERROR  skippedskipped
520/2266DeepPINCS 1.10.0  (landing page)Dongmin Jung  OK    OK    OK    OK  UNNEEDED, same version is already published
521/2266deepSNV 1.48.0  (landing page)Moritz Gerstung  OK    OK    WARNINGS    OK  UNNEEDED, same version is already published
522/2266DEFormats 1.30.0  (landing page)Andrzej Oleś  OK    OK    OK    OK  UNNEEDED, same version is already published
523/2266DegNorm 1.12.0  (landing page)Ji-Ping Wang  OK    OK    OK    OK  UNNEEDED, same version is already published
524/2266DEGraph   (landing page)... NOT SUPPORTED ...
525/2266DEGreport 1.38.5  (landing page)Lorena Pantano  OK    OK    OK    OK  UNNEEDED, same version is already published
526/2266DEGseq 1.56.1  (landing page)Likun Wang  OK    OK    WARNINGS    OK  UNNEEDED, same version is already published
527/2266DelayedArray 0.28.0  (landing page)Hervé Pagès  OK    OK    WARNINGS    OK  UNNEEDED, same version is already published
528/2266DelayedDataFrame 1.18.0  (landing page)Qian Liu  OK    OK    OK    OK  UNNEEDED, same version is already published
529/2266DelayedMatrixStats 1.24.0  (landing page)Peter Hickey  OK    OK    OK    OK  UNNEEDED, same version is already published
530/2266DelayedRandomArray 1.10.0  (landing page)Aaron Lun  OK    OK    OK    OK  UNNEEDED, same version is already published
531/2266DelayedTensor 1.8.0  (landing page)Koki Tsuyuzaki  OK    OK    WARNINGS    OK  UNNEEDED, same version is already published
532/2266DELocal 1.2.1  (landing page)Rishi Das Roy  OK    OK    OK    OK  YES
533/2266deltaCaptureC 1.16.1  (landing page)Michael Shapiro  OK    OK    OK    OK  UNNEEDED, same version is already published
534/2266deltaGseg 1.42.0  (landing page)Diana Low  OK    OK    WARNINGS    OK  UNNEEDED, same version is already published
535/2266DeMAND 1.32.0  (landing page)Jung Hoon Woo , Mariano Alvarez  OK    OK    OK    OK  UNNEEDED, same version is already published
536/2266DeMixT 1.18.0  (landing page)Shuai Guo  OK    OK    WARNINGS    OK  UNNEEDED, same version is already published
537/2266demuxmix 1.4.0  (landing page)Hans-Ulrich Klein  OK    OK    OK    OK  UNNEEDED, same version is already published
538/2266demuxSNP 1.0.0  (landing page)Michael Lynch  OK    OK    OK    OK  UNNEEDED, same version is already published
539/2266densvis 1.12.1  (landing page)Alan O'Callaghan  OK    OK    OK    OK  UNNEEDED, same version is already published
540/2266DEP 1.24.0  (landing page)Arne Smits  OK    OK    WARNINGS    OK  UNNEEDED, same version is already published
541/2266DepecheR 1.18.0  (landing page)Jakob Theorell  OK    OK    OK    OK  UNNEEDED, same version is already published
542/2266DepInfeR 1.6.0  (landing page)Junyan Lu  OK    OK    OK    OK  UNNEEDED, same version is already published
543/2266DEqMS 1.20.0  (landing page)Yafeng Zhu  OK    OK    OK    OK  UNNEEDED, same version is already published
544/2266derfinder 1.36.0  (landing page)Leonardo Collado-Torres  OK    ERROR  skippedskipped
545/2266derfinderHelper 1.36.0  (landing page)Leonardo Collado-Torres  OK    OK    OK    OK  UNNEEDED, same version is already published
546/2266derfinderPlot 1.36.0  (landing page)Leonardo Collado-Torres  OK    OK    OK    OK  UNNEEDED, same version is already published
547/2266DEScan2 1.22.0  (landing page)Dario Righelli  OK    OK    WARNINGS    OK  UNNEEDED, same version is already published
548/2266DESeq2 1.42.1  (landing page)Michael Love  OK    OK    OK    OK  UNNEEDED, same version is already published
549/2266DEsingle 1.22.0  (landing page)Zhun Miao  OK    OK    OK    OK  UNNEEDED, same version is already published
550/2266DESpace 1.2.1  (landing page)Peiying Cai  OK    OK    OK    OK  UNNEEDED, same version is already published
551/2266destiny 3.16.0  (landing page)Philipp Angerer  OK    OK    ERROR    OK  
552/2266DEsubs 1.28.0  (landing page)Aristidis G. Vrahatis , Panos Balomenos  OK    OK    WARNINGS    OK  UNNEEDED, same version is already published
553/2266DEWSeq 1.16.2  (landing page)bioinformatics team Hentze  OK    OK    OK    OK  UNNEEDED, same version is already published
554/2266DExMA 1.10.7  (landing page)Juan Antonio Villatoro-García  OK    OK    OK    OK  UNNEEDED, same version is already published
555/2266DEXSeq 1.48.0  (landing page)Alejandro Reyes  OK    OK    OK    OK  UNNEEDED, same version is already published
556/2266DFP 1.60.0  (landing page)Rodrigo Alvarez-Glez  OK    OK    OK    OK  UNNEEDED, same version is already published
557/2266DIAlignR 2.10.0  (landing page)Shubham Gupta  OK    OK    ERROR    OK  
558/2266DiffBind 3.12.0  (landing page)Rory Stark  OK    OK    WARNINGS    OK  UNNEEDED, same version is already published
559/2266diffcoexp 1.22.0  (landing page)Wenbin Wei  OK    OK    OK    OK  UNNEEDED, same version is already published
560/2266diffcyt 1.22.1  (landing page)Lukas M. Weber  OK    OK    OK    OK  UNNEEDED, same version is already published
561/2266DifferentialRegulation 2.0.3  (landing page)Simone Tiberi  OK    OK    OK    OK  UNNEEDED, same version is already published
562/2266diffGeneAnalysis 1.84.0  (landing page)Choudary Jagarlamudi  OK    OK    OK    OK  UNNEEDED, same version is already published
563/2266diffHic 1.34.0  (landing page)Aaron Lun  OK    OK    WARNINGS    OK  UNNEEDED, same version is already published
564/2266DiffLogo 2.26.0  (landing page)Hendrik Treutler  OK    OK    WARNINGS    OK  UNNEEDED, same version is already published
565/2266diffuStats 1.22.0  (landing page)Sergio Picart-Armada  OK    OK    OK    OK  UNNEEDED, same version is already published
566/2266diffUTR 1.10.0  (landing page)Pierre-Luc Germain  OK    OK    OK    OK  UNNEEDED, same version is already published
567/2266diggit 1.34.0  (landing page)Mariano J Alvarez  OK    OK    WARNINGS    OK  UNNEEDED, same version is already published
568/2266Dino 1.8.0  (landing page)Jared Brown  OK    ERROR  skippedskipped
569/2266dir.expiry 1.10.0  (landing page)Aaron Lun  OK    OK    OK    OK  UNNEEDED, same version is already published
570/2266Director 1.28.0  (landing page)Katherine Icay  OK    OK    OK    OK  UNNEEDED, same version is already published
571/2266DirichletMultinomial 1.44.0  (landing page)Martin Morgan  OK    OK    OK    OK  UNNEEDED, same version is already published
572/2266discordant 1.26.0  (landing page)McGrath Max  OK    OK    OK    OK  UNNEEDED, same version is already published
573/2266DiscoRhythm 1.18.0  (landing page)Matthew Carlucci  OK    OK    OK    OK  UNNEEDED, same version is already published
574/2266distinct 1.14.5  (landing page)Simone Tiberi  OK    OK    OK    OK  UNNEEDED, same version is already published
575/2266dittoSeq 1.14.3  (landing page)Daniel Bunis  OK    ERROR  skippedskipped
576/2266divergence 1.18.0  (landing page)Wikum Dinalankara , Luigi Marchionni  OK    OK    OK    OK  UNNEEDED, same version is already published
577/2266dks 1.48.0  (landing page)Jeffrey T. Leek  OK    OK    OK    OK  UNNEEDED, same version is already published
578/2266DMCFB 1.16.1  (landing page)Farhad Shokoohi  OK    OK    OK    OK  UNNEEDED, same version is already published
579/2266DMCHMM 1.24.0  (landing page)Farhad Shokoohi  OK    OK    OK    OK  UNNEEDED, same version is already published
580/2266DMRcaller 1.34.0  (landing page)Nicolae Radu Zabet  OK    OK    OK    OK  UNNEEDED, same version is already published
581/2266DMRcate 2.16.1  (landing page)Tim Peters  OK    OK    OK    OK  UNNEEDED, same version is already published
582/2266DMRforPairs 1.38.0  (landing page)Martin Rijlaarsdam  OK    ERROR  skippedskipped
583/2266DMRScan 1.24.0  (landing page)Christian M Page  OK    ERROR  skippedskipped
584/2266dmrseq 1.22.1  (landing page)Keegan Korthauer  OK    OK    OK    OK  UNNEEDED, same version is already published
585/2266DNABarcodeCompatibility 1.18.0  (landing page)Céline Trébeau  ERROR    ERROR  skippedskipped
586/2266DNABarcodes 1.32.0  (landing page)Tilo Buschmann  ERROR    ERROR  skippedskipped
587/2266DNAcopy 1.76.0  (landing page)Venkatraman E. Seshan  OK    OK    OK    OK  UNNEEDED, same version is already published
588/2266DNAfusion 1.4.0  (landing page)Christoffer Trier Maansson  OK    OK    OK    OK  UNNEEDED, same version is already published
589/2266DNAshapeR 1.30.0  (landing page)Tsu-Pei Chiu  OK    OK    OK    OK  UNNEEDED, same version is already published
590/2266DominoEffect 1.22.0  (landing page)Marija Buljan  OK    ERROR  skippedskipped
591/2266doppelgangR 1.30.0  (landing page)Levi Waldron  OK    OK    OK    OK  UNNEEDED, same version is already published
592/2266Doscheda 1.24.0  (landing page)Bruno Contrino  OK    OK    OK    OK  UNNEEDED, same version is already published
593/2266DOSE 3.28.2  (landing page)Guangchuang Yu  OK    OK    OK    OK  UNNEEDED, same version is already published
594/2266doseR 1.18.0  (landing page)ake.vastermark  OK    OK    OK    OK  UNNEEDED, same version is already published
595/2266doubletrouble 1.2.5  (landing page)Fabrício Almeida-Silva  OK    OK    OK    OK  UNNEEDED, same version is already published
596/2266dpeak 1.14.0  (landing page)Dongjun Chung  OK    OK    OK    OK  UNNEEDED, same version is already published
597/2266drawProteins 1.22.2  (landing page)Paul Brennan  OK    OK    ERROR    OK  
598/2266dreamlet 1.0.3  (landing page)Gabriel Hoffman  OK    OK    OK    OK  UNNEEDED, same version is already published
599/2266DRIMSeq 1.30.0  (landing page)Malgorzata Nowicka  OK    OK    WARNINGS    OK  UNNEEDED, same version is already published
600/2266DriverNet 1.42.0  (landing page)Jiarui Ding  OK    OK    OK    OK  UNNEEDED, same version is already published
601/2266DropletUtils 1.22.0  (landing page)Jonathan Griffiths  OK    OK    WARNINGS    OK  UNNEEDED, same version is already published
602/2266drugTargetInteractions 1.10.1  (landing page)Thomas Girke  OK    OK    OK    OK  UNNEEDED, same version is already published
603/2266DrugVsDisease 2.44.0  (landing page)j. Saez-Rodriguez  OK    OK    ERROR    OK  
604/2266DSS 2.50.1  (landing page)Hao Wu , Hao Feng  OK    OK    WARNINGS    OK  UNNEEDED, same version is already published
605/2266dStruct 1.8.0  (landing page)Krishna Choudhary  OK    OK    OK    OK  UNNEEDED, same version is already published
606/2266DTA 2.48.0  (landing page)Bjoern Schwalb  OK    OK    OK    OK  UNNEEDED, same version is already published
607/2266Dune 1.14.0  (landing page)Hector Roux de Bezieux  OK    OK    ERROR    OK  
608/2266dupRadar 1.32.0  (landing page)Sergi Sayols , Holger Klein  OK    OK    OK    OK  UNNEEDED, same version is already published
609/2266dyebias 1.62.0  (landing page)Philip Lijnzaad  OK    OK    OK    OK  UNNEEDED, same version is already published
610/2266DynDoc 1.80.0  (landing page)Bioconductor Package Maintainer  OK    OK    OK    OK  UNNEEDED, same version is already published
E
ABCDEFGHIJKLMNOPQRSTUVWXYZ
PackageMaintainerINSTALLBUILDCHECKBUILD BIN
611/2266easier 1.8.0  (landing page)Oscar Lapuente-Santana  OK    OK    OK    OK  UNNEEDED, same version is already published
612/2266EasyCellType 1.4.0  (landing page)Ruoxing Li  OK    OK    OK    OK  UNNEEDED, same version is already published
613/2266easylift 1.0.0  (landing page)Abdullah Al Nahid  OK    OK    OK    OK  UNNEEDED, same version is already published
614/2266easyreporting 1.14.0  (landing page)Dario Righelli  OK    OK    OK    OK  UNNEEDED, same version is already published
615/2266easyRNASeq 2.38.0  (landing page)Nicolas Delhomme  OK    OK    OK    OK  UNNEEDED, same version is already published
616/2266EBarrays 2.66.0  (landing page)Ming Yuan  OK    OK    OK    OK  UNNEEDED, same version is already published
617/2266EBcoexpress 1.46.0  (landing page)John A. Dawson  OK    OK    OK    OK  UNNEEDED, same version is already published
618/2266EBImage 4.44.0  (landing page)Andrzej Oleś  OK    OK    OK    OK  UNNEEDED, same version is already published
619/2266EBSEA 1.30.0  (landing page)Arfa Mehmood  OK    OK    OK    OK  UNNEEDED, same version is already published
620/2266EBSeq 2.0.0  (landing page)Xiuyu Ma  OK    OK    WARNINGS    OK  UNNEEDED, same version is already published
621/2266EBSeqHMM 1.36.0  (landing page)Ning Leng  OK    ERROR  skippedskipped
622/2266ecolitk 1.74.0  (landing page)Laurent Gautier  OK    OK    WARNINGS    OK  UNNEEDED, same version is already published
623/2266EDASeq 2.36.0  (landing page)Davide Risso  OK    OK    OK    OK  UNNEEDED, same version is already published
624/2266edge 2.34.0  (landing page)John D. Storey , Andrew J. Bass  OK    OK    WARNINGS    OK  UNNEEDED, same version is already published
625/2266edgeR 4.0.16  (landing page)Yunshun Chen , Gordon Smyth , Aaron Lun , Mark Robinson  OK    OK    OK    OK  UNNEEDED, same version is already published
626/2266EDIRquery 1.2.0  (landing page)Laura D.T. Vo Ngoc  OK    OK    OK    OK  UNNEEDED, same version is already published
627/2266eds 1.4.0  (landing page)Avi Srivastava  OK    OK    OK    OK  UNNEEDED, same version is already published
628/2266eegc 1.28.0  (landing page)Xiaoyuan Zhou  OK    OK    WARNINGS    OK  UNNEEDED, same version is already published
629/2266EGAD 1.30.0  (landing page)Sara Ballouz  OK    OK    WARNINGS    OK  UNNEEDED, same version is already published
630/2266EGSEA 1.30.1  (landing page)Monther Alhamdoosh  OK    OK    OK    OK  UNNEEDED, same version is already published
631/2266eiR 1.42.0  (landing page)Thomas Girke  OK    OK    OK    OK  UNNEEDED, same version is already published
632/2266eisaR 1.14.1  (landing page)Michael Stadler  OK    OK    OK    OK  UNNEEDED, same version is already published
633/2266ELMER 2.26.0  (landing page)Tiago Chedraoui Silva  OK    OK    OK    OK  UNNEEDED, same version is already published
634/2266EMDomics 2.32.0  (landing page)Sadhika Malladi and Daniel Schmolze  OK    OK    OK    OK  UNNEEDED, same version is already published
635/2266EmpiricalBrownsMethod 1.30.0  (landing page)David Gibbs  OK    OK    OK    OK  UNNEEDED, same version is already published
636/2266EnhancedVolcano 1.20.0  (landing page)Kevin Blighe  OK    OK    OK    OK  UNNEEDED, same version is already published
637/2266enhancerHomologSearch 1.8.3  (landing page)Jianhong Ou  OK    OK    OK    OK  NO, package depends on 'motifmatchr' which is only available as a source package that needs compilation
638/2266EnMCB 1.14.0  (landing page)Xin Yu  OK    OK    OK    OK  UNNEEDED, same version is already published
639/2266ENmix 1.38.01  (landing page)Zongli Xu  OK    OK    OK    OK  UNNEEDED, same version is already published
640/2266EnrichedHeatmap 1.32.0  (landing page)Zuguang Gu  OK    OK    OK    OK  UNNEEDED, same version is already published
641/2266EnrichmentBrowser 2.32.0  (landing page)Ludwig Geistlinger  OK    OK    OK    OK  UNNEEDED, same version is already published
642/2266enrichplot 1.22.0  (landing page)Guangchuang Yu  OK    OK    OK    OK  UNNEEDED, same version is already published
643/2266enrichTF 1.18.0  (landing page)Zheng Wei  OK    OK    OK    OK  NO, package depends on 'motifmatchr' which is only available as a source package that needs compilation
644/2266enrichViewNet 1.0.0  (landing page)Astrid Deschênes  OK    OK    OK    OK  UNNEEDED, same version is already published
645/2266ensembldb 2.26.0  (landing page)Johannes Rainer  OK    OK    OK    OK  UNNEEDED, same version is already published
646/2266ensemblVEP 1.44.0  (landing page)Bioconductor Package Maintainer  OK    ERROR  skippedskipped
647/2266epialleleR 1.10.0  (landing page)Oleksii Nikolaienko  OK    OK    WARNINGS    OK  UNNEEDED, same version is already published
648/2266EpiCompare 1.6.7  (landing page)Thomas Roberts  OK    OK    ERROR    OK  
649/2266epidecodeR 1.10.0  (landing page)Kandarp Joshi  OK    OK    OK    OK  UNNEEDED, same version is already published
650/2266EpiDISH 2.18.0  (landing page)Shijie C. Zheng  OK    OK    OK    OK  UNNEEDED, same version is already published
651/2266epigenomix 1.42.0  (landing page)Hans-Ulrich Klein  OK    OK    OK    OK  UNNEEDED, same version is already published
652/2266epigraHMM 1.10.0  (landing page)Pedro Baldoni  OK    OK    WARNINGS    OK  UNNEEDED, same version is already published
653/2266EpiMix 1.4.0  (landing page)Yuanning Zheng  OK    OK    OK    OK  UNNEEDED, same version is already published
654/2266epimutacions 1.6.1  (landing page)Dolors Pelegri-Siso  OK    OK    OK    OK  UNNEEDED, same version is already published
655/2266epiNEM 1.26.0  (landing page)Martin Pirkl  OK    OK    OK    OK  UNNEEDED, same version is already published
656/2266epistack 1.8.0  (landing page)DEVAILLY Guillaume  OK    OK    OK    OK  UNNEEDED, same version is already published
657/2266epistasisGA 1.4.0  (landing page)Michael Nodzenski  OK    OK    WARNINGS    OK  UNNEEDED, same version is already published
658/2266EpiTxDb 1.14.1  (landing page)Felix G.M. Ernst  OK    OK    OK    OK  UNNEEDED, same version is already published
659/2266epivizr 2.32.0  (landing page)Hector Corrada Bravo  OK    OK    OK    OK  UNNEEDED, same version is already published
660/2266epivizrChart 1.24.0  (landing page)Hector Corrada Bravo  OK    OK    OK    OK  UNNEEDED, same version is already published
661/2266epivizrData 1.30.0  (landing page)Hector Corrada Bravo  OK    OK    OK    OK  UNNEEDED, same version is already published
662/2266epivizrServer 1.30.0  (landing page)Hector Corrada Bravo  OK    OK    OK    OK  UNNEEDED, same version is already published
663/2266epivizrStandalone 1.30.0  (landing page)Hector Corrada Bravo  OK    OK    WARNINGS    OK  UNNEEDED, same version is already published
664/2266erccdashboard 1.36.0  (landing page)Sarah Munro  OK    OK    OK    OK  UNNEEDED, same version is already published
665/2266erma 1.18.0  (landing page)VJ Carey  OK    OK    OK    OK  UNNEEDED, same version is already published
666/2266ERSSA 1.20.0  (landing page)Zixuan Shao  OK    OK    OK    OK  UNNEEDED, same version is already published
667/2266esATAC 1.24.0  (landing page)Zheng Wei  OK    OK    OK    OK  NO, package depends on 'TFBSTools' which is only available as a source package that needs compilation
668/2266escape 1.12.0  (landing page)Nick Borcherding  OK    OK    OK    OK  UNNEEDED, same version is already published
669/2266escheR 1.2.0  (landing page)Boyi Guo  OK    OK    OK    OK  UNNEEDED, same version is already published
670/2266esetVis 1.28.2  (landing page)Laure Cougnaud  OK    OK    OK    OK  UNNEEDED, same version is already published
671/2266eudysbiome 1.32.0  (landing page)Xiaoyuan Zhou  OK    OK    OK    OK  UNNEEDED, same version is already published
672/2266evaluomeR 1.18.0  (landing page)José Antonio Bernabé-Díaz  OK    OK    OK    OK  UNNEEDED, same version is already published
673/2266EventPointer 3.10.0  (landing page)Juan A. Ferrer-Bonsoms  OK    OK    OK    OK  UNNEEDED, same version is already published
674/2266EWCE 1.10.2  (landing page)Alan Murphy  OK    OK    OK    OK  UNNEEDED, same version is already published
675/2266ExCluster 1.20.0  (landing page)R. Matthew Tanner  OK    OK    OK    OK  UNNEEDED, same version is already published
676/2266ExiMiR 2.44.0  (landing page)Sylvain Gubian  OK    OK    OK    OK  UNNEEDED, same version is already published
677/2266exomeCopy 1.48.0  (landing page)Michael Love  OK    OK    WARNINGS    OK  UNNEEDED, same version is already published
678/2266exomePeak2 1.14.3  (landing page)Zhen Wei  OK    OK    OK    OK  UNNEEDED, same version is already published
679/2266ExperimentHub 2.10.0  (landing page)Bioconductor Package Maintainer  OK    OK    WARNINGS    OK  UNNEEDED, same version is already published
680/2266ExperimentHubData 1.28.0  (landing page)Bioconductor Package Maintainer  OK    OK    WARNINGS    OK  UNNEEDED, same version is already published
681/2266ExperimentSubset 1.12.0  (landing page)Irzam Sarfraz  OK    OK    ERROR    OK  
682/2266ExploreModelMatrix 1.14.0  (landing page)Charlotte Soneson  OK    OK    OK    OK  UNNEEDED, same version is already published
683/2266ExpressionAtlas 1.30.0  (landing page)Pedro Madrigal  OK    OK    OK    OK  UNNEEDED, same version is already published
684/2266extraChIPs 1.6.1  (landing page)Stephen Pederson  OK    OK    OK    OK  UNNEEDED, same version is already published
F
ABCDEFGHIJKLMNOPQRSTUVWXYZ
PackageMaintainerINSTALLBUILDCHECKBUILD BIN
685/2266fabia 2.48.0  (landing page)Andreas Mitterecker  OK    OK    WARNINGS    OK  UNNEEDED, same version is already published
686/2266factDesign 1.78.0  (landing page)Denise Scholtens  OK    OK    OK    OK  UNNEEDED, same version is already published
687/2266factR 1.4.0  (landing page)Fursham Hamid  OK    OK    OK    OK  UNNEEDED, same version is already published
688/2266FamAgg 1.30.0  (landing page)Johannes Rainer  OK    OK    OK    OK  UNNEEDED, same version is already published
689/2266famat 1.12.0  (landing page)Mathieu Charles  OK    OK    OK    OK  UNNEEDED, same version is already published
690/2266farms 1.54.0  (landing page)Djork-Arne Clevert  OK    OK