Back to Mac ARM64 build report for BioC 3.19
ABCDEFGH[I]JKLMNOPQRSTUVWXYZ

This page was generated on 2024-05-07 11:32:22 -0400 (Tue, 07 May 2024).

HostnameOSArch (*)R versionInstalled pkgs
kjohnson3macOS 13.6.5 Venturaarm644.4.0 (2024-04-24) -- "Puppy Cup" 4461
Click on any hostname to see more info about the system (e.g. compilers)      (*) as reported by 'uname -p', except on Windows and Mac OS X

All results for package INPower


To the developers/maintainers of the INPower package:
- Use the following Renviron settings to reproduce errors and warnings.
- If 'R CMD check' started to fail recently on the Linux builder(s) over a missing dependency, add the missing dependency to 'Suggests:' in your DESCRIPTION file. See Renviron.bioc for more information.

raw results

Package 1039/2300HostnameOS / ArchINSTALLBUILDCHECKBUILD BIN
INPower 1.40.0  (landing page)
Bill Wheeler
Snapshot Date: 2024-05-06 14:00:02 -0400 (Mon, 06 May 2024)
git_url: https://git.bioconductor.org/packages/INPower
git_branch: RELEASE_3_19
git_last_commit: 37879c4
git_last_commit_date: 2024-04-30 10:35:24 -0400 (Tue, 30 Apr 2024)
kjohnson3macOS 13.6.5 Ventura / arm64  OK    OK    OK    OK  UNNEEDED, same version is already published