Back to Mac ARM64 build report for BioC 3.18
AB[C]DEFGHIJKLMNOPQRSTUVWXYZ

This page was generated on 2024-02-19 11:31:54 -0500 (Mon, 19 Feb 2024).

HostnameOSArch (*)R versionInstalled pkgs
kjohnson1macOS 13.6.1 Venturaarm644.3.2 (2023-10-31) -- "Eye Holes" 4299
Click on any hostname to see more info about the system (e.g. compilers)      (*) as reported by 'uname -p', except on Windows and Mac OS X

All results for package chromVAR


To the developers/maintainers of the chromVAR package:
- Use the following Renviron settings to reproduce errors and warnings.
- If 'R CMD check' started to fail recently on the Linux builder(s) over a missing dependency, add the missing dependency to 'Suggests:' in your DESCRIPTION file. See Renviron.bioc for more information.

raw results

Package 346/2266HostnameOS / ArchINSTALLBUILDCHECKBUILD BIN
chromVAR 1.24.0  (landing page)
Alicia Schep
Snapshot Date: 2024-02-17 09:00:03 -0500 (Sat, 17 Feb 2024)
git_url: https://git.bioconductor.org/packages/chromVAR
git_branch: RELEASE_3_18
git_last_commit: e2d61b0
git_last_commit_date: 2023-10-24 11:00:14 -0500 (Tue, 24 Oct 2023)
kjohnson1macOS 13.6.1 Ventura / arm64  OK    OK    OK    OK  NO, package depends on 'TFBSTools' which is only available as a source package that needs compilation

Results for Bioconductor software packages that depend directly on package chromVAR

QUICK STATSOS / ArchINSTALLBUILDCHECKBUILD BIN
kjohnson1macOS 13.6.1 Ventura / arm64
001
001
0001
001
Package 1/1HostnameOS / ArchINSTALLBUILDCHECKBUILD BIN
ATACCoGAPS 1.4.0  (landing page)
Rossin Erbe
git_last_commit: 1e97480
git_last_commit_date: 2023-10-24 11:42:56 -0500
kjohnson1macOS 13.6.1 Ventura / arm64  OK    OK    OK    OK  NO, package depends on 'TFBSTools' which is only available as a source package that needs compilation