Back to Mac ARM64 build report for BioC 3.19
ABCDEFGH[I]JKLMNOPQRSTUVWXYZ

This page was generated on 2024-05-07 11:32:23 -0400 (Tue, 07 May 2024).

HostnameOSArch (*)R versionInstalled pkgs
kjohnson3macOS 13.6.5 Venturaarm644.4.0 (2024-04-24) -- "Puppy Cup" 4461
Click on any hostname to see more info about the system (e.g. compilers)      (*) as reported by 'uname -p', except on Windows and Mac OS X

All results for package InteractionSet


To the developers/maintainers of the InteractionSet package:
- Use the following Renviron settings to reproduce errors and warnings.
- If 'R CMD check' started to fail recently on the Linux builder(s) over a missing dependency, add the missing dependency to 'Suggests:' in your DESCRIPTION file. See Renviron.bioc for more information.

raw results

Package 1045/2300HostnameOS / ArchINSTALLBUILDCHECKBUILD BIN
InteractionSet 1.32.0  (landing page)
Aaron Lun
Snapshot Date: 2024-05-06 14:00:02 -0400 (Mon, 06 May 2024)
git_url: https://git.bioconductor.org/packages/InteractionSet
git_branch: RELEASE_3_19
git_last_commit: e2c2c18
git_last_commit_date: 2024-04-30 10:50:34 -0400 (Tue, 30 Apr 2024)
kjohnson3macOS 13.6.5 Ventura / arm64  OK    OK    OK    OK  UNNEEDED, same version is already published

Results for Bioconductor software packages that depend directly on package InteractionSet

QUICK STATSOS / ArchINSTALLBUILDCHECKBUILD BIN
kjohnson3macOS 13.6.5 Ventura / arm64
0020
0119
00118
0019
Package 1/20HostnameOS / ArchINSTALLBUILDCHECKBUILD BIN
CAGEfightR 1.24.0  (landing page)
Malte Thodberg
git_last_commit: e83345a
git_last_commit_date: 2024-04-30 11:06:32 -0400
kjohnson3macOS 13.6.5 Ventura / arm64  OK    OK    OK    OK  UNNEEDED, same version is already published
Package 2/20HostnameOS / ArchINSTALLBUILDCHECKBUILD BIN
ChIPpeakAnno 3.38.0  (landing page)
Jianhong Ou
git_last_commit: 26e03e3
git_last_commit_date: 2024-04-30 10:20:21 -0400
kjohnson3macOS 13.6.5 Ventura / arm64  OK    OK    OK    OK  UNNEEDED, same version is already published
Package 3/20HostnameOS / ArchINSTALLBUILDCHECKBUILD BIN
DegCre 1.0.0  (landing page)
Brian S. Roberts
git_last_commit: e9e8266
git_last_commit_date: 2024-04-30 11:54:56 -0400
kjohnson3macOS 13.6.5 Ventura / arm64  OK    OK    OK    OK  UNNEEDED, same version is already published
Package 4/20HostnameOS / ArchINSTALLBUILDCHECKBUILD BIN
diffHic 1.36.0  (landing page)
Aaron Lun
git_last_commit: 4910e38
git_last_commit_date: 2024-04-30 10:43:29 -0400
kjohnson3macOS 13.6.5 Ventura / arm64  OK    OK    WARNINGS    OK  UNNEEDED, same version is already published
Package 5/20HostnameOS / ArchINSTALLBUILDCHECKBUILD BIN
EDIRquery 1.4.0  (landing page)
Laura D.T. Vo Ngoc
git_last_commit: 466dc4e
git_last_commit_date: 2024-04-30 11:48:47 -0400
kjohnson3macOS 13.6.5 Ventura / arm64  OK    OK    OK    OK  UNNEEDED, same version is already published
Package 6/20HostnameOS / ArchINSTALLBUILDCHECKBUILD BIN
extraChIPs 1.8.1  (landing page)
Stevie Pederson
git_last_commit: 8147515
git_last_commit_date: 2024-05-04 09:14:23 -0400
kjohnson3macOS 13.6.5 Ventura / arm64  OK    OK    OK    OK  YES
Package 7/20HostnameOS / ArchINSTALLBUILDCHECKBUILD BIN
GenomicInteractions 1.38.0  (landing page)
Liz Ing-Simmons
git_last_commit: 4002e48
git_last_commit_date: 2024-04-30 10:39:03 -0400
kjohnson3macOS 13.6.5 Ventura / arm64  OK    OK    OK    OK  UNNEEDED, same version is already published
Package 8/20HostnameOS / ArchINSTALLBUILDCHECKBUILD BIN
HicAggR 1.0.0  (landing page)
Olivier Cuvier
git_last_commit: 0e748c9
git_last_commit_date: 2024-04-30 11:56:43 -0400
kjohnson3macOS 13.6.5 Ventura / arm64  OK    OK    OK    OK  UNNEEDED, same version is already published
Package 9/20HostnameOS / ArchINSTALLBUILDCHECKBUILD BIN
HiCcompare 1.26.0  (landing page)
Mikhail Dozmorov
git_last_commit: bdcadd4
git_last_commit_date: 2024-04-30 10:59:23 -0400
kjohnson3macOS 13.6.5 Ventura / arm64  OK    OK    OK    OK  UNNEEDED, same version is already published
Package 10/20HostnameOS / ArchINSTALLBUILDCHECKBUILD BIN
HiCDCPlus 1.12.0  (landing page)
Merve Sahin
git_last_commit: 5cb9604
git_last_commit_date: 2024-04-30 11:31:16 -0400
kjohnson3macOS 13.6.5 Ventura / arm64  OK    OK    OK    OK  UNNEEDED, same version is already published
Package 11/20HostnameOS / ArchINSTALLBUILDCHECKBUILD BIN
HiCDOC 1.6.0  (landing page)
Maign√© √Člise
git_last_commit: cb7b0bf
git_last_commit_date: 2024-04-30 11:43:34 -0400
kjohnson3macOS 13.6.5 Ventura / arm64  OK    OK    OK    OK  UNNEEDED, same version is already published
Package 12/20HostnameOS / ArchINSTALLBUILDCHECKBUILD BIN
HiCExperiment 1.4.0  (landing page)
Jacques Serizay
git_last_commit: a9e0dde
git_last_commit_date: 2024-04-30 11:47:11 -0400
kjohnson3macOS 13.6.5 Ventura / arm64  OK    OK    OK    OK  UNNEEDED, same version is already published
Package 13/20HostnameOS / ArchINSTALLBUILDCHECKBUILD BIN
HiContacts 1.6.0  (landing page)
Jacques Serizay
git_last_commit: d0aea7d
git_last_commit_date: 2024-04-30 11:44:50 -0400
kjohnson3macOS 13.6.5 Ventura / arm64  OK    OK    OK    OK  UNNEEDED, same version is already published
Package 14/20HostnameOS / ArchINSTALLBUILDCHECKBUILD BIN
HiCool 1.4.0  (landing page)
Jacques Serizay
git_last_commit: 35c0bdb
git_last_commit_date: 2024-04-30 11:47:49 -0400
kjohnson3macOS 13.6.5 Ventura / arm64  OK    ERROR  skippedskipped
Package 15/20HostnameOS / ArchINSTALLBUILDCHECKBUILD BIN
hicVennDiagram 1.2.0  (landing page)
Jianhong Ou
git_last_commit: cf5f1bc
git_last_commit_date: 2024-04-30 11:50:38 -0400
kjohnson3macOS 13.6.5 Ventura / arm64  OK    OK    OK    OK  UNNEEDED, same version is already published
Package 16/20HostnameOS / ArchINSTALLBUILDCHECKBUILD BIN
mariner 1.4.0  (landing page)
Eric Davis
git_last_commit: 5d8df96
git_last_commit_date: 2024-04-30 11:49:21 -0400
kjohnson3macOS 13.6.5 Ventura / arm64  OK    OK    OK    OK  UNNEEDED, same version is already published
Package 17/20HostnameOS / ArchINSTALLBUILDCHECKBUILD BIN
nullranges 1.10.0  (landing page)
Michael Love
git_last_commit: a4c4b75
git_last_commit_date: 2024-04-30 11:38:00 -0400
kjohnson3macOS 13.6.5 Ventura / arm64  OK    OK    OK    OK  UNNEEDED, same version is already published
Package 18/20HostnameOS / ArchINSTALLBUILDCHECKBUILD BIN
plyinteractions 1.2.0  (landing page)
Jacques Serizay
git_last_commit: f23ac2b
git_last_commit_date: 2024-04-30 11:51:58 -0400
kjohnson3macOS 13.6.5 Ventura / arm64  OK    OK    OK    OK  UNNEEDED, same version is already published
Package 19/20HostnameOS / ArchINSTALLBUILDCHECKBUILD BIN
sevenC 1.24.0  (landing page)
Jonas Ibn-Salem
git_last_commit: 971b6f3
git_last_commit_date: 2024-04-30 11:06:12 -0400
kjohnson3macOS 13.6.5 Ventura / arm64  OK    OK    OK    OK  UNNEEDED, same version is already published
Package 20/20HostnameOS / ArchINSTALLBUILDCHECKBUILD BIN
trackViewer 1.40.0  (landing page)
Jianhong Ou
git_last_commit: 14c514b
git_last_commit_date: 2024-04-30 10:34:52 -0400
kjohnson3macOS 13.6.5 Ventura / arm64  OK    OK    OK    OK  UNNEEDED, same version is already published