Back to Mac ARM64 build report for BioC 3.19 |
|
This page was generated on 2024-05-01 11:32:49 -0400 (Wed, 01 May 2024).
Hostname | OS | Arch (*) | R version | Installed pkgs |
---|---|---|---|---|
kjohnson3 | macOS 13.6.5 Ventura | arm64 | 4.4.0 alpha (2024-03-27 r86216) | 4475 |
Click on any hostname to see more info about the system (e.g. compilers) (*) as reported by 'uname -p', except on Windows and Mac OS X |
To the developers/maintainers of the affxparser package: - Use the following Renviron settings to reproduce errors and warnings. - If 'R CMD check' started to fail recently on the Linux builder(s) over a missing dependency, add the missing dependency to 'Suggests:' in your DESCRIPTION file. See Renviron.bioc for more information. |
Package 22/2300 | Hostname | OS / Arch | INSTALL | BUILD | CHECK | BUILD BIN | ||||||||
affxparser 1.76.0 (landing page) Kasper Daniel Hansen
| kjohnson3 | macOS 13.6.5 Ventura / arm64 | OK | OK | WARNINGS | OK | ||||||||
QUICK STATS | OS / Arch | INSTALL | BUILD | CHECK | BUILD BIN | |||||||||||||||||
kjohnson3 | macOS 13.6.5 Ventura / arm64 |
|
|
|
| |||||||||||||||||
Package 1/8 | Hostname | OS / Arch | INSTALL | BUILD | CHECK | BUILD BIN | ||||||||||||||||
affyILM 1.56.0 (landing page) Myriam Kroll and Fabrice Berger
| kjohnson3 | macOS 13.6.5 Ventura / arm64 | OK | OK | OK | OK | ||||||||||||||||
Package 2/8 | Hostname | OS / Arch | INSTALL | BUILD | CHECK | BUILD BIN | ||||||||||||||||
cn.farms 1.52.0 (landing page) Andreas Mitterecker
| kjohnson3 | macOS 13.6.5 Ventura / arm64 | OK | OK | OK | OK | ||||||||||||||||
Package 3/8 | Hostname | OS / Arch | INSTALL | BUILD | CHECK | BUILD BIN | ||||||||||||||||
crossmeta 1.30.0 (landing page) Alex Pickering
| kjohnson3 | macOS 13.6.5 Ventura / arm64 | OK | OK | OK | OK | ||||||||||||||||
Package 4/8 | Hostname | OS / Arch | INSTALL | BUILD | CHECK | BUILD BIN | ||||||||||||||||
EventPointer 3.12.0 (landing page) Juan A. Ferrer-Bonsoms
| kjohnson3 | macOS 13.6.5 Ventura / arm64 | OK | OK | OK | OK | ||||||||||||||||
Package 5/8 | Hostname | OS / Arch | INSTALL | BUILD | CHECK | BUILD BIN | ||||||||||||||||
GeneRegionScan 1.60.0 (landing page) Lasse Folkersen
| kjohnson3 | macOS 13.6.5 Ventura / arm64 | OK | OK | OK | OK | ||||||||||||||||
Package 6/8 | Hostname | OS / Arch | INSTALL | BUILD | CHECK | BUILD BIN | ||||||||||||||||
ITALICS 2.64.0 (landing page) Guillem Rigaill
| kjohnson3 | macOS 13.6.5 Ventura / arm64 | OK | OK | OK | OK | ||||||||||||||||
Package 7/8 | Hostname | OS / Arch | INSTALL | BUILD | CHECK | BUILD BIN | ||||||||||||||||
oligo 1.68.0 (landing page) Benilton Carvalho
| kjohnson3 | macOS 13.6.5 Ventura / arm64 | OK | OK | WARNINGS | OK | ||||||||||||||||
Package 8/8 | Hostname | OS / Arch | INSTALL | BUILD | CHECK | BUILD BIN | ||||||||||||||||
pdInfoBuilder 1.68.0 (landing page) Benilton Carvalho
| kjohnson3 | macOS 13.6.5 Ventura / arm64 | OK | OK | OK | OK | ||||||||||||||||